BEGIN:VCALENDAR
VERSION:2.0
PRODID:-//Ela Events - ECPv6.9.0//NONSGML v1.0//EN
CALSCALE:GREGORIAN
METHOD:PUBLISH
X-WR-CALNAME:Ela Events
X-ORIGINAL-URL:https://elaevents.com
X-WR-CALDESC:Events for Ela Events
REFRESH-INTERVAL;VALUE=DURATION:PT1H
X-Robots-Tag:noindex
X-PUBLISHED-TTL:PT1H
BEGIN:VTIMEZONE
TZID:UTC
BEGIN:STANDARD
TZOFFSETFROM:+0000
TZOFFSETTO:+0000
TZNAME:UTC
DTSTART:20260101T000000
END:STANDARD
END:VTIMEZONE
BEGIN:VEVENT
DTSTART;TZID=UTC:20260723T190000
DTEND;TZID=UTC:20260723T190000
DTSTAMP:20260420T201313
CREATED:20260228T160317Z
LAST-MODIFIED:20260420T200644Z
UID:10002688-1784833200-1784833200@elaevents.com
SUMMARY:Darius Rucker: Songs Of Summer Tour 2026
DESCRIPTION:
URL:https://elaevents.com/event/darius-rucker-songs-of-summer-tour-2026/
LOCATION:Arizona Financial Theatre\, Phoenix\, az
CATEGORIES:Country
ATTACH;FMTTYPE=image/jpeg:https://elaevents.com/wp-content/uploads/2025/06/darius-rucker-scaled.jpg
END:VEVENT
BEGIN:VEVENT
DTSTART;TZID=UTC:20260724T193000
DTEND;TZID=UTC:20260724T193000
DTSTAMP:20260420T201313
CREATED:20260130T071755Z
LAST-MODIFIED:20260210T113427Z
UID:10002605-1784921400-1784921400@elaevents.com
SUMMARY:Lionel Richie and Earth\, Wind & Fire - Sing a Song All Night Long
DESCRIPTION:
URL:https://elaevents.com/event/lionel-richie-and-earth-wind-fire-sing-a-song-all-night-long/
LOCATION:Hard Rock Live\, Hollywood
CATEGORIES:Pop
ATTACH;FMTTYPE=image/jpeg:https://elaevents.com/wp-content/uploads/2026/01/lionel-richie-and-earth-wind-fire-sing-a-song-all-night-long.jpg
GEO:26.0534476;-80.2138684
END:VEVENT
BEGIN:VEVENT
DTSTART;TZID=UTC:20260724T200000
DTEND;TZID=UTC:20260724T200000
DTSTAMP:20260420T201313
CREATED:20260323T150004Z
LAST-MODIFIED:20260420T200844Z
UID:10002825-1784923200-1784923200@elaevents.com
SUMMARY:Ca7riel & Paco Amoroso: FREE SPIRITS WORLD TOUR
DESCRIPTION:
URL:https://elaevents.com/event/ca7riel-paco-amoroso-free-spirits-world-tour/
LOCATION:Arizona Financial Theatre\, Phoenix\, az
CATEGORIES:Latin
ATTACH;FMTTYPE=image/jpeg:https://elaevents.com/wp-content/uploads/2026/03/ca7riel-paco-amoroso-free-spirits-world-tour.jpg
END:VEVENT
BEGIN:VEVENT
DTSTART;TZID=UTC:20260724T200000
DTEND;TZID=UTC:20260724T200000
DTSTAMP:20260420T201313
CREATED:20260323T224121Z
LAST-MODIFIED:20260323T231613Z
UID:10002826-1784923200-1784923200@elaevents.com
SUMMARY:CA7RIEL & Paco Amoroso
DESCRIPTION:
URL:https://elaevents.com/event/ca7riel-paco-amoroso/
LOCATION:Arizona Financial Theatre\, Phoenix\, az
END:VEVENT
BEGIN:VEVENT
DTSTART;TZID=UTC:20260725T200000
DTEND;TZID=UTC:20260725T200000
DTSTAMP:20260420T201313
CREATED:20260403T225042Z
LAST-MODIFIED:20260420T141950Z
UID:10002865-1785009600-1785009600@elaevents.com
SUMMARY:Disturbed
DESCRIPTION:
URL:https://elaevents.com/event/disturbed/
LOCATION:Hard Rock Live\, Hollywood
CATEGORIES:Metal
ATTACH;FMTTYPE=image/jpeg:https://elaevents.com/wp-content/uploads/2026/04/disturbed.jpg
GEO:26.0534476;-80.2138684
END:VEVENT
END:VCALENDAR