BEGIN:VCALENDAR
VERSION:2.0
PRODID:-//Ela Events - ECPv6.9.0//NONSGML v1.0//EN
CALSCALE:GREGORIAN
METHOD:PUBLISH
X-ORIGINAL-URL:https://elaevents.com
X-WR-CALDESC:Events for Ela Events
REFRESH-INTERVAL;VALUE=DURATION:PT1H
X-Robots-Tag:noindex
X-PUBLISHED-TTL:PT1H
BEGIN:VTIMEZONE
TZID:UTC
BEGIN:STANDARD
TZOFFSETFROM:+0000
TZOFFSETTO:+0000
TZNAME:UTC
DTSTART:20260101T000000
END:STANDARD
END:VTIMEZONE
BEGIN:VEVENT
DTSTART;TZID=UTC:20260623T190000
DTEND;TZID=UTC:20260623T190000
DTSTAMP:20260420T165652
CREATED:20260324T172704Z
LAST-MODIFIED:20260420T165236Z
UID:10002828-1782241200-1782241200@elaevents.com
SUMMARY:Bob Dylan
DESCRIPTION:
URL:https://elaevents.com/event/bob-dylan/
LOCATION:Arizona Financial Theatre\, Phoenix\, az
CATEGORIES:Rock
ATTACH;FMTTYPE=image/jpeg:https://elaevents.com/wp-content/uploads/2026/03/bob-dylan-1.jpg
END:VEVENT
BEGIN:VEVENT
DTSTART;TZID=UTC:20260623T190000
DTEND;TZID=UTC:20260623T190000
DTSTAMP:20260420T165652
CREATED:20260324T204709Z
LAST-MODIFIED:20260325T080314Z
UID:10002829-1782241200-1782241200@elaevents.com
SUMMARY:Bob Dylan Suites
DESCRIPTION:
URL:https://elaevents.com/event/bob-dylan-suites/
LOCATION:Arizona Financial Theatre\, Phoenix\, az
END:VEVENT
BEGIN:VEVENT
DTSTART;TZID=UTC:20260624T190000
DTEND;TZID=UTC:20260624T190000
DTSTAMP:20260420T165652
CREATED:20260228T160613Z
LAST-MODIFIED:20260420T164655Z
UID:10002694-1782327600-1782327600@elaevents.com
SUMMARY:Iration: Where It All Began Tour
DESCRIPTION:
URL:https://elaevents.com/event/iration-where-it-all-began-tour/
LOCATION:Arizona Financial Theatre\, Phoenix\, az
CATEGORIES:Reggae
ATTACH;FMTTYPE=image/jpeg:https://elaevents.com/wp-content/uploads/2026/02/iration-where-it-all-began-tour.jpg
END:VEVENT
BEGIN:VEVENT
DTSTART;TZID=UTC:20260626T193000
DTEND;TZID=UTC:20260626T193000
DTSTAMP:20260420T165652
CREATED:20260401T150348Z
LAST-MODIFIED:20260420T165600Z
UID:10002855-1782502200-1782502200@elaevents.com
SUMMARY:SHAKIRA - LAS MUJERES YA NO LLORAN WORLD TOUR
DESCRIPTION:
URL:https://elaevents.com/event/shakira-las-mujeres-ya-no-lloran-world-tour-2/
LOCATION:State Farm Arena\, Atlanta
CATEGORIES:Pop
ATTACH;FMTTYPE=image/jpeg:https://elaevents.com/wp-content/uploads/2026/04/shakira-las-mujeres-ya-no-lloran-world-tour-2.jpg
END:VEVENT
BEGIN:VEVENT
DTSTART;TZID=UTC:20260626T200000
DTEND;TZID=UTC:20260626T200000
DTSTAMP:20260420T165652
CREATED:20260412T052742Z
LAST-MODIFIED:20260420T163846Z
UID:10002871-1782504000-1782504000@elaevents.com
SUMMARY:Matt Rife: Stay Golden World Tour
DESCRIPTION:
URL:https://elaevents.com/event/matt-rife-stay-golden-world-tour/
LOCATION:Hard Rock Live\, Hollywood
CATEGORIES:Comedy
ATTACH;FMTTYPE=image/jpeg:https://elaevents.com/wp-content/uploads/2026/04/matt-rife-stay-golden-world-tour.jpg
GEO:26.0534476;-80.2138684
END:VEVENT
END:VCALENDAR