BEGIN:VCALENDAR
VERSION:2.0
PRODID:-//Ela Events - ECPv6.9.0//NONSGML v1.0//EN
CALSCALE:GREGORIAN
METHOD:PUBLISH
X-WR-CALNAME:Ela Events
X-ORIGINAL-URL:https://elaevents.com
X-WR-CALDESC:Events for Ela Events
REFRESH-INTERVAL;VALUE=DURATION:PT1H
X-Robots-Tag:noindex
X-PUBLISHED-TTL:PT1H
BEGIN:VTIMEZONE
TZID:UTC
BEGIN:STANDARD
TZOFFSETFROM:+0000
TZOFFSETTO:+0000
TZNAME:UTC
DTSTART:20260101T000000
END:STANDARD
END:VTIMEZONE
BEGIN:VEVENT
DTSTART;TZID=UTC:20260512T190000
DTEND;TZID=UTC:20260512T190000
DTSTAMP:20260420T074225
CREATED:20260114T180824Z
LAST-MODIFIED:20260202T001630Z
UID:10002575-1778612400-1778612400@elaevents.com
SUMMARY:Bush: The Land Of Milk and Honey Tour
DESCRIPTION:
URL:https://elaevents.com/event/bush-the-land-of-milk-and-honey-tour/
LOCATION:Hard Rock Live\, Hollywood
CATEGORIES:Rock
ATTACH;FMTTYPE=image/jpeg:https://elaevents.com/wp-content/uploads/2026/01/bush-the-land-of-milk-and-honey-tour.jpg
GEO:26.0534476;-80.2138684
END:VEVENT
BEGIN:VEVENT
DTSTART;TZID=UTC:20260512T193000
DTEND;TZID=UTC:20260512T193000
DTSTAMP:20260420T074225
CREATED:20260228T160314Z
LAST-MODIFIED:20260420T073440Z
UID:10002711-1778614200-1778614200@elaevents.com
SUMMARY:The Avett Brothers and Mike Patton present AVTT/PTTN
DESCRIPTION:
URL:https://elaevents.com/event/the-avett-brothers-and-mike-patton-present-avtt-pttn/
LOCATION:Arizona Financial Theatre\, Phoenix\, az
CATEGORIES:Folk
ATTACH;FMTTYPE=image/jpeg:https://elaevents.com/wp-content/uploads/2026/02/the-avett-brothers-and-mike-patton-present-avtt-pttn.jpg
END:VEVENT
BEGIN:VEVENT
DTSTART;TZID=UTC:20260513T200000
DTEND;TZID=UTC:20260513T200000
DTSTAMP:20260420T074225
CREATED:20260323T151147Z
LAST-MODIFIED:20260420T073452Z
UID:10002824-1778702400-1778702400@elaevents.com
SUMMARY:Eagles: The Long Goodbye Act III
DESCRIPTION:
URL:https://elaevents.com/event/eagles-the-long-goodbye-act-iii/
LOCATION:Hard Rock Live\, Hollywood
CATEGORIES:Rock
ATTACH;FMTTYPE=image/jpeg:https://elaevents.com/wp-content/uploads/2026/03/eagles-the-long-goodbye-act-iii.jpg
GEO:26.0534476;-80.2138684
END:VEVENT
BEGIN:VEVENT
DTSTART;TZID=UTC:20260515T200000
DTEND;TZID=UTC:20260515T200000
DTSTAMP:20260420T074225
CREATED:20260210T113216Z
LAST-MODIFIED:20260415T185517Z
UID:10002669-1778875200-1778875200@elaevents.com
SUMMARY:Bill Burr Live
DESCRIPTION:
URL:https://elaevents.com/event/bill-burr-live/
LOCATION:Hard Rock Live\, Hollywood
CATEGORIES:Comedy
ATTACH;FMTTYPE=image/jpeg:https://elaevents.com/wp-content/uploads/2026/02/bill-burr-live.jpg
GEO:26.0534476;-80.2138684
END:VEVENT
END:VCALENDAR