BEGIN:VCALENDAR
VERSION:2.0
PRODID:-//Ela Events - ECPv6.9.0//NONSGML v1.0//EN
CALSCALE:GREGORIAN
METHOD:PUBLISH
X-ORIGINAL-URL:https://elaevents.com
X-WR-CALDESC:Events for Ela Events
REFRESH-INTERVAL;VALUE=DURATION:PT1H
X-Robots-Tag:noindex
X-PUBLISHED-TTL:PT1H
BEGIN:VTIMEZONE
TZID:UTC
BEGIN:STANDARD
TZOFFSETFROM:+0000
TZOFFSETTO:+0000
TZNAME:UTC
DTSTART:20260101T000000
END:STANDARD
END:VTIMEZONE
BEGIN:VEVENT
DTSTART;TZID=UTC:20260413T200000
DTEND;TZID=UTC:20260413T200000
DTSTAMP:20260420T043218
CREATED:20260203T185133Z
LAST-MODIFIED:20260323T142403Z
UID:10002615-1776110400-1776110400@elaevents.com
SUMMARY:Triumph: The Rock & Roll Machine Reloaded Tour
DESCRIPTION:
URL:https://elaevents.com/event/triumph-the-rock-roll-machine-reloaded-tour/
LOCATION:Hard Rock Live\, Hollywood
CATEGORIES:Rock
ATTACH;FMTTYPE=image/jpeg:https://elaevents.com/wp-content/uploads/2026/02/triumph-the-rock-roll-machine-reloaded-tour.jpg
GEO:26.0534476;-80.2138684
END:VEVENT
BEGIN:VEVENT
DTSTART;TZID=UTC:20260415T190000
DTEND;TZID=UTC:20260415T190000
DTSTAMP:20260420T043218
CREATED:20251230T140538Z
LAST-MODIFIED:20260416T082634Z
UID:10002555-1776279600-1776279600@elaevents.com
SUMMARY:Dethklok & Amon Amarth: The Amonklok Conquest
DESCRIPTION:
URL:https://elaevents.com/event/dethklok-amon-amarth-the-amonklok-conquest/
LOCATION:Arizona Financial Theatre\, Phoenix\, az
CATEGORIES:Metal
ATTACH;FMTTYPE=image/jpeg:https://elaevents.com/wp-content/uploads/2025/12/dethklok-amon-amarth-the-amonklok-conquest.jpg
END:VEVENT
BEGIN:VEVENT
DTSTART;TZID=UTC:20260415T190000
DTEND;TZID=UTC:20260415T190000
DTSTAMP:20260420T043218
CREATED:20260304T231900Z
LAST-MODIFIED:20260407T065102Z
UID:10002738-1776279600-1776279600@elaevents.com
SUMMARY:Dethklok PSS Parking
DESCRIPTION:
URL:https://elaevents.com/event/dethklok-pss-parking/
LOCATION:Arizona Financial Theatre\, Phoenix\, az
END:VEVENT
BEGIN:VEVENT
DTSTART;TZID=UTC:20260416T183000
DTEND;TZID=UTC:20260416T183000
DTSTAMP:20260420T043218
CREATED:20260228T160309Z
LAST-MODIFIED:20260417T065628Z
UID:10002678-1776364200-1776364200@elaevents.com
SUMMARY:Elmo's Got the Moves
DESCRIPTION:
URL:https://elaevents.com/event/elmos-got-the-moves/
LOCATION:Arizona Financial Theatre\, Phoenix\, az
CATEGORIES:Children's Theatre
ATTACH;FMTTYPE=image/jpeg:https://elaevents.com/wp-content/uploads/2026/02/elmos-got-the-moves.jpg
END:VEVENT
BEGIN:VEVENT
DTSTART;TZID=UTC:20260416T183000
DTEND;TZID=UTC:20260416T183000
DTSTAMP:20260420T043218
CREATED:20260304T232436Z
LAST-MODIFIED:20260408T074948Z
UID:10002742-1776364200-1776364200@elaevents.com
SUMMARY:Elmos Got Moves PSS Parking
DESCRIPTION:
URL:https://elaevents.com/event/elmos-got-moves-pss-parking/
LOCATION:Arizona Financial Theatre\, Phoenix\, az
END:VEVENT
BEGIN:VEVENT
DTSTART;TZID=UTC:20260418T193000
DTEND;TZID=UTC:20260418T193000
DTSTAMP:20260420T043218
CREATED:20251230T140537Z
LAST-MODIFIED:20260419T082615Z
UID:10002554-1776540600-1776540600@elaevents.com
SUMMARY:Warren Zeiders World Tour 2026
DESCRIPTION:
URL:https://elaevents.com/event/warren-zeiders-world-tour-2026/
LOCATION:Arizona Financial Theatre\, Phoenix\, az
CATEGORIES:Country
ATTACH;FMTTYPE=image/jpeg:https://elaevents.com/wp-content/uploads/2025/01/warren-zeiders-the-relapse-tour-1.jpg
END:VEVENT
BEGIN:VEVENT
DTSTART;TZID=UTC:20260418T193000
DTEND;TZID=UTC:20260418T193000
DTSTAMP:20260420T043218
CREATED:20260304T232041Z
LAST-MODIFIED:20260408T054031Z
UID:10002739-1776540600-1776540600@elaevents.com
SUMMARY:Warren Zeiders PSS Parking
DESCRIPTION:
URL:https://elaevents.com/event/warren-zeiders-pss-parking/
LOCATION:Arizona Financial Theatre\, Phoenix\, az
END:VEVENT
BEGIN:VEVENT
DTSTART;TZID=UTC:20260419T190000
DTEND;TZID=UTC:20260419T190000
DTSTAMP:20260420T043218
CREATED:20260228T160611Z
LAST-MODIFIED:20260420T040615Z
UID:10002712-1776625200-1776625200@elaevents.com
SUMMARY:ELECTRIC CALLBOY: TANZNEID WORLD TOUR
DESCRIPTION:
URL:https://elaevents.com/event/electric-callboy-tanzneid-world-tour/
LOCATION:Arizona Financial Theatre\, Phoenix\, az
CATEGORIES:Metal
ATTACH;FMTTYPE=image/jpeg:https://elaevents.com/wp-content/uploads/2026/02/electric-callboy-tanzneid-world-tour.jpg
END:VEVENT
BEGIN:VEVENT
DTSTART;TZID=UTC:20260419T190000
DTEND;TZID=UTC:20260419T190000
DTSTAMP:20260420T043218
CREATED:20260304T232549Z
LAST-MODIFIED:20260407T102643Z
UID:10002740-1776625200-1776625200@elaevents.com
SUMMARY:Electric Callboy PSS Parking
DESCRIPTION:
URL:https://elaevents.com/event/electric-callboy-pss-parking/
LOCATION:Arizona Financial Theatre\, Phoenix\, az
END:VEVENT
END:VCALENDAR