BEGIN:VCALENDAR
VERSION:2.0
PRODID:-//Ela Events - ECPv6.9.0//NONSGML v1.0//EN
CALSCALE:GREGORIAN
METHOD:PUBLISH
X-ORIGINAL-URL:https://elaevents.com
X-WR-CALDESC:Events for Ela Events
REFRESH-INTERVAL;VALUE=DURATION:PT1H
X-Robots-Tag:noindex
X-PUBLISHED-TTL:PT1H
BEGIN:VTIMEZONE
TZID:UTC
BEGIN:STANDARD
TZOFFSETFROM:+0000
TZOFFSETTO:+0000
TZNAME:UTC
DTSTART:20260101T000000
END:STANDARD
END:VTIMEZONE
BEGIN:VEVENT
DTSTART;TZID=UTC:20260406T190000
DTEND;TZID=UTC:20260406T190000
DTSTAMP:20260420T025743
CREATED:20251224T054028Z
LAST-MODIFIED:20260407T035138Z
UID:10002525-1775502000-1775502000@elaevents.com
SUMMARY:Atlanta Hawks v. New York Knicks
DESCRIPTION:
URL:https://elaevents.com/event/atlanta-hawks-v-new-york-knicks-2/
LOCATION:State Farm Arena\, Atlanta
CATEGORIES:Basketball
ATTACH;FMTTYPE=image/jpeg:https://elaevents.com/wp-content/uploads/2024/11/unnamed-file.jpg
END:VEVENT
BEGIN:VEVENT
DTSTART;TZID=UTC:20260409T190000
DTEND;TZID=UTC:20260409T190000
DTSTAMP:20260420T025743
CREATED:20260228T160320Z
LAST-MODIFIED:20260410T075138Z
UID:10002691-1775761200-1775761200@elaevents.com
SUMMARY:Josiah Queen - The Mt. Zion Tour
DESCRIPTION:
URL:https://elaevents.com/event/josiah-queen-the-mt-zion-tour/
LOCATION:Arizona Financial Theatre\, Phoenix\, az
CATEGORIES:Religious
ATTACH;FMTTYPE=image/jpeg:https://elaevents.com/wp-content/uploads/2026/02/josiah-queen-the-mt-zion-tour.jpg
END:VEVENT
BEGIN:VEVENT
DTSTART;TZID=UTC:20260409T190000
DTEND;TZID=UTC:20260409T190000
DTSTAMP:20260420T025743
CREATED:20260304T231123Z
LAST-MODIFIED:20260407T032100Z
UID:10002735-1775761200-1775761200@elaevents.com
SUMMARY:Josiah Queen PSS Parking
DESCRIPTION:
URL:https://elaevents.com/event/josiah-queen-pss-parking/
LOCATION:Arizona Financial Theatre\, Phoenix\, az
END:VEVENT
BEGIN:VEVENT
DTSTART;TZID=UTC:20260409T200000
DTEND;TZID=UTC:20260409T200000
DTSTAMP:20260420T025743
CREATED:20260320T051538Z
LAST-MODIFIED:20260326T182816Z
UID:10002811-1775764800-1775764800@elaevents.com
SUMMARY:Mt. Joy: Hope We Have Fun Part II
DESCRIPTION:
URL:https://elaevents.com/event/mt-joy-hope-we-have-fun-part-ii/
LOCATION:Hard Rock Live\, Hollywood
CATEGORIES:Folk
ATTACH;FMTTYPE=image/jpeg:https://elaevents.com/wp-content/uploads/2026/02/mt-joy-2026-celebrating-10-years-of-mt-joy.jpg
GEO:26.0534476;-80.2138684
END:VEVENT
BEGIN:VEVENT
DTSTART;TZID=UTC:20260410T190000
DTEND;TZID=UTC:20260410T190000
DTSTAMP:20260420T025743
CREATED:20260228T160321Z
LAST-MODIFIED:20260411T080105Z
UID:10002718-1775847600-1775847600@elaevents.com
SUMMARY:Josiah Queen - The Mt. Zion Tour
DESCRIPTION:
URL:https://elaevents.com/event/josiah-queen-the-mt-zion-tour-2/
LOCATION:Arizona Financial Theatre\, Phoenix\, az
CATEGORIES:Religious
ATTACH;FMTTYPE=image/jpeg:https://elaevents.com/wp-content/uploads/2026/02/josiah-queen-the-mt-zion-tour.jpg
END:VEVENT
BEGIN:VEVENT
DTSTART;TZID=UTC:20260410T190000
DTEND;TZID=UTC:20260410T190000
DTSTAMP:20260420T025743
CREATED:20260304T231242Z
LAST-MODIFIED:20260407T103111Z
UID:10002736-1775847600-1775847600@elaevents.com
SUMMARY:Josiah Queen PSS Parking
DESCRIPTION:
URL:https://elaevents.com/event/josiah-queen-pss-parking-2/
LOCATION:Arizona Financial Theatre\, Phoenix\, az
END:VEVENT
BEGIN:VEVENT
DTSTART;TZID=UTC:20260410T190000
DTEND;TZID=UTC:20260410T193000
DTSTAMP:20260420T025743
CREATED:20251228T060252Z
LAST-MODIFIED:20260411T035747Z
UID:10002538-1775847600-1775849400@elaevents.com
SUMMARY:Atlanta Hawks v. Cleveland Cavaliers
DESCRIPTION:
URL:https://elaevents.com/event/atlanta-hawks-v-cleveland-cavaliers-2/
LOCATION:State Farm Arena\, Atlanta
CATEGORIES:Basketball
ATTACH;FMTTYPE=image/jpeg:https://elaevents.com/wp-content/uploads/2024/11/unnamed-file.jpg
END:VEVENT
BEGIN:VEVENT
DTSTART;TZID=UTC:20260411T200000
DTEND;TZID=UTC:20260411T200000
DTSTAMP:20260420T025743
CREATED:20260321T050339Z
LAST-MODIFIED:20260412T050732Z
UID:10002812-1775937600-1775937600@elaevents.com
SUMMARY:Santana: Oneness Tour 2026
DESCRIPTION:
URL:https://elaevents.com/event/santana-oneness-tour-2026/
LOCATION:Hard Rock Live\, Hollywood
CATEGORIES:Rock
ATTACH;FMTTYPE=image/jpeg:https://elaevents.com/wp-content/uploads/2026/03/santana-oneness-tour-2026-scaled.jpg
GEO:26.0534476;-80.2138684
END:VEVENT
BEGIN:VEVENT
DTSTART;TZID=UTC:20260412T160000
DTEND;TZID=UTC:20260412T160000
DTSTAMP:20260420T025743
CREATED:20260225T132238Z
LAST-MODIFIED:20260326T183045Z
UID:10002676-1776009600-1776009600@elaevents.com
SUMMARY:Fists of Fury Series
DESCRIPTION:
URL:https://elaevents.com/event/fists-of-fury-series-5/
LOCATION:Hard Rock Live\, Hollywood
CATEGORIES:Boxing
ATTACH;FMTTYPE=image/jpeg:https://elaevents.com/wp-content/uploads/2025/12/fists-of-fury-series-4.jpg
GEO:26.0534476;-80.2138684
END:VEVENT
BEGIN:VEVENT
DTSTART;TZID=UTC:20260412T190000
DTEND;TZID=UTC:20260412T190000
DTSTAMP:20260420T025743
CREATED:20260304T231458Z
LAST-MODIFIED:20260408T054608Z
UID:10002734-1776020400-1776020400@elaevents.com
SUMMARY:DEVO PSS Parking
DESCRIPTION:
URL:https://elaevents.com/event/devo-pss-parking/
LOCATION:Arizona Financial Theatre\, Phoenix\, az
END:VEVENT
BEGIN:VEVENT
DTSTART;TZID=UTC:20260412T200000
DTEND;TZID=UTC:20260412T200000
DTSTAMP:20260420T025743
CREATED:20260228T160312Z
LAST-MODIFIED:20260413T091032Z
UID:10002713-1776024000-1776024000@elaevents.com
SUMMARY:DEVO: Mutate Don't Stagnate
DESCRIPTION:
URL:https://elaevents.com/event/devo-mutate-dont-stagnate/
LOCATION:Arizona Financial Theatre\, Phoenix\, az
CATEGORIES:Rock
ATTACH;FMTTYPE=image/jpeg:https://elaevents.com/wp-content/uploads/2026/02/devo-mutate-dont-stagnate.jpg
END:VEVENT
END:VCALENDAR