BEGIN:VCALENDAR
VERSION:2.0
PRODID:-//Ela Events - ECPv6.9.0//NONSGML v1.0//EN
CALSCALE:GREGORIAN
METHOD:PUBLISH
X-WR-CALNAME:Ela Events
X-ORIGINAL-URL:https://elaevents.com
X-WR-CALDESC:Events for Ela Events
REFRESH-INTERVAL;VALUE=DURATION:PT1H
X-Robots-Tag:noindex
X-PUBLISHED-TTL:PT1H
BEGIN:VTIMEZONE
TZID:UTC
BEGIN:STANDARD
TZOFFSETFROM:+0000
TZOFFSETTO:+0000
TZNAME:UTC
DTSTART:20260101T000000
END:STANDARD
END:VTIMEZONE
BEGIN:VEVENT
DTSTART;TZID=UTC:20260224T190000
DTEND;TZID=UTC:20260224T201500
DTSTAMP:20260420T035253
CREATED:20260224T161507Z
LAST-MODIFIED:20260225T075925Z
UID:10002649-1771959600-1771964100@elaevents.com
SUMMARY:Hello Kitty Item Voucher
DESCRIPTION:
URL:https://elaevents.com/event/hello-kitty-item-voucher/
LOCATION:State Farm Arena\, Atlanta
END:VEVENT
BEGIN:VEVENT
DTSTART;TZID=UTC:20260224T193000
DTEND;TZID=UTC:20260224T193000
DTSTAMP:20260420T035253
CREATED:20250814T191901Z
LAST-MODIFIED:20260225T053204Z
UID:10002297-1771961400-1771961400@elaevents.com
SUMMARY:Atlanta Hawks v. Washington Wizards
DESCRIPTION:
URL:https://elaevents.com/event/atlanta-hawks-v-washington-wizards-2/
LOCATION:State Farm Arena\, Atlanta
CATEGORIES:Basketball
ATTACH;FMTTYPE=image/jpeg:https://elaevents.com/wp-content/uploads/2024/11/unnamed-file.jpg
END:VEVENT
BEGIN:VEVENT
DTSTART;TZID=UTC:20260224T193000
DTEND;TZID=UTC:20260224T193000
DTSTAMP:20260420T035253
CREATED:20250814T201733Z
LAST-MODIFIED:20250819T212004Z
UID:10002306-1771961400-1771961400@elaevents.com
SUMMARY:Atlanta Hawks vs. Washington Wizards
DESCRIPTION:
URL:https://elaevents.com/event/atlanta-hawks-vs-washington-wizards-2/
LOCATION:State Farm Arena – GA\, Atlanta
CATEGORIES:Basketball
ATTACH;FMTTYPE=image/jpeg:https://elaevents.com/wp-content/uploads/2024/11/unnamed-file.jpg
GEO:33.7501275;-84.3885209
END:VEVENT
BEGIN:VEVENT
DTSTART;TZID=UTC:20260224T193000
DTEND;TZID=UTC:20260224T201500
DTSTAMP:20260420T035253
CREATED:20260224T161135Z
LAST-MODIFIED:20260225T083421Z
UID:10002646-1771961400-1771964100@elaevents.com
SUMMARY:HAWKS SUITE PASS: Washington Wizards
DESCRIPTION:
URL:https://elaevents.com/event/hawks-suite-pass-washington-wizards/
LOCATION:State Farm Arena\, Atlanta
END:VEVENT
BEGIN:VEVENT
DTSTART;TZID=UTC:20260224T193000
DTEND;TZID=UTC:20260225T201500
DTSTAMP:20260420T035253
CREATED:20260225T080621Z
LAST-MODIFIED:20260225T083302Z
UID:10002665-1771961400-1772050500@elaevents.com
SUMMARY:Hawks vs Wizards
DESCRIPTION:
URL:https://elaevents.com/event/hawks-vs-wizards-2/
LOCATION:State Farm Arena\, Atlanta
END:VEVENT
BEGIN:VEVENT
DTSTART;TZID=UTC:20260224T193000
DTEND;TZID=UTC:20260225T201500
DTSTAMP:20260420T035253
CREATED:20260225T080621Z
LAST-MODIFIED:20260225T082937Z
UID:10002666-1771961400-1772050500@elaevents.com
SUMMARY:Hawks vs Wizards
DESCRIPTION:
URL:https://elaevents.com/event/hawks-vs-wizards-3/
LOCATION:State Farm Arena\, Atlanta
END:VEVENT
BEGIN:VEVENT
DTSTART;TZID=UTC:20260225T173000
DTEND;TZID=UTC:20260225T173000
DTSTAMP:20260420T035253
CREATED:20260224T161134Z
LAST-MODIFIED:20260226T063015Z
UID:10002653-1772040600-1772040600@elaevents.com
SUMMARY:Insider Series
DESCRIPTION:
URL:https://elaevents.com/event/insider-series/
LOCATION:State Farm Arena\, Atlanta
END:VEVENT
BEGIN:VEVENT
DTSTART;TZID=UTC:20260226T171500
DTEND;TZID=UTC:20260226T171500
DTSTAMP:20260420T035253
CREATED:20260225T084200Z
LAST-MODIFIED:20260226T000401Z
UID:10002668-1772126100-1772126100@elaevents.com
SUMMARY:Member Happy Hour
DESCRIPTION:
URL:https://elaevents.com/event/member-happy-hour/
LOCATION:State Farm Arena\, Atlanta
END:VEVENT
BEGIN:VEVENT
DTSTART;TZID=UTC:20260226T193000
DTEND;TZID=UTC:20260226T193000
DTSTAMP:20260420T035253
CREATED:20250814T191901Z
LAST-MODIFIED:20260227T052950Z
UID:10002299-1772134200-1772134200@elaevents.com
SUMMARY:Atlanta Hawks v. Washington Wizards
DESCRIPTION:
URL:https://elaevents.com/event/atlanta-hawks-v-washington-wizards/
LOCATION:State Farm Arena\, Atlanta
CATEGORIES:Basketball
ATTACH;FMTTYPE=image/jpeg:https://elaevents.com/wp-content/uploads/2024/11/unnamed-file.jpg
END:VEVENT
BEGIN:VEVENT
DTSTART;TZID=UTC:20260226T193000
DTEND;TZID=UTC:20260226T193000
DTSTAMP:20260420T035253
CREATED:20260225T000500Z
LAST-MODIFIED:20260227T083030Z
UID:10002659-1772134200-1772134200@elaevents.com
SUMMARY:Hawks vs Wizards
DESCRIPTION:
URL:https://elaevents.com/event/hawks-vs-wizards/
LOCATION:State Farm Arena\, Atlanta
END:VEVENT
BEGIN:VEVENT
DTSTART;TZID=UTC:20260226T193000
DTEND;TZID=UTC:20260226T193000
DTSTAMP:20260420T035253
CREATED:20260225T083944Z
LAST-MODIFIED:20260226T000401Z
UID:10002667-1772134200-1772134200@elaevents.com
SUMMARY:HAWKS SUITE PASS: Washington Wizards
DESCRIPTION:
URL:https://elaevents.com/event/hawks-suite-pass-washington-wizards-2/
LOCATION:State Farm Arena\, Atlanta
END:VEVENT
BEGIN:VEVENT
DTSTART;TZID=UTC:20260227T200000
DTEND;TZID=UTC:20260227T200000
DTSTAMP:20260420T035253
CREATED:20260131T060942Z
LAST-MODIFIED:20260228T052848Z
UID:10002607-1772222400-1772222400@elaevents.com
SUMMARY:Rod Stewart
DESCRIPTION:
URL:https://elaevents.com/event/rod-stewart-2/
LOCATION:Hard Rock Live\, Hollywood
CATEGORIES:Rock
ATTACH;FMTTYPE=image/jpeg:https://elaevents.com/wp-content/uploads/2026/01/rod-stewart-2-scaled.jpg
GEO:26.0534476;-80.2138684
END:VEVENT
BEGIN:VEVENT
DTSTART;TZID=UTC:20260228T200000
DTEND;TZID=UTC:20260228T200000
DTSTAMP:20260420T035253
CREATED:20260206T060850Z
LAST-MODIFIED:20260301T053144Z
UID:10002613-1772308800-1772308800@elaevents.com
SUMMARY:Rod Stewart
DESCRIPTION:
URL:https://elaevents.com/event/rod-stewart-3/
LOCATION:Hard Rock Live\, Hollywood
CATEGORIES:Rock
ATTACH;FMTTYPE=image/jpeg:https://elaevents.com/wp-content/uploads/2026/01/rod-stewart-2-scaled.jpg
GEO:26.0534476;-80.2138684
END:VEVENT
BEGIN:VEVENT
DTSTART;TZID=UTC:20260301T180000
DTEND;TZID=UTC:20260301T180000
DTSTAMP:20260420T035253
CREATED:20260228T200254Z
LAST-MODIFIED:20260302T070229Z
UID:10002723-1772388000-1772388000@elaevents.com
SUMMARY:HAWKS SUITE PASS: Portland Trail Blazers
DESCRIPTION:
URL:https://elaevents.com/event/hawks-suite-pass-portland-trail-blazers/
LOCATION:State Farm Arena\, Atlanta
END:VEVENT
BEGIN:VEVENT
DTSTART;TZID=UTC:20260301T180000
DTEND;TZID=UTC:20260301T180000
DTSTAMP:20260420T035253
CREATED:20260228T200534Z
LAST-MODIFIED:20260302T070229Z
UID:10002724-1772388000-1772388000@elaevents.com
SUMMARY:Hawks vs Trail Blazers
DESCRIPTION:
URL:https://elaevents.com/event/hawks-vs-trail-blazers/
LOCATION:State Farm Arena\, Atlanta
END:VEVENT
BEGIN:VEVENT
DTSTART;TZID=UTC:20260301T190000
DTEND;TZID=UTC:20260301T190000
DTSTAMP:20260420T035253
CREATED:20260114T180717Z
LAST-MODIFIED:20260302T050101Z
UID:10002572-1772391600-1772391600@elaevents.com
SUMMARY:The Guess Who: Takin' It Back
DESCRIPTION:
URL:https://elaevents.com/event/the-guess-who-takin-it-back/
LOCATION:Hard Rock Live\, Hollywood
CATEGORIES:Rock
ATTACH;FMTTYPE=image/jpeg:https://elaevents.com/wp-content/uploads/2026/01/the-guess-who-takin-it-back.jpg
GEO:26.0534476;-80.2138684
END:VEVENT
BEGIN:VEVENT
DTSTART;TZID=UTC:20260301T193000
DTEND;TZID=UTC:20260301T193000
DTSTAMP:20260420T035253
CREATED:20251230T142252Z
LAST-MODIFIED:20260302T083122Z
UID:10002556-1772393400-1772393400@elaevents.com
SUMMARY:Michelle Buteau: The Surviving And Thriving Tour
DESCRIPTION:
URL:https://elaevents.com/event/michelle-buteau-the-surviving-and-thriving-tour/
LOCATION:Arizona Financial Theatre\, Phoenix\, az
CATEGORIES:Comedy
ATTACH;FMTTYPE=image/jpeg:https://elaevents.com/wp-content/uploads/2025/12/michelle-buteau-the-surviving-and-thriving-tour.jpg
END:VEVENT
BEGIN:VEVENT
DTSTART;TZID=UTC:20260301T193000
DTEND;TZID=UTC:20260301T193000
DTSTAMP:20260420T035253
CREATED:20260225T010303Z
LAST-MODIFIED:20260302T103446Z
UID:10002661-1772393400-1772393400@elaevents.com
SUMMARY:Michelle Buteau PSS Parking
DESCRIPTION:
URL:https://elaevents.com/event/michelle-buteau-pss-parking/
LOCATION:Arizona Financial Theatre\, Phoenix\, az
END:VEVENT
BEGIN:VEVENT
DTSTART;TZID=UTC:20260301T193000
DTEND;TZID=UTC:20260301T193000
DTSTAMP:20260420T035253
CREATED:20260228T200253Z
LAST-MODIFIED:20260302T082900Z
UID:10002722-1772393400-1772393400@elaevents.com
SUMMARY:Healtchcare Heroes Item Voucher
DESCRIPTION:
URL:https://elaevents.com/event/healtchcare-heroes-item-voucher/
LOCATION:State Farm Arena\, Atlanta
END:VEVENT
END:VCALENDAR