BEGIN:VCALENDAR
VERSION:2.0
PRODID:-//Ela Events - ECPv6.9.0//NONSGML v1.0//EN
CALSCALE:GREGORIAN
METHOD:PUBLISH
X-ORIGINAL-URL:https://elaevents.com
X-WR-CALDESC:Events for Ela Events
REFRESH-INTERVAL;VALUE=DURATION:PT1H
X-Robots-Tag:noindex
X-PUBLISHED-TTL:PT1H
BEGIN:VTIMEZONE
TZID:UTC
BEGIN:STANDARD
TZOFFSETFROM:+0000
TZOFFSETTO:+0000
TZNAME:UTC
DTSTART:20260101T000000
END:STANDARD
END:VTIMEZONE
BEGIN:VEVENT
DTSTART;TZID=UTC:20260217T173000
DTEND;TZID=UTC:20260217T173000
DTSTAMP:20260420T043229
CREATED:20260216T080840Z
LAST-MODIFIED:20260218T063153Z
UID:10002626-1771349400-1771349400@elaevents.com
SUMMARY:Hawks Elite
DESCRIPTION:
URL:https://elaevents.com/event/hawks-elite/
LOCATION:State Farm Arena\, Atlanta
END:VEVENT
BEGIN:VEVENT
DTSTART;TZID=UTC:20260219T200000
DTEND;TZID=UTC:20260219T200000
DTSTAMP:20260420T043229
CREATED:20260123T230217Z
LAST-MODIFIED:20260220T052917Z
UID:10002585-1771531200-1771531200@elaevents.com
SUMMARY:Boy George & Culture Club
DESCRIPTION:
URL:https://elaevents.com/event/boy-george-culture-club/
LOCATION:Hard Rock Live\, Hollywood
CATEGORIES:Rock
ATTACH;FMTTYPE=image/jpeg:https://elaevents.com/wp-content/uploads/2026/01/boy-george-culture-club.jpg
GEO:26.0534476;-80.2138684
END:VEVENT
BEGIN:VEVENT
DTSTART;TZID=UTC:20260220T173000
DTEND;TZID=UTC:20260220T173000
DTSTAMP:20260420T043229
CREATED:20260219T101714Z
LAST-MODIFIED:20260220T000249Z
UID:10002629-1771608600-1771608600@elaevents.com
SUMMARY:Chalk Talk : Seperate Game Ticket Required
DESCRIPTION:
URL:https://elaevents.com/event/chalk-talk-seperate-game-ticket-required/
LOCATION:State Farm Arena\, Atlanta
END:VEVENT
BEGIN:VEVENT
DTSTART;TZID=UTC:20260220T193000
DTEND;TZID=UTC:20260220T193000
DTSTAMP:20260420T043229
CREATED:20260216T081239Z
LAST-MODIFIED:20260221T083133Z
UID:10002627-1771615800-1771615800@elaevents.com
SUMMARY:POST GAME ACCESS ONLY vs Heat
DESCRIPTION:
URL:https://elaevents.com/event/post-game-access-only-vs-heat/
LOCATION:State Farm Arena\, Atlanta
END:VEVENT
BEGIN:VEVENT
DTSTART;TZID=UTC:20260220T193000
DTEND;TZID=UTC:20260220T193000
DTSTAMP:20260420T043229
CREATED:20260218T063822Z
LAST-MODIFIED:20260221T000020Z
UID:10002628-1771615800-1771615800@elaevents.com
SUMMARY:Hawks vs Heat
DESCRIPTION:
URL:https://elaevents.com/event/hawks-vs-heat/
LOCATION:State Farm Arena\, Atlanta
END:VEVENT
BEGIN:VEVENT
DTSTART;TZID=UTC:20260220T200000
DTEND;TZID=UTC:20260220T200000
DTSTAMP:20260420T043229
CREATED:20260124T053841Z
LAST-MODIFIED:20260221T053820Z
UID:10002588-1771617600-1771617600@elaevents.com
SUMMARY:Los Angeles Azules: Cumbia Sin Fronteras US Tour
DESCRIPTION:
URL:https://elaevents.com/event/los-angeles-azules-cumbia-sin-fronteras-us-tour/
LOCATION:Hard Rock Live\, Hollywood
CATEGORIES:Latin
ATTACH;FMTTYPE=image/jpeg:https://elaevents.com/wp-content/uploads/2026/01/los-angeles-azules-cumbia-sin-fronteras-us-tour.jpg
GEO:26.0534476;-80.2138684
END:VEVENT
BEGIN:VEVENT
DTSTART;TZID=UTC:20260221T200000
DTEND;TZID=UTC:20260221T200000
DTSTAMP:20260420T043229
CREATED:20260115T083840Z
LAST-MODIFIED:20260222T085958Z
UID:10002563-1771704000-1771704000@elaevents.com
SUMMARY:bbno$ - The Internet Explorer Tour
DESCRIPTION:
URL:https://elaevents.com/event/bbno-the-internet-explorer-tour/
LOCATION:Arizona Financial Theatre\, Phoenix\, az
CATEGORIES:Hip-Hop/Rap
ATTACH;FMTTYPE=image/jpeg:https://elaevents.com/wp-content/uploads/2026/01/bbno-the-internet-explorer-tour.jpg
END:VEVENT
BEGIN:VEVENT
DTSTART;TZID=UTC:20260222T200000
DTEND;TZID=UTC:20260222T200000
DTSTAMP:20260420T043229
CREATED:20260125T053938Z
LAST-MODIFIED:20260223T053155Z
UID:10002592-1771790400-1771790400@elaevents.com
SUMMARY:Tucker Wetmore: The Brunette World Tour
DESCRIPTION:
URL:https://elaevents.com/event/tucker-wetmore-the-brunette-world-tour/
LOCATION:Hard Rock Live\, Hollywood
CATEGORIES:Country
ATTACH;FMTTYPE=image/jpeg:https://elaevents.com/wp-content/uploads/2026/01/tucker-wetmore-the-brunette-world-tour.jpg
GEO:26.0534476;-80.2138684
END:VEVENT
END:VCALENDAR