BEGIN:VCALENDAR
VERSION:2.0
PRODID:-//Ela Events - ECPv6.9.0//NONSGML v1.0//EN
CALSCALE:GREGORIAN
METHOD:PUBLISH
X-WR-CALNAME:Ela Events
X-ORIGINAL-URL:https://elaevents.com
X-WR-CALDESC:Events for Ela Events
REFRESH-INTERVAL;VALUE=DURATION:PT1H
X-Robots-Tag:noindex
X-PUBLISHED-TTL:PT1H
BEGIN:VTIMEZONE
TZID:UTC
BEGIN:STANDARD
TZOFFSETFROM:+0000
TZOFFSETTO:+0000
TZNAME:UTC
DTSTART:20260101T000000
END:STANDARD
END:VTIMEZONE
BEGIN:VEVENT
DTSTART;TZID=UTC:20260205T200000
DTEND;TZID=UTC:20260205T200000
DTSTAMP:20260420T061215
CREATED:20260111T050600Z
LAST-MODIFIED:20260206T054134Z
UID:10002560-1770321600-1770321600@elaevents.com
SUMMARY:Rels B - A New Star World Tour 2026
DESCRIPTION:
URL:https://elaevents.com/event/rels-b-a-new-star-world-tour-2026/
LOCATION:Hard Rock Live\, Hollywood
CATEGORIES:Hip-Hop/Rap
ATTACH;FMTTYPE=image/jpeg:https://elaevents.com/wp-content/uploads/2026/01/rels-b-a-new-star-world-tour-2026.jpg
GEO:26.0534476;-80.2138684
END:VEVENT
BEGIN:VEVENT
DTSTART;TZID=UTC:20260206T200000
DTEND;TZID=UTC:20260206T200000
DTSTAMP:20260420T061215
CREATED:20260112T050846Z
LAST-MODIFIED:20260207T052705Z
UID:10002561-1770408000-1770408000@elaevents.com
SUMMARY:NEEDTOBREATHE: The Barely Elegant Acoustic Tour
DESCRIPTION:
URL:https://elaevents.com/event/needtobreathe-the-barely-elegant-acoustic-tour/
LOCATION:Hard Rock Live\, Hollywood
CATEGORIES:Rock
ATTACH;FMTTYPE=image/jpeg:https://elaevents.com/wp-content/uploads/2026/01/needtobreathe-the-barely-elegant-acoustic-tour.jpg
GEO:26.0534476;-80.2138684
END:VEVENT
BEGIN:VEVENT
DTSTART;TZID=UTC:20260207T100000
DTEND;TZID=UTC:20260207T100000
DTSTAMP:20260420T061215
CREATED:20251228T103431Z
LAST-MODIFIED:20260208T070135Z
UID:10002544-1770458400-1770458400@elaevents.com
SUMMARY:PAW Patrol Live! "A Mighty Adventure"
DESCRIPTION:
URL:https://elaevents.com/event/paw-patrol-live-a-mighty-adventure-2/
LOCATION:Arizona Financial Theatre\, Phoenix\, az
CATEGORIES:Children's Theatre
ATTACH;FMTTYPE=image/jpeg:https://elaevents.com/wp-content/uploads/2025/12/paw-patrol-live-a-mighty-adventure.jpg
END:VEVENT
BEGIN:VEVENT
DTSTART;TZID=UTC:20260207T140000
DTEND;TZID=UTC:20260207T140000
DTSTAMP:20260420T061215
CREATED:20251228T083804Z
LAST-MODIFIED:20260208T070135Z
UID:10002543-1770472800-1770472800@elaevents.com
SUMMARY:PAW Patrol Live! "A Mighty Adventure"
DESCRIPTION:
URL:https://elaevents.com/event/paw-patrol-live-a-mighty-adventure/
LOCATION:Arizona Financial Theatre\, Phoenix\, az
CATEGORIES:Children's Theatre
ATTACH;FMTTYPE=image/jpeg:https://elaevents.com/wp-content/uploads/2025/12/paw-patrol-live-a-mighty-adventure.jpg
END:VEVENT
BEGIN:VEVENT
DTSTART;TZID=UTC:20260207T193000
DTEND;TZID=UTC:20260207T193000
DTSTAMP:20260420T061215
CREATED:20260206T000224Z
LAST-MODIFIED:20260208T083249Z
UID:10002612-1770492600-1770492600@elaevents.com
SUMMARY:Hawks vs Hornets
DESCRIPTION:
URL:https://elaevents.com/event/hawks-vs-hornets/
LOCATION:State Farm Arena\, Atlanta
END:VEVENT
BEGIN:VEVENT
DTSTART;TZID=UTC:20260207T200000
DTEND;TZID=UTC:20260207T200000
DTSTAMP:20260420T061215
CREATED:20260117T053601Z
LAST-MODIFIED:20260208T052835Z
UID:10002564-1770494400-1770494400@elaevents.com
SUMMARY:Gilberto Santa Rosa
DESCRIPTION:
URL:https://elaevents.com/event/gilberto-santa-rosa/
LOCATION:Hard Rock Live\, Hollywood
CATEGORIES:Latin
ATTACH;FMTTYPE=image/jpeg:https://elaevents.com/wp-content/uploads/2026/01/gilberto-santa-rosa.jpg
GEO:26.0534476;-80.2138684
END:VEVENT
BEGIN:VEVENT
DTSTART;TZID=UTC:20260207T220000
DTEND;TZID=UTC:20260207T220000
DTSTAMP:20260420T061215
CREATED:20260109T220330Z
LAST-MODIFIED:20260109T221138Z
UID:10002558-1770501600-1770501600@elaevents.com
SUMMARY:Paw Patrol 10am Suites
DESCRIPTION:
URL:https://elaevents.com/event/paw-patrol-10am-suites/
LOCATION:Arizona Financial Theatre\, Phoenix\, az
END:VEVENT
BEGIN:VEVENT
DTSTART;TZID=UTC:20260208T100000
DTEND;TZID=UTC:20260208T100000
DTSTAMP:20260420T061215
CREATED:20251229T071139Z
LAST-MODIFIED:20260209T065749Z
UID:10002545-1770544800-1770544800@elaevents.com
SUMMARY:PAW Patrol Live! "A Mighty Adventure"
DESCRIPTION:
URL:https://elaevents.com/event/paw-patrol-live-a-mighty-adventure-3/
LOCATION:Arizona Financial Theatre\, Phoenix\, az
CATEGORIES:Children's Theatre
ATTACH;FMTTYPE=image/jpeg:https://elaevents.com/wp-content/uploads/2025/12/paw-patrol-live-a-mighty-adventure.jpg
END:VEVENT
BEGIN:VEVENT
DTSTART;TZID=UTC:20260208T100000
DTEND;TZID=UTC:20260208T100000
DTSTAMP:20260420T061215
CREATED:20260109T221848Z
LAST-MODIFIED:20260110T082549Z
UID:10002559-1770544800-1770544800@elaevents.com
SUMMARY:Paw Patrol 10am Suites
DESCRIPTION:
URL:https://elaevents.com/event/paw-patrol-10am-suites-2/
LOCATION:Arizona Financial Theatre\, Phoenix\, az
END:VEVENT
END:VCALENDAR