BEGIN:VCALENDAR
VERSION:2.0
PRODID:-//Ela Events - ECPv6.9.0//NONSGML v1.0//EN
CALSCALE:GREGORIAN
METHOD:PUBLISH
X-WR-CALNAME:Ela Events
X-ORIGINAL-URL:https://elaevents.com
X-WR-CALDESC:Events for Ela Events
REFRESH-INTERVAL;VALUE=DURATION:PT1H
X-Robots-Tag:noindex
X-PUBLISHED-TTL:PT1H
BEGIN:VTIMEZONE
TZID:UTC
BEGIN:STANDARD
TZOFFSETFROM:+0000
TZOFFSETTO:+0000
TZNAME:UTC
DTSTART:20260101T000000
END:STANDARD
END:VTIMEZONE
BEGIN:VEVENT
DTSTART;TZID=UTC:20260126T133000
DTEND;TZID=UTC:20260126T193000
DTSTAMP:20260420T061149
CREATED:20260124T084210Z
LAST-MODIFIED:20260127T050019Z
UID:10002590-1769434200-1769455800@elaevents.com
SUMMARY:POST GAME ACCESS ONLY vs Pacers
DESCRIPTION:
URL:https://elaevents.com/event/post-game-access-only-vs-pacers/
LOCATION:State Farm Arena\, Atlanta
END:VEVENT
BEGIN:VEVENT
DTSTART;TZID=UTC:20260126T193000
DTEND;TZID=UTC:20260126T193000
DTSTAMP:20260420T061149
CREATED:20260125T000604Z
LAST-MODIFIED:20260127T083038Z
UID:10002591-1769455800-1769455800@elaevents.com
SUMMARY:Hawks vs Pacers
DESCRIPTION:
URL:https://elaevents.com/event/hawks-vs-pacers/
LOCATION:State Farm Arena\, Atlanta
END:VEVENT
BEGIN:VEVENT
DTSTART;TZID=UTC:20260128T180000
DTEND;TZID=UTC:20260128T180000
DTSTAMP:20260420T061149
CREATED:20260127T083712Z
LAST-MODIFIED:20260127T235929Z
UID:10002595-1769623200-1769623200@elaevents.com
SUMMARY:Hawks Open House
DESCRIPTION:
URL:https://elaevents.com/event/hawks-open-house/
LOCATION:State Farm Arena\, Atlanta
END:VEVENT
BEGIN:VEVENT
DTSTART;TZID=UTC:20260129T200000
DTEND;TZID=UTC:20260129T200000
DTSTAMP:20260420T061149
CREATED:20251129T053947Z
LAST-MODIFIED:20260130T060026Z
UID:10002479-1769716800-1769716800@elaevents.com
SUMMARY:Atlanta Hawks v. Houston Rockets
DESCRIPTION:
URL:https://elaevents.com/event/atlanta-hawks-v-houston-rockets/
LOCATION:State Farm Arena\, Atlanta
CATEGORIES:Basketball
ATTACH;FMTTYPE=image/jpeg:https://elaevents.com/wp-content/uploads/2024/11/unnamed-file.jpg
END:VEVENT
BEGIN:VEVENT
DTSTART;TZID=UTC:20260129T200000
DTEND;TZID=UTC:20260129T200000
DTSTAMP:20260420T061149
CREATED:20260128T000601Z
LAST-MODIFIED:20260130T235943Z
UID:10002596-1769716800-1769716800@elaevents.com
SUMMARY:Hawks vs Rockets
DESCRIPTION:
URL:https://elaevents.com/event/hawks-vs-rockets/
LOCATION:State Farm Arena\, Atlanta
END:VEVENT
BEGIN:VEVENT
DTSTART;TZID=UTC:20260130T200000
DTEND;TZID=UTC:20260130T200000
DTSTAMP:20260420T061149
CREATED:20251215T195611Z
LAST-MODIFIED:20260131T060048Z
UID:10002547-1769803200-1769803200@elaevents.com
SUMMARY:Bailey Zimmerman
DESCRIPTION:
URL:https://elaevents.com/event/bailey-zimmerman/
LOCATION:Hard Rock Live\, Hollywood
CATEGORIES:Country
ATTACH;FMTTYPE=image/jpeg:https://elaevents.com/wp-content/uploads/2025/12/bailey-zimmerman.jpg
GEO:26.0534476;-80.2138684
END:VEVENT
BEGIN:VEVENT
DTSTART;TZID=UTC:20260131T193000
DTEND;TZID=UTC:20260131T193000
DTSTAMP:20260420T061149
CREATED:20251228T070341Z
LAST-MODIFIED:20260201T083202Z
UID:10002542-1769887800-1769887800@elaevents.com
SUMMARY:PlayStation: The Concert
DESCRIPTION:
URL:https://elaevents.com/event/playstation-the-concert/
LOCATION:Arizona Financial Theatre\, Phoenix\, az
CATEGORIES:Other
ATTACH;FMTTYPE=image/jpeg:https://elaevents.com/wp-content/uploads/2025/12/playstation-the-concert.jpg
END:VEVENT
BEGIN:VEVENT
DTSTART;TZID=UTC:20260131T200000
DTEND;TZID=UTC:20260131T200000
DTSTAMP:20260420T061149
CREATED:20260105T050631Z
LAST-MODIFIED:20260123T225804Z
UID:10002548-1769889600-1769889600@elaevents.com
SUMMARY:Penn & Teller
DESCRIPTION:
URL:https://elaevents.com/event/penn-teller/
LOCATION:Hard Rock Live\, Hollywood
CATEGORIES:Magic & Illusion
ATTACH;FMTTYPE=image/jpeg:https://elaevents.com/wp-content/uploads/2026/01/penn-teller.jpg
GEO:26.0534476;-80.2138684
END:VEVENT
END:VCALENDAR