BEGIN:VCALENDAR
VERSION:2.0
PRODID:-//Ela Events - ECPv6.9.0//NONSGML v1.0//EN
CALSCALE:GREGORIAN
METHOD:PUBLISH
X-WR-CALNAME:Ela Events
X-ORIGINAL-URL:https://elaevents.com
X-WR-CALDESC:Events for Ela Events
REFRESH-INTERVAL;VALUE=DURATION:PT1H
X-Robots-Tag:noindex
X-PUBLISHED-TTL:PT1H
BEGIN:VTIMEZONE
TZID:UTC
BEGIN:STANDARD
TZOFFSETFROM:+0000
TZOFFSETTO:+0000
TZNAME:UTC
DTSTART:20260101T000000
END:STANDARD
END:VTIMEZONE
BEGIN:VEVENT
DTSTART;TZID=UTC:20260121T180000
DTEND;TZID=UTC:20260121T180000
DTSTAMP:20260420T061218
CREATED:20260120T001140Z
LAST-MODIFIED:20260122T070349Z
UID:10002582-1769018400-1769018400@elaevents.com
SUMMARY:Atlanta Hawks Premium Dinner
DESCRIPTION:
URL:https://elaevents.com/event/atlanta-hawks-premium-dinner/
LOCATION:State Farm Arena\, Atlanta
END:VEVENT
BEGIN:VEVENT
DTSTART;TZID=UTC:20260122T203000
DTEND;TZID=UTC:20260122T203000
DTSTAMP:20260420T061218
CREATED:20250504T050417Z
LAST-MODIFIED:20260123T060107Z
UID:10002163-1769113800-1769113800@elaevents.com
SUMMARY:Morrissey
DESCRIPTION:
URL:https://elaevents.com/event/morrissey/
LOCATION:Hard Rock Live\, Hollywood
CATEGORIES:Rock
ATTACH;FMTTYPE=image/jpeg:https://elaevents.com/wp-content/uploads/2025/05/morrissey.jpg
GEO:26.0534476;-80.2138684
END:VEVENT
BEGIN:VEVENT
DTSTART;TZID=UTC:20260123T193000
DTEND;TZID=UTC:20260123T193000
DTSTAMP:20260420T061218
CREATED:20250814T191749Z
LAST-MODIFIED:20260124T053232Z
UID:10002298-1769196600-1769196600@elaevents.com
SUMMARY:Atlanta Hawks v. Phoenix Suns
DESCRIPTION:
URL:https://elaevents.com/event/atlanta-hawks-v-phoenix-suns/
LOCATION:State Farm Arena\, Atlanta
CATEGORIES:Basketball
ATTACH;FMTTYPE=image/jpeg:https://elaevents.com/wp-content/uploads/2024/11/unnamed-file.jpg
END:VEVENT
BEGIN:VEVENT
DTSTART;TZID=UTC:20260123T193000
DTEND;TZID=UTC:20260123T193000
DTSTAMP:20260420T061218
CREATED:20250814T201733Z
LAST-MODIFIED:20250819T215615Z
UID:10002304-1769196600-1769196600@elaevents.com
SUMMARY:Atlanta Hawks vs. Phoenix Suns
DESCRIPTION:
URL:https://elaevents.com/event/atlanta-hawks-vs-phoenix-suns-2/
LOCATION:State Farm Arena – GA\, Atlanta
CATEGORIES:Basketball
ATTACH;FMTTYPE=image/jpeg:https://elaevents.com/wp-content/uploads/2024/11/unnamed-file.jpg
GEO:33.7501275;-84.3885209
END:VEVENT
BEGIN:VEVENT
DTSTART;TZID=UTC:20260123T193000
DTEND;TZID=UTC:20260124T201500
DTSTAMP:20260420T061218
CREATED:20260124T053726Z
LAST-MODIFIED:20260124T083119Z
UID:10002587-1769196600-1769285700@elaevents.com
SUMMARY:Hawks vs Suns
DESCRIPTION:
URL:https://elaevents.com/event/hawks-vs-suns/
LOCATION:State Farm Arena\, Atlanta
END:VEVENT
BEGIN:VEVENT
DTSTART;TZID=UTC:20260123T200000
DTEND;TZID=UTC:20260123T200000
DTSTAMP:20260420T061218
CREATED:20251021T200145Z
LAST-MODIFIED:20260124T053118Z
UID:10002440-1769198400-1769198400@elaevents.com
SUMMARY:Jerry Seinfeld
DESCRIPTION:
URL:https://elaevents.com/event/jerry-seinfeld-3/
LOCATION:Hard Rock Live\, Hollywood
CATEGORIES:Comedy
ATTACH;FMTTYPE=image/jpeg:https://elaevents.com/wp-content/uploads/2024/11/unnamed-file-5.jpg
GEO:26.0534476;-80.2138684
END:VEVENT
BEGIN:VEVENT
DTSTART;TZID=UTC:20260124T200000
DTEND;TZID=UTC:20260124T200000
DTSTAMP:20260420T061218
CREATED:20251021T200144Z
LAST-MODIFIED:20260125T053134Z
UID:10002439-1769284800-1769284800@elaevents.com
SUMMARY:Jerry Seinfeld
DESCRIPTION:
URL:https://elaevents.com/event/jerry-seinfeld-2/
LOCATION:Hard Rock Live\, Hollywood
CATEGORIES:Comedy
ATTACH;FMTTYPE=image/jpeg:https://elaevents.com/wp-content/uploads/2024/11/unnamed-file-5.jpg
GEO:26.0534476;-80.2138684
END:VEVENT
BEGIN:VEVENT
DTSTART;TZID=UTC:20260125T140000
DTEND;TZID=UTC:20260125T140000
DTSTAMP:20260420T061218
CREATED:20260124T084211Z
LAST-MODIFIED:20260125T000217Z
UID:10002589-1769349600-1769349600@elaevents.com
SUMMARY:Meet the Team @ State Farm Arena
DESCRIPTION:
URL:https://elaevents.com/event/meet-the-team-state-farm-arena/
LOCATION:State Farm Arena\, Atlanta
END:VEVENT
END:VCALENDAR