BEGIN:VCALENDAR
VERSION:2.0
PRODID:-//Ela Events - ECPv6.9.0//NONSGML v1.0//EN
CALSCALE:GREGORIAN
METHOD:PUBLISH
X-WR-CALNAME:Ela Events
X-ORIGINAL-URL:https://elaevents.com
X-WR-CALDESC:Events for Ela Events
REFRESH-INTERVAL;VALUE=DURATION:PT1H
X-Robots-Tag:noindex
X-PUBLISHED-TTL:PT1H
BEGIN:VTIMEZONE
TZID:UTC
BEGIN:STANDARD
TZOFFSETFROM:+0000
TZOFFSETTO:+0000
TZNAME:UTC
DTSTART:20250101T000000
END:STANDARD
END:VTIMEZONE
BEGIN:VEVENT
DTSTART;TZID=UTC:20251229T200000
DTEND;TZID=UTC:20251229T200000
DTSTAMP:20260420T061217
CREATED:20251211T051619Z
LAST-MODIFIED:20251230T053101Z
UID:10002497-1767038400-1767038400@elaevents.com
SUMMARY:Shakira - Up Close & Personal
DESCRIPTION:
URL:https://elaevents.com/event/shakira-up-close-personal-3/
LOCATION:Hard Rock Live\, Hollywood
CATEGORIES:Pop
ATTACH;FMTTYPE=image/jpeg:https://elaevents.com/wp-content/uploads/2025/06/shakira-las-mujeres-ya-no-lloran-world-tour.jpg
GEO:26.0534476;-80.2138684
END:VEVENT
BEGIN:VEVENT
DTSTART;TZID=UTC:20251231T220000
DTEND;TZID=UTC:20251231T220000
DTSTAMP:20260420T061217
CREATED:20251212T053727Z
LAST-MODIFIED:20260101T080109Z
UID:10002500-1767218400-1767218400@elaevents.com
SUMMARY:Jonas Brothers: Greetings From 2026
DESCRIPTION:
URL:https://elaevents.com/event/jonas-brothers-greetings-from-2026/
LOCATION:Hard Rock Live\, Hollywood
CATEGORIES:Rock
ATTACH;FMTTYPE=image/jpeg:https://elaevents.com/wp-content/uploads/2025/12/jonas-brothers-greetings-from-2026.jpg
GEO:26.0534476;-80.2138684
END:VEVENT
BEGIN:VEVENT
DTSTART;TZID=UTC:20260102T200000
DTEND;TZID=UTC:20260102T200000
DTSTAMP:20260420T061217
CREATED:20251213T053824Z
LAST-MODIFIED:20260103T055927Z
UID:10002501-1767384000-1767384000@elaevents.com
SUMMARY:Stay Strong Jamaica
DESCRIPTION:
URL:https://elaevents.com/event/stay-strong-jamaica/
LOCATION:Hard Rock Live\, Hollywood
CATEGORIES:Reggae
ATTACH;FMTTYPE=image/jpeg:https://elaevents.com/wp-content/uploads/2025/12/stay-strong-jamaica.jpg
GEO:26.0534476;-80.2138684
END:VEVENT
BEGIN:VEVENT
DTSTART;TZID=UTC:20260104T160000
DTEND;TZID=UTC:20260104T160000
DTSTAMP:20260420T061217
CREATED:20251214T054312Z
LAST-MODIFIED:20260105T045658Z
UID:10002503-1767542400-1767542400@elaevents.com
SUMMARY:Fists of Fury Series
DESCRIPTION:
URL:https://elaevents.com/event/fists-of-fury-series-4/
LOCATION:Hard Rock Live\, Hollywood
CATEGORIES:Boxing
ATTACH;FMTTYPE=image/jpeg:https://elaevents.com/wp-content/uploads/2025/12/fists-of-fury-series-4.jpg
GEO:26.0534476;-80.2138684
END:VEVENT
END:VCALENDAR