BEGIN:VCALENDAR
VERSION:2.0
PRODID:-//Ela Events - ECPv6.9.0//NONSGML v1.0//EN
CALSCALE:GREGORIAN
METHOD:PUBLISH
X-ORIGINAL-URL:https://elaevents.com
X-WR-CALDESC:Events for Ela Events
REFRESH-INTERVAL;VALUE=DURATION:PT1H
X-Robots-Tag:noindex
X-PUBLISHED-TTL:PT1H
BEGIN:VTIMEZONE
TZID:UTC
BEGIN:STANDARD
TZOFFSETFROM:+0000
TZOFFSETTO:+0000
TZNAME:UTC
DTSTART:20250101T000000
END:STANDARD
END:VTIMEZONE
BEGIN:VEVENT
DTSTART;TZID=UTC:20251218T190000
DTEND;TZID=UTC:20251218T190000
DTSTAMP:20260420T035456
CREATED:20251014T232322Z
LAST-MODIFIED:20251219T080238Z
UID:10002432-1766084400-1766084400@elaevents.com
SUMMARY:Twas The Night Before - Cirque Du Soleil
DESCRIPTION:
URL:https://elaevents.com/event/twas-the-night-before-cirque-du-soleil-8/
LOCATION:Arizona Financial Theatre\, Phoenix\, az
CATEGORIES:Circus & Specialty Acts
ATTACH;FMTTYPE=image/jpeg:https://elaevents.com/wp-content/uploads/2025/07/twas-the-night-before-cirque-du-soleil.jpg
END:VEVENT
BEGIN:VEVENT
DTSTART;TZID=UTC:20251218T200000
DTEND;TZID=UTC:20251218T200000
DTSTAMP:20260420T035456
CREATED:20251205T054039Z
LAST-MODIFIED:20251219T053244Z
UID:10002486-1766088000-1766088000@elaevents.com
SUMMARY:Jon Pardi: The Christmas Show
DESCRIPTION:
URL:https://elaevents.com/event/jon-pardi-the-christmas-show/
LOCATION:Hard Rock Live\, Hollywood
CATEGORIES:Country
ATTACH;FMTTYPE=image/jpeg:https://elaevents.com/wp-content/uploads/2025/12/jon-pardi-the-christmas-show.jpg
GEO:26.0534476;-80.2138684
END:VEVENT
BEGIN:VEVENT
DTSTART;TZID=UTC:20251219T190000
DTEND;TZID=UTC:20251219T190000
DTSTAMP:20260420T035456
CREATED:20251214T071454Z
LAST-MODIFIED:20251220T080210Z
UID:10002504-1766170800-1766170800@elaevents.com
SUMMARY:Twas The Night Before - Cirque Du Soleil
DESCRIPTION:
URL:https://elaevents.com/event/twas-the-night-before-cirque-du-soleil-11/
LOCATION:Arizona Financial Theatre\, Phoenix\, az
CATEGORIES:Circus & Specialty Acts
ATTACH;FMTTYPE=image/jpeg:https://elaevents.com/wp-content/uploads/2025/07/twas-the-night-before-cirque-du-soleil.jpg
END:VEVENT
BEGIN:VEVENT
DTSTART;TZID=UTC:20251219T200000
DTEND;TZID=UTC:20251219T200000
DTSTAMP:20260420T035456
CREATED:20251206T051046Z
LAST-MODIFIED:20251220T053556Z
UID:10002490-1766174400-1766174400@elaevents.com
SUMMARY:Creed - Creedmas
DESCRIPTION:
URL:https://elaevents.com/event/creed-creedmas/
LOCATION:Hard Rock Live\, Hollywood
CATEGORIES:Rock
ATTACH;FMTTYPE=image/jpeg:https://elaevents.com/wp-content/uploads/2025/12/creed-creedmas.jpg
GEO:26.0534476;-80.2138684
END:VEVENT
BEGIN:VEVENT
DTSTART;TZID=UTC:20251220T130000
DTEND;TZID=UTC:20251220T130000
DTSTAMP:20260420T035456
CREATED:20250915T083715Z
LAST-MODIFIED:20251221T065750Z
UID:10002373-1766235600-1766235600@elaevents.com
SUMMARY:Twas The Night Before - Cirque Du Soleil
DESCRIPTION:
URL:https://elaevents.com/event/twas-the-night-before-cirque-du-soleil-4/
LOCATION:Arizona Financial Theatre\, Phoenix\, az
CATEGORIES:Circus & Specialty Acts
ATTACH;FMTTYPE=image/jpeg:https://elaevents.com/wp-content/uploads/2025/07/twas-the-night-before-cirque-du-soleil.jpg
END:VEVENT
BEGIN:VEVENT
DTSTART;TZID=UTC:20251220T160000
DTEND;TZID=UTC:20251220T160000
DTSTAMP:20260420T035456
CREATED:20251215T071525Z
LAST-MODIFIED:20251221T070043Z
UID:10002508-1766246400-1766246400@elaevents.com
SUMMARY:Twas The Night Before - Cirque Du Soleil
DESCRIPTION:
URL:https://elaevents.com/event/twas-the-night-before-cirque-du-soleil-12/
LOCATION:Arizona Financial Theatre\, Phoenix\, az
CATEGORIES:Circus & Specialty Acts
ATTACH;FMTTYPE=image/jpeg:https://elaevents.com/wp-content/uploads/2025/07/twas-the-night-before-cirque-du-soleil.jpg
END:VEVENT
BEGIN:VEVENT
DTSTART;TZID=UTC:20251220T193000
DTEND;TZID=UTC:20251220T193000
DTSTAMP:20260420T035456
CREATED:20251003T075436Z
LAST-MODIFIED:20251221T083534Z
UID:10002408-1766259000-1766259000@elaevents.com
SUMMARY:Twas The Night Before - Cirque Du Soleil
DESCRIPTION:
URL:https://elaevents.com/event/twas-the-night-before-cirque-du-soleil-6/
LOCATION:Arizona Financial Theatre\, Phoenix\, az
CATEGORIES:Circus & Specialty Acts
ATTACH;FMTTYPE=image/jpeg:https://elaevents.com/wp-content/uploads/2025/07/twas-the-night-before-cirque-du-soleil.jpg
END:VEVENT
BEGIN:VEVENT
DTSTART;TZID=UTC:20251220T200000
DTEND;TZID=UTC:20251220T200000
DTSTAMP:20260420T035456
CREATED:20251207T054059Z
LAST-MODIFIED:20251221T052931Z
UID:10002492-1766260800-1766260800@elaevents.com
SUMMARY:Creed - Creedmas
DESCRIPTION:
URL:https://elaevents.com/event/creed-creedmas-2/
LOCATION:Hard Rock Live\, Hollywood
CATEGORIES:Rock
ATTACH;FMTTYPE=image/jpeg:https://elaevents.com/wp-content/uploads/2025/12/creed-creedmas.jpg
GEO:26.0534476;-80.2138684
END:VEVENT
BEGIN:VEVENT
DTSTART;TZID=UTC:20251221T120000
DTEND;TZID=UTC:20251221T120000
DTSTAMP:20260420T035456
CREATED:20251219T081456Z
LAST-MODIFIED:20251222T070006Z
UID:10002511-1766318400-1766318400@elaevents.com
SUMMARY:Twas The Night Before - Cirque Du Soleil
DESCRIPTION:
URL:https://elaevents.com/event/twas-the-night-before-cirque-du-soleil-13/
LOCATION:Arizona Financial Theatre\, Phoenix\, az
CATEGORIES:Circus & Specialty Acts
ATTACH;FMTTYPE=image/jpeg:https://elaevents.com/wp-content/uploads/2025/07/twas-the-night-before-cirque-du-soleil.jpg
END:VEVENT
BEGIN:VEVENT
DTSTART;TZID=UTC:20251221T150000
DTEND;TZID=UTC:20251221T150000
DTSTAMP:20260420T035456
CREATED:20251219T101142Z
LAST-MODIFIED:20251222T070006Z
UID:10002512-1766329200-1766329200@elaevents.com
SUMMARY:Twas The Night Before - Cirque Du Soleil
DESCRIPTION:
URL:https://elaevents.com/event/twas-the-night-before-cirque-du-soleil-14/
LOCATION:Arizona Financial Theatre\, Phoenix\, az
CATEGORIES:Circus & Specialty Acts
ATTACH;FMTTYPE=image/jpeg:https://elaevents.com/wp-content/uploads/2025/07/twas-the-night-before-cirque-du-soleil.jpg
END:VEVENT
BEGIN:VEVENT
DTSTART;TZID=UTC:20251221T153000
DTEND;TZID=UTC:20251221T153000
DTSTAMP:20260420T035456
CREATED:20251104T060711Z
LAST-MODIFIED:20251222T045824Z
UID:10002450-1766331000-1766331000@elaevents.com
SUMMARY:Atlanta Hawks v. Chicago Bulls
DESCRIPTION:
URL:https://elaevents.com/event/atlanta-hawks-v-chicago-bulls/
LOCATION:State Farm Arena\, Atlanta
CATEGORIES:Basketball
ATTACH;FMTTYPE=image/jpeg:https://elaevents.com/wp-content/uploads/2024/11/unnamed-file.jpg
END:VEVENT
BEGIN:VEVENT
DTSTART;TZID=UTC:20251221T180000
DTEND;TZID=UTC:20251221T180000
DTSTAMP:20260420T035456
CREATED:20251220T000432Z
LAST-MODIFIED:20251222T070005Z
UID:10002513-1766340000-1766340000@elaevents.com
SUMMARY:Twas The Night Before - Cirque Du Soleil
DESCRIPTION:
URL:https://elaevents.com/event/twas-the-night-before-cirque-du-soleil-15/
LOCATION:Arizona Financial Theatre\, Phoenix\, az
CATEGORIES:Circus & Specialty Acts
ATTACH;FMTTYPE=image/jpeg:https://elaevents.com/wp-content/uploads/2025/07/twas-the-night-before-cirque-du-soleil.jpg
END:VEVENT
END:VCALENDAR