BEGIN:VCALENDAR
VERSION:2.0
PRODID:-//Ela Events - ECPv6.9.0//NONSGML v1.0//EN
CALSCALE:GREGORIAN
METHOD:PUBLISH
X-ORIGINAL-URL:https://elaevents.com
X-WR-CALDESC:Events for Ela Events
REFRESH-INTERVAL;VALUE=DURATION:PT1H
X-Robots-Tag:noindex
X-PUBLISHED-TTL:PT1H
BEGIN:VTIMEZONE
TZID:UTC
BEGIN:STANDARD
TZOFFSETFROM:+0000
TZOFFSETTO:+0000
TZNAME:UTC
DTSTART:20250101T000000
END:STANDARD
END:VTIMEZONE
BEGIN:VEVENT
DTSTART;TZID=UTC:20251208T193000
DTEND;TZID=UTC:20251208T193000
DTSTAMP:20260420T043220
CREATED:20251124T070436Z
LAST-MODIFIED:20251209T082600Z
UID:10002476-1765222200-1765222200@elaevents.com
SUMMARY:A Drag Queen Christmas
DESCRIPTION:
URL:https://elaevents.com/event/a-drag-queen-christmas/
LOCATION:Arizona Financial Theatre\, Phoenix\, az
CATEGORIES:Performance Art
ATTACH;FMTTYPE=image/jpeg:https://elaevents.com/wp-content/uploads/2025/11/a-drag-queen-christmas.jpg
END:VEVENT
BEGIN:VEVENT
DTSTART;TZID=UTC:20251209T200000
DTEND;TZID=UTC:20251209T200000
DTSTAMP:20260420T043220
CREATED:20251116T053554Z
LAST-MODIFIED:20251210T055633Z
UID:10002465-1765310400-1765310400@elaevents.com
SUMMARY:Gay Men's Chorus of South Florida Presents: Holiday Slay Ride
DESCRIPTION:
URL:https://elaevents.com/event/gay-mens-chorus-of-south-florida-presents-holiday-slay-ride/
LOCATION:Hard Rock Live\, Hollywood
CATEGORIES:Pop
ATTACH;FMTTYPE=image/jpeg:https://elaevents.com/wp-content/uploads/2025/11/gay-mens-chorus-of-south-florida-presents-holiday-slay-ride.jpg
GEO:26.0534476;-80.2138684
END:VEVENT
BEGIN:VEVENT
DTSTART;TZID=UTC:20251210T193000
DTEND;TZID=UTC:20251210T193000
DTSTAMP:20260420T043220
CREATED:20250805T184320Z
LAST-MODIFIED:20251211T082820Z
UID:10002289-1765395000-1765395000@elaevents.com
SUMMARY:Colter Wall and Friends
DESCRIPTION:
URL:https://elaevents.com/event/colter-wall-and-friends/
LOCATION:Arizona Financial Theatre\, Phoenix\, az
CATEGORIES:Country
ATTACH;FMTTYPE=image/jpeg:https://elaevents.com/wp-content/uploads/2025/08/colter-wall-and-friends.jpg
END:VEVENT
BEGIN:VEVENT
DTSTART;TZID=UTC:20251210T200000
DTEND;TZID=UTC:20251210T200000
DTSTAMP:20260420T043220
CREATED:20251121T054009Z
LAST-MODIFIED:20251211T050427Z
UID:10002471-1765396800-1765396800@elaevents.com
SUMMARY:Stevie Nicks
DESCRIPTION:
URL:https://elaevents.com/event/stevie-nicks/
LOCATION:Hard Rock Live\, Hollywood
CATEGORIES:Rock
ATTACH;FMTTYPE=image/jpeg:https://elaevents.com/wp-content/uploads/2025/11/stevie-nicks.jpg
GEO:26.0534476;-80.2138684
END:VEVENT
BEGIN:VEVENT
DTSTART;TZID=UTC:20251211T200000
DTEND;TZID=UTC:20251211T200000
DTSTAMP:20260420T043220
CREATED:20251031T091026Z
LAST-MODIFIED:20251212T053018Z
UID:10002462-1765483200-1765483200@elaevents.com
SUMMARY:Rey Ruiz and Ronald Borjas
DESCRIPTION:
URL:https://elaevents.com/event/rey-ruiz-and-ronald-borjas/
LOCATION:Hard Rock Live\, Hollywood
CATEGORIES:Latin
ATTACH;FMTTYPE=image/jpeg:https://elaevents.com/wp-content/uploads/2025/10/rey-ruiz-and-ronald-borjas.jpg
GEO:26.0534476;-80.2138684
END:VEVENT
BEGIN:VEVENT
DTSTART;TZID=UTC:20251212T190000
DTEND;TZID=UTC:20251212T190000
DTSTAMP:20260420T043220
CREATED:20251202T071145Z
LAST-MODIFIED:20251213T080317Z
UID:10002483-1765566000-1765566000@elaevents.com
SUMMARY:Phoenix Ballet The Nutcracker
DESCRIPTION:
URL:https://elaevents.com/event/phoenix-ballet-the-nutcracker/
LOCATION:Arizona Financial Theatre\, Phoenix\, az
CATEGORIES:Dance
ATTACH;FMTTYPE=image/jpeg:https://elaevents.com/wp-content/uploads/2025/12/phoenix-ballet-the-nutcracker.jpg
END:VEVENT
BEGIN:VEVENT
DTSTART;TZID=UTC:20251212T200000
DTEND;TZID=UTC:20251212T200000
DTSTAMP:20260420T043220
CREATED:20251123T055820Z
LAST-MODIFIED:20251213T053517Z
UID:10002474-1765569600-1765569600@elaevents.com
SUMMARY:Frankie Valli & The Four Seasons: The Last Encores
DESCRIPTION:
URL:https://elaevents.com/event/frankie-valli-the-four-seasons-the-last-encores-2/
LOCATION:Hard Rock Live\, Hollywood
CATEGORIES:Rock
ATTACH;FMTTYPE=image/jpeg:https://elaevents.com/wp-content/uploads/2025/01/frankie-valli-the-four-seasons-the-last-encores.jpg
GEO:26.0534476;-80.2138684
END:VEVENT
BEGIN:VEVENT
DTSTART;TZID=UTC:20251213T140000
DTEND;TZID=UTC:20251213T140000
DTSTAMP:20260420T043220
CREATED:20251205T071010Z
LAST-MODIFIED:20251214T070829Z
UID:10002487-1765634400-1765634400@elaevents.com
SUMMARY:Phoenix Ballet The Nutcracker
DESCRIPTION:
URL:https://elaevents.com/event/phoenix-ballet-the-nutcracker-2/
LOCATION:Arizona Financial Theatre\, Phoenix\, az
CATEGORIES:Dance
ATTACH;FMTTYPE=image/jpeg:https://elaevents.com/wp-content/uploads/2025/12/phoenix-ballet-the-nutcracker.jpg
END:VEVENT
BEGIN:VEVENT
DTSTART;TZID=UTC:20251213T190000
DTEND;TZID=UTC:20251213T190000
DTSTAMP:20260420T043220
CREATED:20251205T091214Z
LAST-MODIFIED:20251214T080017Z
UID:10002488-1765652400-1765652400@elaevents.com
SUMMARY:Phoenix Ballet The Nutcracker
DESCRIPTION:
URL:https://elaevents.com/event/phoenix-ballet-the-nutcracker-3/
LOCATION:Arizona Financial Theatre\, Phoenix\, az
CATEGORIES:Dance
ATTACH;FMTTYPE=image/jpeg:https://elaevents.com/wp-content/uploads/2025/12/phoenix-ballet-the-nutcracker.jpg
END:VEVENT
BEGIN:VEVENT
DTSTART;TZID=UTC:20251213T200000
DTEND;TZID=UTC:20251213T200000
DTSTAMP:20260420T043220
CREATED:20251127T054402Z
LAST-MODIFIED:20251214T053214Z
UID:10002478-1765656000-1765656000@elaevents.com
SUMMARY:Sarah Brightman: A Winter Symphony
DESCRIPTION:
URL:https://elaevents.com/event/sarah-brightman-a-winter-symphony/
LOCATION:Hard Rock Live\, Hollywood
CATEGORIES:Pop
ATTACH;FMTTYPE=image/jpeg:https://elaevents.com/wp-content/uploads/2025/11/sarah-brightman-a-winter-symphony.jpg
GEO:26.0534476;-80.2138684
END:VEVENT
BEGIN:VEVENT
DTSTART;TZID=UTC:20251214T130000
DTEND;TZID=UTC:20251214T130000
DTSTAMP:20260420T043220
CREATED:20251209T104354Z
LAST-MODIFIED:20251215T070244Z
UID:10002495-1765717200-1765717200@elaevents.com
SUMMARY:Phoenix Ballet The Nutcracker
DESCRIPTION:
URL:https://elaevents.com/event/phoenix-ballet-the-nutcracker-5/
LOCATION:Arizona Financial Theatre\, Phoenix\, az
CATEGORIES:Dance
ATTACH;FMTTYPE=image/jpeg:https://elaevents.com/wp-content/uploads/2025/12/phoenix-ballet-the-nutcracker.jpg
END:VEVENT
BEGIN:VEVENT
DTSTART;TZID=UTC:20251214T170000
DTEND;TZID=UTC:20251214T170000
DTSTAMP:20260420T043220
CREATED:20251209T084603Z
LAST-MODIFIED:20251215T070244Z
UID:10002494-1765731600-1765731600@elaevents.com
SUMMARY:Phoenix Ballet The Nutcracker
DESCRIPTION:
URL:https://elaevents.com/event/phoenix-ballet-the-nutcracker-4/
LOCATION:Arizona Financial Theatre\, Phoenix\, az
CATEGORIES:Dance
ATTACH;FMTTYPE=image/jpeg:https://elaevents.com/wp-content/uploads/2025/12/phoenix-ballet-the-nutcracker.jpg
END:VEVENT
BEGIN:VEVENT
DTSTART;TZID=UTC:20251214T180000
DTEND;TZID=UTC:20251214T180000
DTSTAMP:20260420T043220
CREATED:20251129T160542Z
LAST-MODIFIED:20251215T045328Z
UID:10002480-1765735200-1765735200@elaevents.com
SUMMARY:NBA Cup Week: Atlanta Hawks vs. Philadelphia 76ers - 12/14/25 @ 3:30pm
DESCRIPTION:
URL:https://elaevents.com/event/nba-cup-week-atlanta-hawks-vs-philadelphia-76ers-12-14-25-330pm/
LOCATION:State Farm Arena\, Atlanta
CATEGORIES:Basketball
ATTACH;FMTTYPE=image/jpeg:https://elaevents.com/wp-content/uploads/2024/11/unnamed-file.jpg
END:VEVENT
BEGIN:VEVENT
DTSTART;TZID=UTC:20251214T190000
DTEND;TZID=UTC:20251214T190000
DTSTAMP:20260420T043220
CREATED:20251130T070725Z
LAST-MODIFIED:20251215T045327Z
UID:10002481-1765738800-1765738800@elaevents.com
SUMMARY:Mike Tyson: Return of the Mike
DESCRIPTION:
URL:https://elaevents.com/event/mike-tyson-return-of-the-mike/
LOCATION:Hard Rock Live\, Hollywood
CATEGORIES:Lecture/Seminar
ATTACH;FMTTYPE=image/jpeg:https://elaevents.com/wp-content/uploads/2025/11/mike-tyson-return-of-the-mike.jpg
GEO:26.0534476;-80.2138684
END:VEVENT
END:VCALENDAR