BEGIN:VCALENDAR
VERSION:2.0
PRODID:-//Ela Events - ECPv6.9.0//NONSGML v1.0//EN
CALSCALE:GREGORIAN
METHOD:PUBLISH
X-WR-CALNAME:Ela Events
X-ORIGINAL-URL:https://elaevents.com
X-WR-CALDESC:Events for Ela Events
REFRESH-INTERVAL;VALUE=DURATION:PT1H
X-Robots-Tag:noindex
X-PUBLISHED-TTL:PT1H
BEGIN:VTIMEZONE
TZID:UTC
BEGIN:STANDARD
TZOFFSETFROM:+0000
TZOFFSETTO:+0000
TZNAME:UTC
DTSTART:20250101T000000
END:STANDARD
END:VTIMEZONE
BEGIN:VEVENT
DTSTART;TZID=UTC:20251113T200000
DTEND;TZID=UTC:20251113T200000
DTSTAMP:20260420T074221
CREATED:20251101T095126Z
LAST-MODIFIED:20251114T085905Z
UID:10002443-1763064000-1763064000@elaevents.com
SUMMARY:Jose Maria Napoleon - Hasta Siempre. Tour de Despedida USA 2025
DESCRIPTION:
URL:https://elaevents.com/event/jose-maria-napoleon-hasta-siempre-tour-de-despedida-usa-2025/
LOCATION:Arizona Financial Theatre\, Phoenix\, az
CATEGORIES:Latin
ATTACH;FMTTYPE=image/jpeg:https://elaevents.com/wp-content/uploads/2025/11/jose-maria-napoleon-hasta-siempre-tour-de-despedida-usa-2025.jpg
END:VEVENT
BEGIN:VEVENT
DTSTART;TZID=UTC:20251114T193000
DTEND;TZID=UTC:20251114T193000
DTSTAMP:20260420T074221
CREATED:20251025T053755Z
LAST-MODIFIED:20251115T050358Z
UID:10002434-1763148600-1763148600@elaevents.com
SUMMARY:The Beach Boys
DESCRIPTION:
URL:https://elaevents.com/event/the-beach-boys/
LOCATION:Hard Rock Live\, Hollywood
CATEGORIES:Rock
ATTACH;FMTTYPE=image/jpeg:https://elaevents.com/wp-content/uploads/2025/10/the-beach-boys-scaled.jpg
GEO:26.0534476;-80.2138684
END:VEVENT
BEGIN:VEVENT
DTSTART;TZID=UTC:20251115T200000
DTEND;TZID=UTC:20251115T200000
DTSTAMP:20260420T074221
CREATED:20251026T063320Z
LAST-MODIFIED:20251116T052735Z
UID:10002435-1763236800-1763236800@elaevents.com
SUMMARY:Olga Tañón: HAY KE SER FELIZ TOUR
DESCRIPTION:
URL:https://elaevents.com/event/olga-tanon-hay-ke-ser-feliz-tour/
LOCATION:Hard Rock Live\, Hollywood
CATEGORIES:Latin
ATTACH;FMTTYPE=image/jpeg:https://elaevents.com/wp-content/uploads/2025/10/olga-tanon-hay-ke-ser-feliz-tour.jpg
GEO:26.0534476;-80.2138684
END:VEVENT
BEGIN:VEVENT
DTSTART;TZID=UTC:20251115T200000
DTEND;TZID=UTC:20251115T200000
DTSTAMP:20260420T074221
CREATED:20251102T090219Z
LAST-MODIFIED:20251116T090242Z
UID:10002446-1763236800-1763236800@elaevents.com
SUMMARY:Yandel - SINFÓNICO
DESCRIPTION:
URL:https://elaevents.com/event/yandel-sinfonico/
LOCATION:Arizona Financial Theatre\, Phoenix\, az
CATEGORIES:Latin
ATTACH;FMTTYPE=image/jpeg:https://elaevents.com/wp-content/uploads/2025/11/yandel-sinfonico.jpg
END:VEVENT
END:VCALENDAR