BEGIN:VCALENDAR
VERSION:2.0
PRODID:-//Ela Events - ECPv6.9.0//NONSGML v1.0//EN
CALSCALE:GREGORIAN
METHOD:PUBLISH
X-WR-CALNAME:Ela Events
X-ORIGINAL-URL:https://elaevents.com
X-WR-CALDESC:Events for Ela Events
REFRESH-INTERVAL;VALUE=DURATION:PT1H
X-Robots-Tag:noindex
X-PUBLISHED-TTL:PT1H
BEGIN:VTIMEZONE
TZID:UTC
BEGIN:STANDARD
TZOFFSETFROM:+0000
TZOFFSETTO:+0000
TZNAME:UTC
DTSTART:20250101T000000
END:STANDARD
END:VTIMEZONE
BEGIN:VEVENT
DTSTART;TZID=UTC:20251103T200000
DTEND;TZID=UTC:20251103T200000
DTSTAMP:20260420T061210
CREATED:20250710T122058Z
LAST-MODIFIED:20251104T055539Z
UID:10002251-1762200000-1762200000@elaevents.com
SUMMARY:PAUL McCARTNEY: GOT BACK
DESCRIPTION:
URL:https://elaevents.com/event/paul-mccartney-got-back-2/
LOCATION:State Farm Arena\, Atlanta
CATEGORIES:Rock
ATTACH;FMTTYPE=image/jpeg:https://elaevents.com/wp-content/uploads/2025/07/paul-mccartney-got-back.jpg
END:VEVENT
BEGIN:VEVENT
DTSTART;TZID=UTC:20251103T200000
DTEND;TZID=UTC:20251103T200000
DTSTAMP:20260420T061210
CREATED:20251024T081006Z
LAST-MODIFIED:20251104T090353Z
UID:10002430-1762200000-1762200000@elaevents.com
SUMMARY:DOECHII - Live from the Swamp Tour
DESCRIPTION:
URL:https://elaevents.com/event/doechii-live-from-the-swamp-tour/
LOCATION:Arizona Financial Theatre\, Phoenix\, az
CATEGORIES:Hip-Hop/Rap
ATTACH;FMTTYPE=image/jpeg:https://elaevents.com/wp-content/uploads/2025/10/doechii-live-from-the-swamp-tour.jpg
END:VEVENT
BEGIN:VEVENT
DTSTART;TZID=UTC:20251106T193000
DTEND;TZID=UTC:20251106T193000
DTSTAMP:20260420T061210
CREATED:20251026T070533Z
LAST-MODIFIED:20251107T083155Z
UID:10002436-1762457400-1762457400@elaevents.com
SUMMARY:An Evening with Anthony Ray Hinton
DESCRIPTION:
URL:https://elaevents.com/event/an-evening-with-anthony-ray-hinton/
LOCATION:Arizona Financial Theatre\, Phoenix\, az
END:VEVENT
BEGIN:VEVENT
DTSTART;TZID=UTC:20251106T200000
DTEND;TZID=UTC:20251106T200000
DTSTAMP:20260420T061210
CREATED:20251019T043944Z
LAST-MODIFIED:20251107T052658Z
UID:10002428-1762459200-1762459200@elaevents.com
SUMMARY:Stars and Strings
DESCRIPTION:
URL:https://elaevents.com/event/stars-and-strings-2/
LOCATION:Hard Rock Live\, Hollywood
CATEGORIES:Country
ATTACH;FMTTYPE=image/jpeg:https://elaevents.com/wp-content/uploads/2025/10/stars-and-strings-2.jpg
GEO:26.0534476;-80.2138684
END:VEVENT
BEGIN:VEVENT
DTSTART;TZID=UTC:20251107T000000
DTEND;TZID=UTC:20251107T000000
DTSTAMP:20260420T061210
CREATED:20251026T073317Z
LAST-MODIFIED:20251109T070032Z
UID:10002437-1762473600-1762473600@elaevents.com
SUMMARY:K-LOVE PRESENTS A WEEKEND WITH FOUND COLLECTIVE-TWO DAY EVENT
DESCRIPTION:
URL:https://elaevents.com/event/k-love-presents-a-weekend-with-found-collective-two-day-event/
LOCATION:Arizona Financial Theatre\, Phoenix\, az
CATEGORIES:Lecture/Seminar
ATTACH;FMTTYPE=image/jpeg:https://elaevents.com/wp-content/uploads/2025/10/k-love-presents-a-weekend-with-found-collective-two-day-event.jpg
END:VEVENT
BEGIN:VEVENT
DTSTART;TZID=UTC:20251107T193000
DTEND;TZID=UTC:20251107T193000
DTSTAMP:20260420T061210
CREATED:20250814T191902Z
LAST-MODIFIED:20251108T052930Z
UID:10002302-1762543800-1762543800@elaevents.com
SUMMARY:Atlanta Hawks v. Toronto Raptors
DESCRIPTION:
URL:https://elaevents.com/event/atlanta-hawks-v-toronto-raptors-2/
LOCATION:State Farm Arena\, Atlanta
CATEGORIES:Basketball
ATTACH;FMTTYPE=image/jpeg:https://elaevents.com/wp-content/uploads/2024/11/unnamed-file.jpg
END:VEVENT
BEGIN:VEVENT
DTSTART;TZID=UTC:20251107T200000
DTEND;TZID=UTC:20251107T200000
DTSTAMP:20260420T061210
CREATED:20251014T103538Z
LAST-MODIFIED:20251108T052817Z
UID:10002418-1762545600-1762545600@elaevents.com
SUMMARY:STING 3.0 Tour
DESCRIPTION:
URL:https://elaevents.com/event/sting-3-0-tour-2/
LOCATION:Hard Rock Live\, Hollywood
CATEGORIES:Rock
ATTACH;FMTTYPE=image/jpeg:https://elaevents.com/wp-content/uploads/2025/05/sting-3-0-tour.jpg
GEO:26.0534476;-80.2138684
END:VEVENT
BEGIN:VEVENT
DTSTART;TZID=UTC:20251108T200000
DTEND;TZID=UTC:20251108T200000
DTSTAMP:20260420T061210
CREATED:20250814T191901Z
LAST-MODIFIED:20251109T055956Z
UID:10002296-1762632000-1762632000@elaevents.com
SUMMARY:Atlanta Hawks v. Los Angeles Lakers
DESCRIPTION:
URL:https://elaevents.com/event/atlanta-hawks-v-los-angeles-lakers/
LOCATION:State Farm Arena\, Atlanta
CATEGORIES:Basketball
ATTACH;FMTTYPE=image/jpeg:https://elaevents.com/wp-content/uploads/2024/11/unnamed-file.jpg
END:VEVENT
BEGIN:VEVENT
DTSTART;TZID=UTC:20251108T200000
DTEND;TZID=UTC:20251108T200000
DTSTAMP:20260420T061210
CREATED:20250814T201619Z
LAST-MODIFIED:20250819T212004Z
UID:10002305-1762632000-1762632000@elaevents.com
SUMMARY:Atlanta Hawks vs. Los Angeles Lakers
DESCRIPTION:
URL:https://elaevents.com/event/atlanta-hawks-vs-los-angeles-lakers-2/
LOCATION:State Farm Arena – GA\, Atlanta
CATEGORIES:Basketball
ATTACH;FMTTYPE=image/jpeg:https://elaevents.com/wp-content/uploads/2024/11/unnamed-file.jpg
GEO:33.7501275;-84.3885209
END:VEVENT
BEGIN:VEVENT
DTSTART;TZID=UTC:20251109T193000
DTEND;TZID=UTC:20251109T193000
DTSTAMP:20260420T061210
CREATED:20251025T043355Z
LAST-MODIFIED:20251110T045413Z
UID:10002433-1762716600-1762716600@elaevents.com
SUMMARY:Bryan Adams: Roll with the Punches w/ guest Pat Benatar & Neil Giraldo
DESCRIPTION:
URL:https://elaevents.com/event/bryan-adams-roll-with-the-punches-w-guest-pat-benatar-neil-giraldo/
LOCATION:Hard Rock Live\, Hollywood
CATEGORIES:Rock
ATTACH;FMTTYPE=image/jpeg:https://elaevents.com/wp-content/uploads/2025/10/bryan-adams-roll-with-the-punches-w-guest-pat-benatar-neil-giraldo.jpg
GEO:26.0534476;-80.2138684
END:VEVENT
BEGIN:VEVENT
DTSTART;TZID=UTC:20251109T193000
DTEND;TZID=UTC:20251109T193000
DTSTAMP:20260420T061210
CREATED:20251031T091250Z
LAST-MODIFIED:20251110T080452Z
UID:10002441-1762716600-1762716600@elaevents.com
SUMMARY:Jagged Edge - Cuffing Season Tour
DESCRIPTION:
URL:https://elaevents.com/event/jagged-edge-cuffing-season-tour/
LOCATION:Arizona Financial Theatre\, Phoenix\, az
CATEGORIES:R&B
ATTACH;FMTTYPE=image/jpeg:https://elaevents.com/wp-content/uploads/2025/10/jagged-edge-cuffing-season-tour.jpg
END:VEVENT
END:VCALENDAR