BEGIN:VCALENDAR
VERSION:2.0
PRODID:-//Ela Events - ECPv6.9.0//NONSGML v1.0//EN
CALSCALE:GREGORIAN
METHOD:PUBLISH
X-WR-CALNAME:Ela Events
X-ORIGINAL-URL:https://elaevents.com
X-WR-CALDESC:Events for Ela Events
REFRESH-INTERVAL;VALUE=DURATION:PT1H
X-Robots-Tag:noindex
X-PUBLISHED-TTL:PT1H
BEGIN:VTIMEZONE
TZID:America/New_York
BEGIN:DAYLIGHT
TZOFFSETFROM:-0500
TZOFFSETTO:-0400
TZNAME:EDT
DTSTART:20250309T070000
END:DAYLIGHT
BEGIN:STANDARD
TZOFFSETFROM:-0400
TZOFFSETTO:-0500
TZNAME:EST
DTSTART:20251102T060000
END:STANDARD
TZID:UTC
BEGIN:STANDARD
TZOFFSETFROM:+0000
TZOFFSETTO:+0000
TZNAME:UTC
DTSTART:20250101T000000
END:STANDARD
END:VTIMEZONE
BEGIN:VEVENT
DTSTART;TZID=America/New_York:20250831T220000
DTEND;TZID=America/New_York:20250901T030000
DTSTAMP:20260420T175951
CREATED:20241108T072019Z
LAST-MODIFIED:20241108T072019Z
UID:10000086-1756677600-1756695600@elaevents.com
SUMMARY:SOIREE SUNDAYS AT MELA LOUNGE (LADIES FREE ALL NIGHT)
DESCRIPTION:Come party with us at Mela Lounge every Sunday for Soiree Sundays – ladies get in free all night long!
URL:https://elaevents.com/event/soiree-sundays-at-mela-lounge-ladies-free-all-night-43/
LOCATION:Mela Bar & Lounge\, 1359 Clairmont Road\, Decatur\, GA 30033\, Decatur\, GA\, 30033\, US
GEO:33.7925418;-84.3049631
X-APPLE-STRUCTURED-LOCATION;VALUE=URI;X-ADDRESS=Mela Bar & Lounge 1359 Clairmont Road Decatur GA 30033 Decatur GA 30033 US;X-APPLE-RADIUS=500;X-TITLE=1359 Clairmont Road\, Decatur\, GA 30033:geo:-84.3049631,33.7925418
END:VEVENT
BEGIN:VEVENT
DTSTART;TZID=UTC:20250904T193000
DTEND;TZID=UTC:20250904T193000
DTSTAMP:20260420T175951
CREATED:20250519T124636Z
LAST-MODIFIED:20250905T082047Z
UID:10002228-1757014200-1757014200@elaevents.com
SUMMARY:Rob Thomas - The All Night Days Tour
DESCRIPTION:
URL:https://elaevents.com/event/rob-thomas-the-all-night-days-tour/
LOCATION:Arizona Financial Theatre\, Phoenix\, az
CATEGORIES:Rock
ATTACH;FMTTYPE=image/jpeg:https://elaevents.com/wp-content/uploads/2025/05/rob-thomas-the-all-night-days-tour.jpg
END:VEVENT
BEGIN:VEVENT
DTSTART;TZID=UTC:20250905T190000
DTEND;TZID=UTC:20250905T190000
DTSTAMP:20260420T175951
CREATED:20250825T094225Z
LAST-MODIFIED:20250906T065618Z
UID:10002326-1757098800-1757098800@elaevents.com
SUMMARY:Trap Karaoke
DESCRIPTION:
URL:https://elaevents.com/event/trap-karaoke/
LOCATION:Arizona Financial Theatre\, Phoenix\, az
CATEGORIES:Hip-Hop/Rap
ATTACH;FMTTYPE=image/jpeg:https://elaevents.com/wp-content/uploads/2025/08/trap-karaoke.jpg
END:VEVENT
BEGIN:VEVENT
DTSTART;TZID=UTC:20250905T190000
DTEND;TZID=UTC:20250905T190000
DTSTAMP:20260420T175951
CREATED:20250829T091455Z
LAST-MODIFIED:20250906T105417Z
UID:10002333-1757098800-1757098800@elaevents.com
SUMMARY:Trap Karaoke: Phoenix
DESCRIPTION:
URL:https://elaevents.com/event/trap-karaoke-phoenix/
LOCATION:Arizona Financial Theatre\, Phoenix\, az
CATEGORIES:Hip-Hop/Rap
ATTACH;FMTTYPE=image/jpeg:https://elaevents.com/wp-content/uploads/2025/08/trap-karaoke.jpg
END:VEVENT
BEGIN:VEVENT
DTSTART;TZID=UTC:20250905T200000
DTEND;TZID=UTC:20250905T200000
DTSTAMP:20260420T175951
CREATED:20250822T054830Z
LAST-MODIFIED:20250906T042428Z
UID:10002317-1757102400-1757102400@elaevents.com
SUMMARY:KC & the Sunshine Band
DESCRIPTION:
URL:https://elaevents.com/event/kc-the-sunshine-band/
LOCATION:Hard Rock Live\, Hollywood
CATEGORIES:Rock
ATTACH;FMTTYPE=image/jpeg:https://elaevents.com/wp-content/uploads/2025/08/kc-the-sunshine-band.jpg
GEO:26.0534476;-80.2138684
END:VEVENT
BEGIN:VEVENT
DTSTART;TZID=UTC:20250905T200000
DTEND;TZID=UTC:20250905T201500
DTSTAMP:20260420T175951
CREATED:20250905T140911Z
LAST-MODIFIED:20250905T163833Z
UID:10002342-1757102400-1757103300@elaevents.com
SUMMARY:Street Mob Tour
DESCRIPTION:
URL:https://elaevents.com/event/street-mob-tour/
LOCATION:Arizona Financial Theatre\, Phoenix\, az
CATEGORIES:Latin
ATTACH;FMTTYPE=image/jpeg:https://elaevents.com/wp-content/uploads/2025/09/street-mob-tour-scaled.jpg
END:VEVENT
BEGIN:VEVENT
DTSTART;TZID=UTC:20250906T200000
DTEND;TZID=UTC:20250906T200000
DTSTAMP:20260420T175951
CREATED:20250823T055210Z
LAST-MODIFIED:20250907T045425Z
UID:10002320-1757188800-1757188800@elaevents.com
SUMMARY:Miami Dolphins Kickoff Celebration at Guitar Hotel Pool
DESCRIPTION:
URL:https://elaevents.com/event/miami-dolphins-kickoff-celebration-at-guitar-hotel-pool/
LOCATION:Hard Rock Live\, Hollywood
CATEGORIES:Fairs & Festivals
ATTACH;FMTTYPE=image/jpeg:https://elaevents.com/wp-content/uploads/2025/08/miami-dolphins-kickoff-celebration-at-guitar-hotel-pool.jpg
GEO:26.0534476;-80.2138684
END:VEVENT
BEGIN:VEVENT
DTSTART;TZID=UTC:20250906T200000
DTEND;TZID=UTC:20250906T200000
DTSTAMP:20260420T175951
CREATED:20250824T043406Z
LAST-MODIFIED:20250907T041556Z
UID:10002322-1757188800-1757188800@elaevents.com
SUMMARY:Joey Diaz: 62 & Still Slinging
DESCRIPTION:
URL:https://elaevents.com/event/joey-diaz-62-still-slinging/
LOCATION:Hard Rock Live\, Hollywood
CATEGORIES:Comedy
ATTACH;FMTTYPE=image/jpeg:https://elaevents.com/wp-content/uploads/2025/08/joey-diaz-62-still-slinging.jpg
GEO:26.0534476;-80.2138684
END:VEVENT
END:VCALENDAR