BEGIN:VCALENDAR
VERSION:2.0
PRODID:-//Ela Events - ECPv6.9.0//NONSGML v1.0//EN
CALSCALE:GREGORIAN
METHOD:PUBLISH
X-ORIGINAL-URL:https://elaevents.com
X-WR-CALDESC:Events for Ela Events
REFRESH-INTERVAL;VALUE=DURATION:PT1H
X-Robots-Tag:noindex
X-PUBLISHED-TTL:PT1H
BEGIN:VTIMEZONE
TZID:America/New_York
BEGIN:DAYLIGHT
TZOFFSETFROM:-0500
TZOFFSETTO:-0400
TZNAME:EDT
DTSTART:20250309T070000
END:DAYLIGHT
BEGIN:STANDARD
TZOFFSETFROM:-0400
TZOFFSETTO:-0500
TZNAME:EST
DTSTART:20251102T060000
END:STANDARD
TZID:UTC
BEGIN:STANDARD
TZOFFSETFROM:+0000
TZOFFSETTO:+0000
TZNAME:UTC
DTSTART:20250101T000000
END:STANDARD
END:VTIMEZONE
BEGIN:VEVENT
DTSTART;TZID=America/New_York:20250713T220000
DTEND;TZID=America/New_York:20250714T030000
DTSTAMP:20260420T180005
CREATED:20241108T072013Z
LAST-MODIFIED:20241108T072013Z
UID:10000079-1752444000-1752462000@elaevents.com
SUMMARY:SOIREE SUNDAYS AT MELA LOUNGE (LADIES FREE ALL NIGHT)
DESCRIPTION:Come party with us at Mela Lounge every Sunday for Soiree Sundays – ladies get in free all night long!
URL:https://elaevents.com/event/soiree-sundays-at-mela-lounge-ladies-free-all-night-36/
LOCATION:Mela Bar & Lounge\, 1359 Clairmont Road\, Decatur\, GA 30033\, Decatur\, GA\, 30033\, US
GEO:33.7925418;-84.3049631
X-APPLE-STRUCTURED-LOCATION;VALUE=URI;X-ADDRESS=Mela Bar & Lounge 1359 Clairmont Road Decatur GA 30033 Decatur GA 30033 US;X-APPLE-RADIUS=500;X-TITLE=1359 Clairmont Road\, Decatur\, GA 30033:geo:-84.3049631,33.7925418
END:VEVENT
BEGIN:VEVENT
DTSTART;TZID=UTC:20250718T200000
DTEND;TZID=UTC:20250718T200000
DTSTAMP:20260420T180005
CREATED:20250602T222611Z
LAST-MODIFIED:20250719T043235Z
UID:10002220-1752868800-1752868800@elaevents.com
SUMMARY:Ranchenato
DESCRIPTION:
URL:https://elaevents.com/event/ranchenato/
LOCATION:Hard Rock Live\, Hollywood
CATEGORIES:Latin
ATTACH;FMTTYPE=image/jpeg:https://elaevents.com/wp-content/uploads/2025/06/ranchenato.jpg
GEO:26.0534476;-80.2138684
END:VEVENT
BEGIN:VEVENT
DTSTART;TZID=UTC:20250719T200000
DTEND;TZID=UTC:20250719T200000
DTSTAMP:20260420T180005
CREATED:20250602T223515Z
LAST-MODIFIED:20250720T042706Z
UID:10002222-1752955200-1752955200@elaevents.com
SUMMARY:Darius Rucker
DESCRIPTION:
URL:https://elaevents.com/event/darius-rucker/
LOCATION:Hard Rock Live\, Hollywood
CATEGORIES:Country
ATTACH;FMTTYPE=image/jpeg:https://elaevents.com/wp-content/uploads/2025/06/darius-rucker-scaled.jpg
GEO:26.0534476;-80.2138684
END:VEVENT
BEGIN:VEVENT
DTSTART;TZID=UTC:20250720T190000
DTEND;TZID=UTC:20250720T190000
DTSTAMP:20260420T180005
CREATED:20250704T050049Z
LAST-MODIFIED:20250721T040144Z
UID:10002246-1753038000-1753038000@elaevents.com
SUMMARY:KEYSHIA COLE: The Way It Is 20th Anniversary Tour
DESCRIPTION:
URL:https://elaevents.com/event/keyshia-cole-the-way-it-is-20th-anniversary-tour/
LOCATION:Hard Rock Live\, Hollywood
CATEGORIES:R&B
ATTACH;FMTTYPE=image/jpeg:https://elaevents.com/wp-content/uploads/2025/07/keyshia-cole-the-way-it-is-20th-anniversary-tour-1.jpg
GEO:26.0534476;-80.2138684
END:VEVENT
END:VCALENDAR