BEGIN:VCALENDAR
VERSION:2.0
PRODID:-//Ela Events - ECPv6.9.0//NONSGML v1.0//EN
CALSCALE:GREGORIAN
METHOD:PUBLISH
X-WR-CALNAME:Ela Events
X-ORIGINAL-URL:https://elaevents.com
X-WR-CALDESC:Events for Ela Events
REFRESH-INTERVAL;VALUE=DURATION:PT1H
X-Robots-Tag:noindex
X-PUBLISHED-TTL:PT1H
BEGIN:VTIMEZONE
TZID:UTC
BEGIN:STANDARD
TZOFFSETFROM:+0000
TZOFFSETTO:+0000
TZNAME:UTC
DTSTART:20260101T000000
END:STANDARD
END:VTIMEZONE
BEGIN:VEVENT
DTSTART;TZID=UTC:20260918T200000
DTEND;TZID=UTC:20260918T200000
DTSTAMP:20260420T062649
CREATED:20260114T180611Z
LAST-MODIFIED:20260119T155447Z
UID:10002578-1789761600-1789761600@elaevents.com
SUMMARY:Nikki Glaser: The Stunning Tour
DESCRIPTION:
URL:https://elaevents.com/event/nikki-glaser-the-stunning-tour/
LOCATION:Hard Rock Live\, Hollywood
CATEGORIES:Comedy
ATTACH;FMTTYPE=image/jpeg:https://elaevents.com/wp-content/uploads/2026/01/nikki-glaser-the-stunning-tour.jpg
GEO:26.0534476;-80.2138684
END:VEVENT
BEGIN:VEVENT
DTSTART;TZID=UTC:20260919T200000
DTEND;TZID=UTC:20260919T200000
DTSTAMP:20260420T062649
CREATED:20260130T071900Z
LAST-MODIFIED:20260420T061831Z
UID:10002603-1789848000-1789848000@elaevents.com
SUMMARY:Zac Brown Band: Love & Fear Tour
DESCRIPTION:
URL:https://elaevents.com/event/zac-brown-band-love-fear-tour/
LOCATION:Hard Rock Live\, Hollywood
CATEGORIES:Country
ATTACH;FMTTYPE=image/jpeg:https://elaevents.com/wp-content/uploads/2026/01/zac-brown-band-love-fear-tour-scaled.jpg
GEO:26.0534476;-80.2138684
END:VEVENT
BEGIN:VEVENT
DTSTART;TZID=UTC:20260920T203000
DTEND;TZID=UTC:20260920T203000
DTSTAMP:20260420T062649
CREATED:20260228T160421Z
LAST-MODIFIED:20260420T061831Z
UID:10002683-1789936200-1789936200@elaevents.com
SUMMARY:Alejandro Fernández: de Rey a Rey
DESCRIPTION:
URL:https://elaevents.com/event/alejandro-fernandez-de-rey-a-rey-2/
LOCATION:Arizona Financial Theatre\, Phoenix\, az
CATEGORIES:Latin
ATTACH;FMTTYPE=image/jpeg:https://elaevents.com/wp-content/uploads/2025/09/alejandro-fernandez-de-rey-a-rey.jpg
END:VEVENT
BEGIN:VEVENT
DTSTART;TZID=UTC:20260922T200000
DTEND;TZID=UTC:20260922T200000
DTSTAMP:20260420T062649
CREATED:20260228T160613Z
LAST-MODIFIED:20260420T061120Z
UID:10002720-1790107200-1790107200@elaevents.com
SUMMARY:Freya Skye - Stars Align Tour
DESCRIPTION:
URL:https://elaevents.com/event/freya-skye-stars-align-tour-2/
LOCATION:Arizona Financial Theatre\, Phoenix\, az
CATEGORIES:Pop
ATTACH;FMTTYPE=image/jpeg:https://elaevents.com/wp-content/uploads/2026/02/freya-skye-stars-align-tour.jpg
END:VEVENT
BEGIN:VEVENT
DTSTART;TZID=UTC:20260924T193000
DTEND;TZID=UTC:20260924T193000
DTSTAMP:20260420T062649
CREATED:20260403T225831Z
LAST-MODIFIED:20260415T185307Z
UID:10002861-1790278200-1790278200@elaevents.com
SUMMARY:TLC & Salt-N-Pepa with En Vogue - IT'S ICONIC
DESCRIPTION:
URL:https://elaevents.com/event/tlc-salt-n-pepa-with-en-vogue-its-iconic/
LOCATION:Hard Rock Live\, Hollywood
CATEGORIES:Hip-Hop/Rap
ATTACH;FMTTYPE=image/jpeg:https://elaevents.com/wp-content/uploads/2026/04/tlc-salt-n-pepa-with-en-vogue-its-iconic.jpg
GEO:26.0534476;-80.2138684
END:VEVENT
BEGIN:VEVENT
DTSTART;TZID=UTC:20260926T193000
DTEND;TZID=UTC:20260926T193000
DTSTAMP:20260420T062649
CREATED:20260114T180822Z
LAST-MODIFIED:20260119T155446Z
UID:10002577-1790451000-1790451000@elaevents.com
SUMMARY:James Taylor And His All-Star Band
DESCRIPTION:
URL:https://elaevents.com/event/james-taylor-and-his-all-star-band/
LOCATION:Hard Rock Live\, Hollywood
CATEGORIES:Rock
ATTACH;FMTTYPE=image/jpeg:https://elaevents.com/wp-content/uploads/2026/01/james-taylor-and-his-all-star-band.jpg
GEO:26.0534476;-80.2138684
END:VEVENT
BEGIN:VEVENT
DTSTART;TZID=UTC:20260929T193000
DTEND;TZID=UTC:20260929T193000
DTSTAMP:20260420T062649
CREATED:20260316T141126Z
LAST-MODIFIED:20260420T061517Z
UID:10002807-1790710200-1790710200@elaevents.com
SUMMARY:Stephen Wilson Jr. - Gary The Torch Tour
DESCRIPTION:
URL:https://elaevents.com/event/stephen-wilson-jr-gary-the-torch-tour/
LOCATION:Arizona Financial Theatre\, Phoenix\, az
CATEGORIES:Rock
ATTACH;FMTTYPE=image/jpeg:https://elaevents.com/wp-content/uploads/2026/03/stephen-wilson-jr-gary-the-torch-tour-scaled.jpg
END:VEVENT
BEGIN:VEVENT
DTSTART;TZID=UTC:20260930T193000
DTEND;TZID=UTC:20260930T193000
DTSTAMP:20260420T062649
CREATED:20260407T151952Z
LAST-MODIFIED:20260420T061727Z
UID:10002859-1790796600-1790796600@elaevents.com
SUMMARY:Parcels - Loved Tour 2026
DESCRIPTION:
URL:https://elaevents.com/event/parcels-loved-tour-2026/
LOCATION:Arizona Financial Theatre\, Phoenix\, az
CATEGORIES:Rock
ATTACH;FMTTYPE=image/jpeg:https://elaevents.com/wp-content/uploads/2026/04/parcels-loved-tour-2026-1-scaled.jpg
END:VEVENT
BEGIN:VEVENT
DTSTART;TZID=UTC:20261003T200000
DTEND;TZID=UTC:20261003T200000
DTSTAMP:20260420T062649
CREATED:20260409T145234Z
LAST-MODIFIED:20260420T062608Z
UID:10002860-1791057600-1791057600@elaevents.com
SUMMARY:JACK WHITE LIVE 2026
DESCRIPTION:
URL:https://elaevents.com/event/jack-white-live-2026/
LOCATION:Arizona Financial Theatre\, Phoenix\, az
CATEGORIES:Rock
ATTACH;FMTTYPE=image/jpeg:https://elaevents.com/wp-content/uploads/2026/04/jack-white-live-2026.jpg
END:VEVENT
BEGIN:VEVENT
DTSTART;TZID=UTC:20261010T190000
DTEND;TZID=UTC:20261010T190000
DTSTAMP:20260420T062649
CREATED:20260326T183157Z
LAST-MODIFIED:20260420T062243Z
UID:10002834-1791658800-1791658800@elaevents.com
SUMMARY:WEEZER: The Gathering
DESCRIPTION:
URL:https://elaevents.com/event/weezer-the-gathering/
LOCATION:State Farm Arena\, Atlanta
CATEGORIES:Rock
ATTACH;FMTTYPE=image/jpeg:https://elaevents.com/wp-content/uploads/2026/03/weezer-the-gathering.jpg
END:VEVENT
BEGIN:VEVENT
DTSTART;TZID=UTC:20261014T190000
DTEND;TZID=UTC:20261014T190000
DTSTAMP:20260420T062649
CREATED:20260317T170100Z
LAST-MODIFIED:20260420T062608Z
UID:10002808-1792004400-1792004400@elaevents.com
SUMMARY:Rise Against: Ricochet 2026
DESCRIPTION:
URL:https://elaevents.com/event/rise-against-ricochet-2026/
LOCATION:Arizona Financial Theatre\, Phoenix\, az
CATEGORIES:Rock
ATTACH;FMTTYPE=image/jpeg:https://elaevents.com/wp-content/uploads/2026/03/rise-against-ricochet-2026-1-scaled.jpg
END:VEVENT
BEGIN:VEVENT
DTSTART;TZID=UTC:20261014T200000
DTEND;TZID=UTC:20261014T200000
DTSTAMP:20260420T062649
CREATED:20260225T131858Z
LAST-MODIFIED:20260320T083415Z
UID:10002673-1792008000-1792008000@elaevents.com
SUMMARY:Freya Skye - Stars Align Tour
DESCRIPTION:
URL:https://elaevents.com/event/freya-skye-stars-align-tour/
LOCATION:Hard Rock Live\, Hollywood
CATEGORIES:Pop
ATTACH;FMTTYPE=image/jpeg:https://elaevents.com/wp-content/uploads/2026/02/freya-skye-stars-align-tour.jpg
GEO:26.0534476;-80.2138684
END:VEVENT
BEGIN:VEVENT
DTSTART;TZID=UTC:20261017T200000
DTEND;TZID=UTC:20261017T200000
DTSTAMP:20260420T062649
CREATED:20260406T142332Z
LAST-MODIFIED:20260420T062243Z
UID:10002858-1792267200-1792267200@elaevents.com
SUMMARY:2026 MONSTA X WORLD TOUR [THE X : NEXUS] IN PHOENIX
DESCRIPTION:
URL:https://elaevents.com/event/2026-monsta-x-world-tour-the-x-nexus-in-phoenix/
LOCATION:Arizona Financial Theatre\, Phoenix\, az
CATEGORIES:Pop
ATTACH;FMTTYPE=image/jpeg:https://elaevents.com/wp-content/uploads/2026/04/2026-monsta-x-world-tour-the-x-nexus-in-phoenix.jpg
END:VEVENT
BEGIN:VEVENT
DTSTART;TZID=UTC:20261020T190000
DTEND;TZID=UTC:20261020T190000
DTSTAMP:20260420T062649
CREATED:20260416T141032Z
LAST-MODIFIED:20260420T062244Z
UID:10002879-1792522800-1792522800@elaevents.com
SUMMARY:Teddy Swims: The UGLY Tour
DESCRIPTION:
URL:https://elaevents.com/event/teddy-swims-the-ugly-tour/
LOCATION:State Farm Arena\, Atlanta
CATEGORIES:Pop
ATTACH;FMTTYPE=image/jpeg:https://elaevents.com/wp-content/uploads/2026/04/teddy-swims-the-ugly-tour.jpg
END:VEVENT
BEGIN:VEVENT
DTSTART;TZID=UTC:20261020T200000
DTEND;TZID=UTC:20261020T200000
DTSTAMP:20260420T062649
CREATED:20260403T224337Z
LAST-MODIFIED:20260415T185900Z
UID:10002863-1792526400-1792526400@elaevents.com
SUMMARY:The Doobie Brothers: Walk This Road Tour
DESCRIPTION:
URL:https://elaevents.com/event/the-doobie-brothers-walk-this-road-tour/
LOCATION:Hard Rock Live\, Hollywood
CATEGORIES:Rock
ATTACH;FMTTYPE=image/jpeg:https://elaevents.com/wp-content/uploads/2026/04/the-doobie-brothers-walk-this-road-tour.jpg
GEO:26.0534476;-80.2138684
END:VEVENT
BEGIN:VEVENT
DTSTART;TZID=UTC:20261021T200000
DTEND;TZID=UTC:20261021T200000
DTSTAMP:20260420T062649
CREATED:20260326T140657Z
LAST-MODIFIED:20260420T061940Z
UID:10002830-1792612800-1792612800@elaevents.com
SUMMARY:Dermot Kennedy: The Weight of the Woods Tour
DESCRIPTION:
URL:https://elaevents.com/event/dermot-kennedy-the-weight-of-the-woods-tour/
LOCATION:Arizona Financial Theatre\, Phoenix\, az
CATEGORIES:Rock
ATTACH;FMTTYPE=image/jpeg:https://elaevents.com/wp-content/uploads/2026/03/dermot-kennedy-the-weight-of-the-woods-tour-1.jpg
END:VEVENT
BEGIN:VEVENT
DTSTART;TZID=UTC:20261024T200000
DTEND;TZID=UTC:20261024T200000
DTSTAMP:20260420T062649
CREATED:20260324T152645Z
LAST-MODIFIED:20260420T061005Z
UID:10002827-1792872000-1792872000@elaevents.com
SUMMARY:Mon Laferte - Femme Fatale Tour
DESCRIPTION:
URL:https://elaevents.com/event/mon-laferte-femme-fatale-tour/
LOCATION:Arizona Financial Theatre\, Phoenix\, az
CATEGORIES:Pop
ATTACH;FMTTYPE=image/jpeg:https://elaevents.com/wp-content/uploads/2026/03/mon-laferte-femme-fatale-tour.jpg
END:VEVENT
BEGIN:VEVENT
DTSTART;TZID=UTC:20261025T200000
DTEND;TZID=UTC:20261025T200000
DTSTAMP:20260420T062649
CREATED:20260401T174629Z
LAST-MODIFIED:20260420T061119Z
UID:10002856-1792958400-1792958400@elaevents.com
SUMMARY:Johnny Blue Skies & The Dark Clouds - Mutiny For The Masses 2026 Tour
DESCRIPTION:
URL:https://elaevents.com/event/johnny-blue-skies-the-dark-clouds-mutiny-for-the-masses-2026-tour/
LOCATION:State Farm Arena\, Atlanta
CATEGORIES:Country
ATTACH;FMTTYPE=image/jpeg:https://elaevents.com/wp-content/uploads/2026/04/johnny-blue-skies-the-dark-clouds-mutiny-for-the-masses-2026-tour.jpg
END:VEVENT
BEGIN:VEVENT
DTSTART;TZID=UTC:20261029T200000
DTEND;TZID=UTC:20261029T200000
DTSTAMP:20260420T062649
CREATED:20260326T184737Z
LAST-MODIFIED:20260420T062608Z
UID:10002840-1793304000-1793304000@elaevents.com
SUMMARY:Ed Sheeran: LOOP Tour
DESCRIPTION:
URL:https://elaevents.com/event/ed-sheeran-loop-tour-2/
LOCATION:Hard Rock Live\, Hollywood
CATEGORIES:Pop
ATTACH;FMTTYPE=image/jpeg:https://elaevents.com/wp-content/uploads/2025/11/ed-sheeran-loop-tour.jpg
GEO:26.0534476;-80.2138684
END:VEVENT
BEGIN:VEVENT
DTSTART;TZID=UTC:20261030T200000
DTEND;TZID=UTC:20261030T200000
DTSTAMP:20260420T062649
CREATED:20251114T141302Z
LAST-MODIFIED:20260420T062608Z
UID:10002470-1793390400-1793390400@elaevents.com
SUMMARY:Ed Sheeran: LOOP Tour
DESCRIPTION:
URL:https://elaevents.com/event/ed-sheeran-loop-tour/
LOCATION:Hard Rock Live\, Hollywood
CATEGORIES:Pop
ATTACH;FMTTYPE=image/jpeg:https://elaevents.com/wp-content/uploads/2025/11/ed-sheeran-loop-tour.jpg
GEO:26.0534476;-80.2138684
END:VEVENT
BEGIN:VEVENT
DTSTART;TZID=UTC:20261106T200000
DTEND;TZID=UTC:20261106T200000
DTSTAMP:20260420T062649
CREATED:20260310T170631Z
LAST-MODIFIED:20260420T062137Z
UID:10002784-1793995200-1793995200@elaevents.com
SUMMARY:Daniel Tosh: My First Farewell Tour
DESCRIPTION:
URL:https://elaevents.com/event/daniel-tosh-my-first-farewell-tour/
LOCATION:Arizona Financial Theatre\, Phoenix\, az
CATEGORIES:Comedy
ATTACH;FMTTYPE=image/jpeg:https://elaevents.com/wp-content/uploads/2026/03/daniel-tosh-my-first-farewell-tour.jpg
END:VEVENT
BEGIN:VEVENT
DTSTART;TZID=UTC:20261110T200000
DTEND;TZID=UTC:20261110T200000
DTSTAMP:20260420T062649
CREATED:20260410T122257Z
LAST-MODIFIED:20260415T185308Z
UID:10002869-1794340800-1794340800@elaevents.com
SUMMARY:Il Volo LIVE IN CONCERT
DESCRIPTION:
URL:https://elaevents.com/event/il-volo-live-in-concert/
LOCATION:Hard Rock Live\, Hollywood
CATEGORIES:Classical
ATTACH;FMTTYPE=image/jpeg:https://elaevents.com/wp-content/uploads/2026/04/il-volo-live-in-concert.jpg
GEO:26.0534476;-80.2138684
END:VEVENT
BEGIN:VEVENT
DTSTART;TZID=UTC:20261111T190000
DTEND;TZID=UTC:20261111T190000
DTSTAMP:20260420T062649
CREATED:20260115T070502Z
LAST-MODIFIED:20260420T061005Z
UID:10002562-1794423600-1794423600@elaevents.com
SUMMARY:Sabaton: Legends on Tour
DESCRIPTION:
URL:https://elaevents.com/event/sabaton-legends-on-tour/
LOCATION:Arizona Financial Theatre\, Phoenix\, az
CATEGORIES:Metal
ATTACH;FMTTYPE=image/jpeg:https://elaevents.com/wp-content/uploads/2026/01/sabaton-legends-on-tour.jpg
END:VEVENT
BEGIN:VEVENT
DTSTART;TZID=UTC:20261111T190000
DTEND;TZID=UTC:20261111T190000
DTSTAMP:20260420T062649
CREATED:20260306T182351Z
LAST-MODIFIED:20260407T191450Z
UID:10002751-1794423600-1794423600@elaevents.com
SUMMARY:Sabaton PSS Parking
DESCRIPTION:
URL:https://elaevents.com/event/sabaton-pss-parking/
LOCATION:Arizona Financial Theatre\, Phoenix\, az
END:VEVENT
BEGIN:VEVENT
DTSTART;TZID=UTC:20261113T200000
DTEND;TZID=UTC:20261113T200000
DTSTAMP:20260420T062649
CREATED:20260303T150830Z
LAST-MODIFIED:20260420T062609Z
UID:10002728-1794600000-1794600000@elaevents.com
SUMMARY:Grupo Duelo - GRAVEDAD TOUR 2026
DESCRIPTION:
URL:https://elaevents.com/event/grupo-duelo-gravedad-tour-2026/
LOCATION:Arizona Financial Theatre\, Phoenix\, az
CATEGORIES:Latin
ATTACH;FMTTYPE=image/jpeg:https://elaevents.com/wp-content/uploads/2026/03/grupo-duelo-gravedad-tour-2026.jpg
END:VEVENT
BEGIN:VEVENT
DTSTART;TZID=UTC:20261115T190000
DTEND;TZID=UTC:20261115T190000
DTSTAMP:20260420T062649
CREATED:20260130T072003Z
LAST-MODIFIED:20260210T113217Z
UID:10002601-1794769200-1794769200@elaevents.com
SUMMARY:UB40 - THE UNSTOPPABLE TOUR 2026
DESCRIPTION:
URL:https://elaevents.com/event/ub40-the-unstoppable-tour-2026/
LOCATION:Hard Rock Live\, Hollywood
CATEGORIES:Reggae
ATTACH;FMTTYPE=image/jpeg:https://elaevents.com/wp-content/uploads/2026/01/ub40-the-unstoppable-tour-2026.jpg
GEO:26.0534476;-80.2138684
END:VEVENT
BEGIN:VEVENT
DTSTART;TZID=UTC:20261119T200000
DTEND;TZID=UTC:20261119T200000
DTSTAMP:20260420T062649
CREATED:20260326T183735Z
LAST-MODIFIED:20260420T061832Z
UID:10002844-1795118400-1795118400@elaevents.com
SUMMARY:Sebastian Maniscalco Live
DESCRIPTION:
URL:https://elaevents.com/event/sebastian-maniscalco-live/
LOCATION:Hard Rock Live\, Hollywood
CATEGORIES:Comedy
ATTACH;FMTTYPE=image/jpeg:https://elaevents.com/wp-content/uploads/2026/03/sebastian-maniscalco-live.jpg
GEO:26.0534476;-80.2138684
END:VEVENT
BEGIN:VEVENT
DTSTART;TZID=UTC:20261120T200000
DTEND;TZID=UTC:20261120T200000
DTSTAMP:20260420T062649
CREATED:20260326T184500Z
LAST-MODIFIED:20260420T062609Z
UID:10002849-1795204800-1795204800@elaevents.com
SUMMARY:Sebastian Maniscalco Live
DESCRIPTION:
URL:https://elaevents.com/event/sebastian-maniscalco-live-2/
LOCATION:Hard Rock Live\, Hollywood
CATEGORIES:Comedy
ATTACH;FMTTYPE=image/jpeg:https://elaevents.com/wp-content/uploads/2026/03/sebastian-maniscalco-live.jpg
GEO:26.0534476;-80.2138684
END:VEVENT
BEGIN:VEVENT
DTSTART;TZID=UTC:20261128T110000
DTEND;TZID=UTC:20261128T110000
DTSTAMP:20260420T062649
CREATED:20260309T220145Z
LAST-MODIFIED:20260309T222944Z
UID:10002775-1795863600-1795863600@elaevents.com
SUMMARY:Blueys Big Play
DESCRIPTION:
URL:https://elaevents.com/event/blueys-big-play-2/
LOCATION:Arizona Financial Theatre\, Phoenix\, az
END:VEVENT
BEGIN:VEVENT
DTSTART;TZID=UTC:20261128T110000
DTEND;TZID=UTC:20261128T110000
DTSTAMP:20260420T062649
CREATED:20260310T140928Z
LAST-MODIFIED:20260420T061623Z
UID:10002781-1795863600-1795863600@elaevents.com
SUMMARY:Bluey's Big Play
DESCRIPTION:
URL:https://elaevents.com/event/blueys-big-play-9/
LOCATION:Arizona Financial Theatre\, Phoenix\, az
CATEGORIES:Children's Theatre
ATTACH;FMTTYPE=image/jpeg:https://elaevents.com/wp-content/uploads/2026/03/blueys-big-play-5.jpg
END:VEVENT
END:VCALENDAR