BEGIN:VCALENDAR
VERSION:2.0
PRODID:-//Ela Events - ECPv6.9.0//NONSGML v1.0//EN
CALSCALE:GREGORIAN
METHOD:PUBLISH
X-WR-CALNAME:Ela Events
X-ORIGINAL-URL:https://elaevents.com
X-WR-CALDESC:Events for Ela Events
REFRESH-INTERVAL;VALUE=DURATION:PT1H
X-Robots-Tag:noindex
X-PUBLISHED-TTL:PT1H
BEGIN:VTIMEZONE
TZID:UTC
BEGIN:STANDARD
TZOFFSETFROM:+0000
TZOFFSETTO:+0000
TZNAME:UTC
DTSTART:20260101T000000
END:STANDARD
END:VTIMEZONE
BEGIN:VEVENT
DTSTART;TZID=UTC:20260806T193000
DTEND;TZID=UTC:20260806T193000
DTSTAMP:20260421T004228
CREATED:20260225T132239Z
LAST-MODIFIED:20260320T083223Z
UID:10002674-1786044600-1786044600@elaevents.com
SUMMARY:Mumford & Sons - Prizefighter Tour
DESCRIPTION:
URL:https://elaevents.com/event/mumford-sons-prizefighter-tour/
LOCATION:Hard Rock Live\, Hollywood
CATEGORIES:Rock
ATTACH;FMTTYPE=image/jpeg:https://elaevents.com/wp-content/uploads/2026/02/mumford-sons-prizefighter-tour.jpg
GEO:26.0534476;-80.2138684
END:VEVENT
BEGIN:VEVENT
DTSTART;TZID=UTC:20260807T183000
DTEND;TZID=UTC:20260807T183000
DTSTAMP:20260421T004228
CREATED:20260228T160726Z
LAST-MODIFIED:20260421T003339Z
UID:10002709-1786127400-1786127400@elaevents.com
SUMMARY:O.A.R. Three Decades Tour
DESCRIPTION:
URL:https://elaevents.com/event/o-a-r-three-decades-tour/
LOCATION:Arizona Financial Theatre\, Phoenix\, az
CATEGORIES:Rock
ATTACH;FMTTYPE=image/jpeg:https://elaevents.com/wp-content/uploads/2026/02/o-a-r-three-decades-tour.jpg
END:VEVENT
BEGIN:VEVENT
DTSTART;TZID=UTC:20260809T190000
DTEND;TZID=UTC:20260809T190000
DTSTAMP:20260421T004228
CREATED:20260403T230511Z
LAST-MODIFIED:20260420T141842Z
UID:10002866-1786302000-1786302000@elaevents.com
SUMMARY:Deep Purple with Special Guest Kansas
DESCRIPTION:
URL:https://elaevents.com/event/deep-purple-with-special-guest-kansas/
LOCATION:Hard Rock Live\, Hollywood
CATEGORIES:Rock
ATTACH;FMTTYPE=image/jpeg:https://elaevents.com/wp-content/uploads/2026/04/deep-purple-with-special-guest-kansas.jpg
GEO:26.0534476;-80.2138684
END:VEVENT
BEGIN:VEVENT
DTSTART;TZID=UTC:20260811T184500
DTEND;TZID=UTC:20260811T184500
DTSTAMP:20260421T004228
CREATED:20260228T160729Z
LAST-MODIFIED:20260421T003758Z
UID:10002687-1786473900-1786473900@elaevents.com
SUMMARY:TOTO + Christopher Cross + The Romantics
DESCRIPTION:
URL:https://elaevents.com/event/toto-christopher-cross-the-romantics/
LOCATION:Arizona Financial Theatre\, Phoenix\, az
CATEGORIES:Rock
ATTACH;FMTTYPE=image/jpeg:https://elaevents.com/wp-content/uploads/2026/02/toto-christopher-cross-the-romantics.jpg
END:VEVENT
BEGIN:VEVENT
DTSTART;TZID=UTC:20260814T200000
DTEND;TZID=UTC:20260814T200000
DTSTAMP:20260421T004228
CREATED:20260403T230510Z
LAST-MODIFIED:20260420T142055Z
UID:10002862-1786737600-1786737600@elaevents.com
SUMMARY:Jordan Davis
DESCRIPTION:
URL:https://elaevents.com/event/jordan-davis/
LOCATION:Hard Rock Live\, Hollywood
CATEGORIES:Country
ATTACH;FMTTYPE=image/jpeg:https://elaevents.com/wp-content/uploads/2025/09/jordan-davis-aint-enough-road-tour-2025.jpg
GEO:26.0534476;-80.2138684
END:VEVENT
BEGIN:VEVENT
DTSTART;TZID=UTC:20260816T190000
DTEND;TZID=UTC:20260816T190000
DTSTAMP:20260421T004228
CREATED:20260331T045059Z
LAST-MODIFIED:20260415T130359Z
UID:10002854-1786906800-1786906800@elaevents.com
SUMMARY:Atlanta Dream v Indiana Fever
DESCRIPTION:
URL:https://elaevents.com/event/atlanta-dream-v-indiana-fever-3/
LOCATION:State Farm Arena\, Atlanta
CATEGORIES:Basketball
ATTACH;FMTTYPE=image/jpeg:https://elaevents.com/wp-content/uploads/2025/05/atlanta-dream-v-indiana-fever.jpg
END:VEVENT
BEGIN:VEVENT
DTSTART;TZID=UTC:20260817T193000
DTEND;TZID=UTC:20260817T193000
DTSTAMP:20260421T004228
CREATED:20260303T151440Z
LAST-MODIFIED:20260421T004006Z
UID:10002727-1786995000-1786995000@elaevents.com
SUMMARY:The Guess Who: Takin' It Back Tour 2026
DESCRIPTION:
URL:https://elaevents.com/event/the-guess-who-takin-it-back-tour-2026/
LOCATION:Arizona Financial Theatre\, Phoenix\, az
CATEGORIES:Rock
ATTACH;FMTTYPE=image/jpeg:https://elaevents.com/wp-content/uploads/2026/03/the-guess-who-takin-it-back-tour-2026.jpg
END:VEVENT
BEGIN:VEVENT
DTSTART;TZID=UTC:20260817T193000
DTEND;TZID=UTC:20260817T193000
DTSTAMP:20260421T004228
CREATED:20260303T205133Z
LAST-MODIFIED:20260303T210017Z
UID:10002729-1786995000-1786995000@elaevents.com
SUMMARY:The Guess Who
DESCRIPTION:
URL:https://elaevents.com/event/the-guess-who/
LOCATION:Arizona Financial Theatre\, Phoenix\, az
END:VEVENT
BEGIN:VEVENT
DTSTART;TZID=UTC:20260817T193000
DTEND;TZID=UTC:20260817T193000
DTSTAMP:20260421T004228
CREATED:20260304T110134Z
LAST-MODIFIED:20260305T084723Z
UID:10002730-1786995000-1786995000@elaevents.com
SUMMARY:The Guess Who Suites
DESCRIPTION:
URL:https://elaevents.com/event/the-guess-who-suites/
LOCATION:Arizona Financial Theatre\, Phoenix\, az
END:VEVENT
BEGIN:VEVENT
DTSTART;TZID=UTC:20260820T200000
DTEND;TZID=UTC:20260820T200000
DTSTAMP:20260421T004228
CREATED:20260413T143019Z
LAST-MODIFIED:20260421T003759Z
UID:10002873-1787256000-1787256000@elaevents.com
SUMMARY:Hermanos Espinoza - LINAJE Tour
DESCRIPTION:
URL:https://elaevents.com/event/hermanos-espinoza-linaje-tour/
LOCATION:Arizona Financial Theatre\, Phoenix\, az
CATEGORIES:Latin
ATTACH;FMTTYPE=image/jpeg:https://elaevents.com/wp-content/uploads/2026/04/hermanos-espinoza-linaje-tour.jpg
END:VEVENT
BEGIN:VEVENT
DTSTART;TZID=UTC:20260822T200000
DTEND;TZID=UTC:20260822T200000
DTSTAMP:20260421T004228
CREATED:20260228T160318Z
LAST-MODIFIED:20260421T003759Z
UID:10002701-1787428800-1787428800@elaevents.com
SUMMARY:Mt. Joy 2026: Celebrating 10 Years Of Mt. Joy
DESCRIPTION:
URL:https://elaevents.com/event/mt-joy-2026-celebrating-10-years-of-mt-joy/
LOCATION:Arizona Financial Theatre\, Phoenix\, az
CATEGORIES:Folk
ATTACH;FMTTYPE=image/jpeg:https://elaevents.com/wp-content/uploads/2026/02/mt-joy-2026-celebrating-10-years-of-mt-joy.jpg
END:VEVENT
BEGIN:VEVENT
DTSTART;TZID=UTC:20260823T193000
DTEND;TZID=UTC:20260823T193000
DTSTAMP:20260421T004228
CREATED:20260228T160424Z
LAST-MODIFIED:20260421T003339Z
UID:10002702-1787513400-1787513400@elaevents.com
SUMMARY:Tori Amos: In Times of Dragons Tour
DESCRIPTION:
URL:https://elaevents.com/event/tori-amos-in-times-of-dragons-tour/
LOCATION:Arizona Financial Theatre\, Phoenix\, az
CATEGORIES:Rock
ATTACH;FMTTYPE=image/jpeg:https://elaevents.com/wp-content/uploads/2026/02/tori-amos-in-times-of-dragons-tour-scaled.jpg
END:VEVENT
BEGIN:VEVENT
DTSTART;TZID=UTC:20260825T190000
DTEND;TZID=UTC:20260825T190000
DTSTAMP:20260421T004228
CREATED:20260228T161155Z
LAST-MODIFIED:20260421T003901Z
UID:10002679-1787684400-1787684400@elaevents.com
SUMMARY:Social Distortion
DESCRIPTION:
URL:https://elaevents.com/event/social-distortion/
LOCATION:Arizona Financial Theatre\, Phoenix\, az
CATEGORIES:Rock
ATTACH;FMTTYPE=image/jpeg:https://elaevents.com/wp-content/uploads/2026/02/social-distortion.jpg
END:VEVENT
BEGIN:VEVENT
DTSTART;TZID=UTC:20260826T183000
DTEND;TZID=UTC:20260826T183000
DTSTAMP:20260421T004228
CREATED:20260228T160724Z
LAST-MODIFIED:20260421T003350Z
UID:10002690-1787769000-1787769000@elaevents.com
SUMMARY:Thee Sacred Souls\, LA LOM\, & The Womack Sisters
DESCRIPTION:
URL:https://elaevents.com/event/thee-sacred-souls-la-lom-the-womack-sisters/
LOCATION:Arizona Financial Theatre\, Phoenix\, az
CATEGORIES:R&B
ATTACH;FMTTYPE=image/jpeg:https://elaevents.com/wp-content/uploads/2026/02/thee-sacred-souls-la-lom-the-womack-sisters.jpg
END:VEVENT
END:VCALENDAR