BEGIN:VCALENDAR
VERSION:2.0
PRODID:-//Ela Events - ECPv6.9.0//NONSGML v1.0//EN
CALSCALE:GREGORIAN
METHOD:PUBLISH
X-WR-CALNAME:Ela Events
X-ORIGINAL-URL:https://elaevents.com
X-WR-CALDESC:Events for Ela Events
REFRESH-INTERVAL;VALUE=DURATION:PT1H
X-Robots-Tag:noindex
X-PUBLISHED-TTL:PT1H
BEGIN:VTIMEZONE
TZID:UTC
BEGIN:STANDARD
TZOFFSETFROM:+0000
TZOFFSETTO:+0000
TZNAME:UTC
DTSTART:20260101T000000
END:STANDARD
END:VTIMEZONE
BEGIN:VEVENT
DTSTART;TZID=UTC:20260701T200000
DTEND;TZID=UTC:20260701T200000
DTSTAMP:20260420T215331
CREATED:20260403T225830Z
LAST-MODIFIED:20260420T142054Z
UID:10002864-1782936000-1782936000@elaevents.com
SUMMARY:RATONES PARANOICOS - Edición Mundial
DESCRIPTION:
URL:https://elaevents.com/event/ratones-paranoicos-edicion-mundial/
LOCATION:Hard Rock Live\, Hollywood
CATEGORIES:Latin
ATTACH;FMTTYPE=image/jpeg:https://elaevents.com/wp-content/uploads/2026/04/ratones-paranoicos-edicion-mundial.jpg
GEO:26.0534476;-80.2138684
END:VEVENT
BEGIN:VEVENT
DTSTART;TZID=UTC:20260702T193000
DTEND;TZID=UTC:20260702T200000
DTSTAMP:20260420T215331
CREATED:20260114T180931Z
LAST-MODIFIED:20260202T001525Z
UID:10002574-1783020600-1783022400@elaevents.com
SUMMARY:Madison Beer: the locket tour
DESCRIPTION:
URL:https://elaevents.com/event/madison-beer-the-locket-tour/
LOCATION:Hard Rock Live\, Hollywood
CATEGORIES:Pop
ATTACH;FMTTYPE=image/jpeg:https://elaevents.com/wp-content/uploads/2026/01/madison-beer-the-locket-tour.jpg
GEO:26.0534476;-80.2138684
END:VEVENT
BEGIN:VEVENT
DTSTART;TZID=UTC:20260710T200000
DTEND;TZID=UTC:20260710T200000
DTSTAMP:20260420T215331
CREATED:20260326T184025Z
LAST-MODIFIED:20260420T215255Z
UID:10002839-1783713600-1783713600@elaevents.com
SUMMARY:Gabriel Fluffy Iglesias Live
DESCRIPTION:
URL:https://elaevents.com/event/gabriel-fluffy-iglesias-live-3/
LOCATION:Hard Rock Live\, Hollywood
CATEGORIES:Comedy
ATTACH;FMTTYPE=image/jpeg:https://elaevents.com/wp-content/uploads/2026/03/gabriel-iglesias-the-1976-tour.jpg
GEO:26.0534476;-80.2138684
END:VEVENT
BEGIN:VEVENT
DTSTART;TZID=UTC:20260712T193000
DTEND;TZID=UTC:20260712T193000
DTSTAMP:20260420T215331
CREATED:20260127T090459Z
LAST-MODIFIED:20260420T214848Z
UID:10002600-1783884600-1783884600@elaevents.com
SUMMARY:BRIT FLOYD - The Moon\, The Wall and Beyond
DESCRIPTION:
URL:https://elaevents.com/event/brit-floyd-the-moon-the-wall-and-beyond/
LOCATION:Arizona Financial Theatre\, Phoenix\, az
CATEGORIES:Rock
ATTACH;FMTTYPE=image/jpeg:https://elaevents.com/wp-content/uploads/2026/01/brit-floyd-the-moon-the-wall-and-beyond.jpg
END:VEVENT
BEGIN:VEVENT
DTSTART;TZID=UTC:20260714T183000
DTEND;TZID=UTC:20260714T183000
DTSTAMP:20260420T215331
CREATED:20260228T160422Z
LAST-MODIFIED:20260420T215057Z
UID:10002696-1784053800-1784053800@elaevents.com
SUMMARY:Young the Giant - Victory Garden Tour with Cold War Kids
DESCRIPTION:
URL:https://elaevents.com/event/young-the-giant-victory-garden-tour-with-cold-war-kids/
LOCATION:Arizona Financial Theatre\, Phoenix\, az
CATEGORIES:Rock
ATTACH;FMTTYPE=image/jpeg:https://elaevents.com/wp-content/uploads/2026/02/young-the-giant-victory-garden-tour-with-cold-war-kids.jpg
END:VEVENT
BEGIN:VEVENT
DTSTART;TZID=UTC:20260723T190000
DTEND;TZID=UTC:20260723T190000
DTSTAMP:20260420T215331
CREATED:20260228T160317Z
LAST-MODIFIED:20260420T215255Z
UID:10002688-1784833200-1784833200@elaevents.com
SUMMARY:Darius Rucker: Songs Of Summer Tour 2026
DESCRIPTION:
URL:https://elaevents.com/event/darius-rucker-songs-of-summer-tour-2026/
LOCATION:Arizona Financial Theatre\, Phoenix\, az
CATEGORIES:Country
ATTACH;FMTTYPE=image/jpeg:https://elaevents.com/wp-content/uploads/2025/06/darius-rucker-scaled.jpg
END:VEVENT
BEGIN:VEVENT
DTSTART;TZID=UTC:20260724T193000
DTEND;TZID=UTC:20260724T193000
DTSTAMP:20260420T215331
CREATED:20260130T071755Z
LAST-MODIFIED:20260210T113427Z
UID:10002605-1784921400-1784921400@elaevents.com
SUMMARY:Lionel Richie and Earth\, Wind & Fire - Sing a Song All Night Long
DESCRIPTION:
URL:https://elaevents.com/event/lionel-richie-and-earth-wind-fire-sing-a-song-all-night-long/
LOCATION:Hard Rock Live\, Hollywood
CATEGORIES:Pop
ATTACH;FMTTYPE=image/jpeg:https://elaevents.com/wp-content/uploads/2026/01/lionel-richie-and-earth-wind-fire-sing-a-song-all-night-long.jpg
GEO:26.0534476;-80.2138684
END:VEVENT
BEGIN:VEVENT
DTSTART;TZID=UTC:20260724T200000
DTEND;TZID=UTC:20260724T200000
DTSTAMP:20260420T215331
CREATED:20260323T150004Z
LAST-MODIFIED:20260420T213253Z
UID:10002825-1784923200-1784923200@elaevents.com
SUMMARY:Ca7riel & Paco Amoroso: FREE SPIRITS WORLD TOUR
DESCRIPTION:
URL:https://elaevents.com/event/ca7riel-paco-amoroso-free-spirits-world-tour/
LOCATION:Arizona Financial Theatre\, Phoenix\, az
CATEGORIES:Latin
ATTACH;FMTTYPE=image/jpeg:https://elaevents.com/wp-content/uploads/2026/03/ca7riel-paco-amoroso-free-spirits-world-tour.jpg
END:VEVENT
BEGIN:VEVENT
DTSTART;TZID=UTC:20260724T200000
DTEND;TZID=UTC:20260724T200000
DTSTAMP:20260420T215331
CREATED:20260323T224121Z
LAST-MODIFIED:20260323T231613Z
UID:10002826-1784923200-1784923200@elaevents.com
SUMMARY:CA7RIEL & Paco Amoroso
DESCRIPTION:
URL:https://elaevents.com/event/ca7riel-paco-amoroso/
LOCATION:Arizona Financial Theatre\, Phoenix\, az
END:VEVENT
BEGIN:VEVENT
DTSTART;TZID=UTC:20260725T200000
DTEND;TZID=UTC:20260725T200000
DTSTAMP:20260420T215331
CREATED:20260403T225042Z
LAST-MODIFIED:20260420T141950Z
UID:10002865-1785009600-1785009600@elaevents.com
SUMMARY:Disturbed
DESCRIPTION:
URL:https://elaevents.com/event/disturbed/
LOCATION:Hard Rock Live\, Hollywood
CATEGORIES:Metal
ATTACH;FMTTYPE=image/jpeg:https://elaevents.com/wp-content/uploads/2026/04/disturbed.jpg
GEO:26.0534476;-80.2138684
END:VEVENT
BEGIN:VEVENT
DTSTART;TZID=UTC:20260727T190000
DTEND;TZID=UTC:20260727T190000
DTSTAMP:20260420T215331
CREATED:20260127T090611Z
LAST-MODIFIED:20260420T215057Z
UID:10002598-1785178800-1785178800@elaevents.com
SUMMARY:The Fray - Summer of Light Tour with Dashboard Confessional
DESCRIPTION:
URL:https://elaevents.com/event/the-fray-summer-of-light-tour-with-dashboard-confessional/
LOCATION:Arizona Financial Theatre\, Phoenix\, az
CATEGORIES:Rock
ATTACH;FMTTYPE=image/jpeg:https://elaevents.com/wp-content/uploads/2026/01/the-fray-summer-of-light-tour-with-dashboard-confessional.jpg
END:VEVENT
BEGIN:VEVENT
DTSTART;TZID=UTC:20260728T193000
DTEND;TZID=UTC:20260728T193000
DTSTAMP:20260420T215331
CREATED:20260228T161157Z
LAST-MODIFIED:20260420T214847Z
UID:10002689-1785267000-1785267000@elaevents.com
SUMMARY:LINDSEY STIRLING - DUALITY UNTAMED TOUR
DESCRIPTION:
URL:https://elaevents.com/event/lindsey-stirling-duality-untamed-tour/
LOCATION:Arizona Financial Theatre\, Phoenix\, az
CATEGORIES:Rock
ATTACH;FMTTYPE=image/jpeg:https://elaevents.com/wp-content/uploads/2026/02/lindsey-stirling-duality-untamed-tour.jpg
END:VEVENT
BEGIN:VEVENT
DTSTART;TZID=UTC:20260731T200000
DTEND;TZID=UTC:20260731T200000
DTSTAMP:20260420T215331
CREATED:20260127T090318Z
LAST-MODIFIED:20260420T214954Z
UID:10002599-1785528000-1785528000@elaevents.com
SUMMARY:Death Cab for Cutie
DESCRIPTION:
URL:https://elaevents.com/event/death-cab-for-cutie/
LOCATION:Arizona Financial Theatre\, Phoenix\, az
CATEGORIES:Rock
ATTACH;FMTTYPE=image/jpeg:https://elaevents.com/wp-content/uploads/2026/01/death-cab-for-cutie.jpg
END:VEVENT
END:VCALENDAR