BEGIN:VCALENDAR
VERSION:2.0
PRODID:-//Ela Events - ECPv6.9.0//NONSGML v1.0//EN
CALSCALE:GREGORIAN
METHOD:PUBLISH
X-WR-CALNAME:Ela Events
X-ORIGINAL-URL:https://elaevents.com
X-WR-CALDESC:Events for Ela Events
REFRESH-INTERVAL;VALUE=DURATION:PT1H
X-Robots-Tag:noindex
X-PUBLISHED-TTL:PT1H
BEGIN:VTIMEZONE
TZID:UTC
BEGIN:STANDARD
TZOFFSETFROM:+0000
TZOFFSETTO:+0000
TZNAME:UTC
DTSTART:20250101T000000
END:STANDARD
TZID:America/New_York
BEGIN:DAYLIGHT
TZOFFSETFROM:-0500
TZOFFSETTO:-0400
TZNAME:EDT
DTSTART:20250309T070000
END:DAYLIGHT
BEGIN:STANDARD
TZOFFSETFROM:-0400
TZOFFSETTO:-0500
TZNAME:EST
DTSTART:20251102T060000
END:STANDARD
END:VTIMEZONE
BEGIN:VEVENT
DTSTART;TZID=UTC:20250928T190000
DTEND;TZID=UTC:20250928T190000
DTSTAMP:20260420T014422
CREATED:20250921T043920Z
LAST-MODIFIED:20250929T040220Z
UID:10002371-1759086000-1759086000@elaevents.com
SUMMARY:Alison Krauss & Union Station Featuring Jerry Douglas
DESCRIPTION:
URL:https://elaevents.com/event/alison-krauss-union-station-featuring-jerry-douglas-2/
LOCATION:Hard Rock Live\, Hollywood
CATEGORIES:Folk
ATTACH;FMTTYPE=image/jpeg:https://elaevents.com/wp-content/uploads/2025/09/alison-krauss-union-station-featuring-jerry-douglas-2.jpg
GEO:26.0534476;-80.2138684
END:VEVENT
BEGIN:VEVENT
DTSTART;TZID=UTC:20250927T190000
DTEND;TZID=UTC:20250927T190000
DTSTAMP:20260420T014422
CREATED:20250920T080459Z
LAST-MODIFIED:20250928T075840Z
UID:10002369-1758999600-1758999600@elaevents.com
SUMMARY:Mudvayne: L.D. 50 25th Anniversary Tour
DESCRIPTION:
URL:https://elaevents.com/event/mudvayne-l-d-50-25th-anniversary-tour/
LOCATION:Arizona Financial Theatre\, Phoenix\, az
CATEGORIES:Rock
ATTACH;FMTTYPE=image/jpeg:https://elaevents.com/wp-content/uploads/2025/09/mudvayne-l-d-50-25th-anniversary-tour.jpg
END:VEVENT
BEGIN:VEVENT
DTSTART;TZID=UTC:20250926T200000
DTEND;TZID=UTC:20250926T200000
DTSTAMP:20260420T014422
CREATED:20250920T054034Z
LAST-MODIFIED:20250927T043115Z
UID:10002368-1758916800-1758916800@elaevents.com
SUMMARY:Shane Gillis Live
DESCRIPTION:
URL:https://elaevents.com/event/shane-gillis-live-2/
LOCATION:Hard Rock Live\, Hollywood
CATEGORIES:Comedy
ATTACH;FMTTYPE=image/jpeg:https://elaevents.com/wp-content/uploads/2025/09/shane-gillis-live.jpg
GEO:26.0534476;-80.2138684
END:VEVENT
BEGIN:VEVENT
DTSTART;TZID=UTC:20250926T200000
DTEND;TZID=UTC:20250926T200000
DTSTAMP:20260420T014422
CREATED:20250914T142139Z
LAST-MODIFIED:20250927T085809Z
UID:10002365-1758916800-1758916800@elaevents.com
SUMMARY:Air Play Moon Safari
DESCRIPTION:
URL:https://elaevents.com/event/air-play-moon-safari/
LOCATION:Arizona Financial Theatre\, Phoenix\, az
CATEGORIES:Dance/Electronic
ATTACH;FMTTYPE=image/jpeg:https://elaevents.com/wp-content/uploads/2025/09/air-play-moon-safari.jpg
END:VEVENT
BEGIN:VEVENT
DTSTART;TZID=UTC:20250925T200000
DTEND;TZID=UTC:20250925T200000
DTSTAMP:20260420T014422
CREATED:20250919T041411Z
LAST-MODIFIED:20250926T042604Z
UID:10002367-1758830400-1758830400@elaevents.com
SUMMARY:Shane Gillis Live
DESCRIPTION:
URL:https://elaevents.com/event/shane-gillis-live/
LOCATION:Hard Rock Live\, Hollywood
CATEGORIES:Comedy
ATTACH;FMTTYPE=image/jpeg:https://elaevents.com/wp-content/uploads/2025/09/shane-gillis-live.jpg
GEO:26.0534476;-80.2138684
END:VEVENT
BEGIN:VEVENT
DTSTART;TZID=UTC:20250925T200000
DTEND;TZID=UTC:20250925T200000
DTSTAMP:20260420T014422
CREATED:20250913T093429Z
LAST-MODIFIED:20250926T090518Z
UID:10002362-1758830400-1758830400@elaevents.com
SUMMARY:Aminé - Tour de Dance 2025 with Lido
DESCRIPTION:
URL:https://elaevents.com/event/amine-tour-de-dance-2025-with-lido/
LOCATION:Arizona Financial Theatre\, Phoenix\, az
CATEGORIES:Hip-Hop/Rap
ATTACH;FMTTYPE=image/png:https://elaevents.com/wp-content/uploads/2025/09/amine-tour-de-dance-2025-with-lido.png
END:VEVENT
BEGIN:VEVENT
DTSTART;TZID=UTC:20250924T200000
DTEND;TZID=UTC:20250924T200000
DTSTAMP:20260420T014422
CREATED:20250602T222610Z
LAST-MODIFIED:20250925T040048Z
UID:10002221-1758744000-1758744000@elaevents.com
SUMMARY:Nate Bargatze: Big Dumb Eyes World Tour
DESCRIPTION:
URL:https://elaevents.com/event/nate-bargatze-big-dumb-eyes-world-tour-3/
LOCATION:Hard Rock Live\, Hollywood
CATEGORIES:Comedy
ATTACH;FMTTYPE=image/jpeg:https://elaevents.com/wp-content/uploads/2025/05/nate-bargatze-big-dumb-eyes-world-tour.jpg
GEO:26.0534476;-80.2138684
END:VEVENT
BEGIN:VEVENT
DTSTART;TZID=UTC:20250923T200000
DTEND;TZID=UTC:20250923T200000
DTSTAMP:20260420T014422
CREATED:20250914T044305Z
LAST-MODIFIED:20250924T040715Z
UID:10002363-1758657600-1758657600@elaevents.com
SUMMARY:Jimmy Carr: Laughs Funny
DESCRIPTION:
URL:https://elaevents.com/event/jimmy-carr-laughs-funny/
LOCATION:Hard Rock Live\, Hollywood
CATEGORIES:Comedy
ATTACH;FMTTYPE=image/jpeg:https://elaevents.com/wp-content/uploads/2025/09/jimmy-carr-laughs-funny.jpg
GEO:26.0534476;-80.2138684
END:VEVENT
BEGIN:VEVENT
DTSTART;TZID=UTC:20250923T200000
DTEND;TZID=UTC:20250923T200000
DTSTAMP:20260420T014422
CREATED:20250912T083610Z
LAST-MODIFIED:20250924T085742Z
UID:10002359-1758657600-1758657600@elaevents.com
SUMMARY:Magdalena Bay: Imaginal Mystery Tour
DESCRIPTION:
URL:https://elaevents.com/event/magdalena-bay-imaginal-mystery-tour/
LOCATION:Arizona Financial Theatre\, Phoenix\, az
CATEGORIES:Pop
ATTACH;FMTTYPE=image/jpeg:https://elaevents.com/wp-content/uploads/2025/09/magdalena-bay-imaginal-mystery-tour.jpg
END:VEVENT
BEGIN:VEVENT
DTSTART;TZID=UTC:20250922T200000
DTEND;TZID=UTC:20250922T200000
DTSTAMP:20260420T014422
CREATED:20250913T040920Z
LAST-MODIFIED:20250923T043535Z
UID:10002361-1758571200-1758571200@elaevents.com
SUMMARY:Conan Gray: The Wishbone Pajama Show w/ special guest hemlocke springs
DESCRIPTION:
URL:https://elaevents.com/event/conan-gray-the-wishbone-pajama-show-w-special-guest-hemlocke-springs/
LOCATION:Hard Rock Live\, Hollywood
CATEGORIES:Pop
ATTACH;FMTTYPE=image/jpeg:https://elaevents.com/wp-content/uploads/2025/09/conan-gray-the-wishbone-pajama-show-w-special-guest-hemlocke-springs.jpg
GEO:26.0534476;-80.2138684
END:VEVENT
BEGIN:VEVENT
DTSTART;TZID=America/New_York:20250921T220000
DTEND;TZID=America/New_York:20250922T030000
DTSTAMP:20260420T014422
CREATED:20241108T072021Z
LAST-MODIFIED:20241108T072021Z
UID:10000089-1758492000-1758510000@elaevents.com
SUMMARY:SOIREE SUNDAYS AT MELA LOUNGE (LADIES FREE ALL NIGHT)
DESCRIPTION:Come party with us at Mela Lounge every Sunday for Soiree Sundays – ladies get in free all night long!
URL:https://elaevents.com/event/soiree-sundays-at-mela-lounge-ladies-free-all-night-46/
LOCATION:Mela Bar & Lounge\, 1359 Clairmont Road\, Decatur\, GA 30033\, Decatur\, GA\, 30033\, US
GEO:33.7925418;-84.3049631
X-APPLE-STRUCTURED-LOCATION;VALUE=URI;X-ADDRESS=Mela Bar & Lounge 1359 Clairmont Road Decatur GA 30033 Decatur GA 30033 US;X-APPLE-RADIUS=500;X-TITLE=1359 Clairmont Road\, Decatur\, GA 30033:geo:-84.3049631,33.7925418
END:VEVENT
BEGIN:VEVENT
DTSTART;TZID=UTC:20250921T200000
DTEND;TZID=UTC:20250921T200000
DTSTAMP:20260420T014422
CREATED:20250907T050402Z
LAST-MODIFIED:20250922T043136Z
UID:10002347-1758484800-1758484800@elaevents.com
SUMMARY:Al Green
DESCRIPTION:
URL:https://elaevents.com/event/al-green/
LOCATION:Hard Rock Live\, Hollywood
CATEGORIES:R&B
ATTACH;FMTTYPE=image/jpeg:https://elaevents.com/wp-content/uploads/2025/09/al-green.jpg
GEO:26.0534476;-80.2138684
END:VEVENT
BEGIN:VEVENT
DTSTART;TZID=UTC:20250921T190000
DTEND;TZID=UTC:20250921T190000
DTSTAMP:20260420T014422
CREATED:20250911T084222Z
LAST-MODIFIED:20250922T075931Z
UID:10002357-1758481200-1758481200@elaevents.com
SUMMARY:Chevelle with special guests Asking Alexandria and Dead Poet Society
DESCRIPTION:
URL:https://elaevents.com/event/chevelle-with-special-guests-asking-alexandria-and-dead-poet-society/
LOCATION:Arizona Financial Theatre\, Phoenix\, az
CATEGORIES:Rock
ATTACH;FMTTYPE=image/jpeg:https://elaevents.com/wp-content/uploads/2025/09/chevelle-with-special-guests-asking-alexandria-and-dead-poet-society.jpg
END:VEVENT
BEGIN:VEVENT
DTSTART;TZID=UTC:20250920T200000
DTEND;TZID=UTC:20250920T200000
DTSTAMP:20260420T014422
CREATED:20250907T042747Z
LAST-MODIFIED:20250921T042610Z
UID:10002346-1758398400-1758398400@elaevents.com
SUMMARY:Hector Acosta ft. Zacarias Ferreira
DESCRIPTION:
URL:https://elaevents.com/event/hector-acosta-ft-zacarias-ferreira/
LOCATION:Hard Rock Live\, Hollywood
CATEGORIES:Latin
ATTACH;FMTTYPE=image/jpeg:https://elaevents.com/wp-content/uploads/2025/09/hector-acosta-ft-zacarias-ferreira.jpg
GEO:26.0534476;-80.2138684
END:VEVENT
BEGIN:VEVENT
DTSTART;TZID=UTC:20250919T203000
DTEND;TZID=UTC:20250919T203000
DTSTAMP:20260420T014422
CREATED:20250830T043657Z
LAST-MODIFIED:20250920T052845Z
UID:10002334-1758313800-1758313800@elaevents.com
SUMMARY:Noches De Neon con Bacilos
DESCRIPTION:
URL:https://elaevents.com/event/noches-de-neon-con-bacilos/
LOCATION:Hard Rock Live\, Hollywood
CATEGORIES:Latin
GEO:26.0534476;-80.2138684
END:VEVENT
BEGIN:VEVENT
DTSTART;TZID=UTC:20250919T200000
DTEND;TZID=UTC:20250919T200000
DTSTAMP:20260420T014422
CREATED:20250906T043715Z
LAST-MODIFIED:20250916T163333Z
UID:10002343-1758312000-1758312000@elaevents.com
SUMMARY:Jimmy O. Yang: Big & Tall Tour
DESCRIPTION:
URL:https://elaevents.com/event/jimmy-o-yang-big-tall-tour/
LOCATION:Hard Rock Live\, Hollywood
CATEGORIES:Comedy
ATTACH;FMTTYPE=image/jpeg:https://elaevents.com/wp-content/uploads/2025/09/jimmy-o-yang-big-tall-tour.jpg
GEO:26.0534476;-80.2138684
END:VEVENT
BEGIN:VEVENT
DTSTART;TZID=UTC:20250919T190000
DTEND;TZID=UTC:20250919T190000
DTSTAMP:20260420T014422
CREATED:20250906T070941Z
LAST-MODIFIED:20250920T075921Z
UID:10002344-1758308400-1758308400@elaevents.com
SUMMARY:Jordan Davis: Ain't Enough Road Tour 2025
DESCRIPTION:
URL:https://elaevents.com/event/jordan-davis-aint-enough-road-tour-2025/
LOCATION:Arizona Financial Theatre\, Phoenix\, az
CATEGORIES:Country
ATTACH;FMTTYPE=image/jpeg:https://elaevents.com/wp-content/uploads/2025/09/jordan-davis-aint-enough-road-tour-2025.jpg
END:VEVENT
BEGIN:VEVENT
DTSTART;TZID=UTC:20250918T193000
DTEND;TZID=UTC:20250918T193000
DTSTAMP:20260420T014422
CREATED:20250829T042351Z
LAST-MODIFIED:20250919T035018Z
UID:10002332-1758223800-1758223800@elaevents.com
SUMMARY:Cage The Elephant
DESCRIPTION:
URL:https://elaevents.com/event/cage-the-elephant/
LOCATION:Hard Rock Live\, Hollywood
CATEGORIES:Rock
ATTACH;FMTTYPE=image/jpeg:https://elaevents.com/wp-content/uploads/2025/08/cage-the-elephant.jpg
GEO:26.0534476;-80.2138684
END:VEVENT
BEGIN:VEVENT
DTSTART;TZID=America/New_York:20250914T220000
DTEND;TZID=America/New_York:20250915T030000
DTSTAMP:20260420T014422
CREATED:20241108T072020Z
LAST-MODIFIED:20241108T072020Z
UID:10000088-1757887200-1757905200@elaevents.com
SUMMARY:SOIREE SUNDAYS AT MELA LOUNGE (LADIES FREE ALL NIGHT)
DESCRIPTION:Come party with us at Mela Lounge every Sunday for Soiree Sundays – ladies get in free all night long!
URL:https://elaevents.com/event/soiree-sundays-at-mela-lounge-ladies-free-all-night-45/
LOCATION:Mela Bar & Lounge\, 1359 Clairmont Road\, Decatur\, GA 30033\, Decatur\, GA\, 30033\, US
GEO:33.7925418;-84.3049631
X-APPLE-STRUCTURED-LOCATION;VALUE=URI;X-ADDRESS=Mela Bar & Lounge 1359 Clairmont Road Decatur GA 30033 Decatur GA 30033 US;X-APPLE-RADIUS=500;X-TITLE=1359 Clairmont Road\, Decatur\, GA 30033:geo:-84.3049631,33.7925418
END:VEVENT
BEGIN:VEVENT
DTSTART;TZID=UTC:20250914T193000
DTEND;TZID=UTC:20250914T193000
DTSTAMP:20260420T014422
CREATED:20250124T060916Z
LAST-MODIFIED:20250814T191123Z
UID:10001564-1757878200-1757878200@elaevents.com
SUMMARY:Dua Lipa - Radical Optimism Tour
DESCRIPTION:
URL:https://elaevents.com/event/dua-lipa-radical-optimism-tour-2/
LOCATION:State Farm Arena\, Atlanta
CATEGORIES:Rock
ATTACH;FMTTYPE=image/jpeg:https://elaevents.com/wp-content/uploads/2025/01/dua-lipa-radical-optimism-tour-1.jpg
END:VEVENT
BEGIN:VEVENT
DTSTART;TZID=UTC:20250914T183000
DTEND;TZID=UTC:20250914T183000
DTSTAMP:20260420T014422
CREATED:20250428T182851Z
LAST-MODIFIED:20250914T140708Z
UID:10002182-1757874600-1757874600@elaevents.com
SUMMARY:Coheed and Cambria * Taking Back Sunday
DESCRIPTION:
URL:https://elaevents.com/event/coheed-and-cambria-taking-back-sunday/
LOCATION:Arizona Financial Theatre\, Phoenix\, az
CATEGORIES:Rock
ATTACH;FMTTYPE=image/jpeg:https://elaevents.com/wp-content/uploads/2025/04/coheed-and-cambria-taking-back-sunday-1.jpg
END:VEVENT
BEGIN:VEVENT
DTSTART;TZID=UTC:20250913T200000
DTEND;TZID=UTC:20250913T200000
DTSTAMP:20260420T014422
CREATED:20250827T044719Z
LAST-MODIFIED:20250914T042556Z
UID:10002331-1757793600-1757793600@elaevents.com
SUMMARY:Tim McGraw
DESCRIPTION:
URL:https://elaevents.com/event/tim-mcgraw/
LOCATION:Hard Rock Live\, Hollywood
CATEGORIES:Country
ATTACH;FMTTYPE=image/jpeg:https://elaevents.com/wp-content/uploads/2025/08/tim-mcgraw-scaled.jpg
GEO:26.0534476;-80.2138684
END:VEVENT
BEGIN:VEVENT
DTSTART;TZID=UTC:20250913T193000
DTEND;TZID=UTC:20250913T193000
DTSTAMP:20260420T014422
CREATED:20250115T055725Z
LAST-MODIFIED:20250814T191123Z
UID:10001563-1757791800-1757791800@elaevents.com
SUMMARY:Dua Lipa - Radical Optimism Tour
DESCRIPTION:
URL:https://elaevents.com/event/dua-lipa-radical-optimism-tour/
LOCATION:State Farm Arena\, Atlanta
CATEGORIES:Rock
ATTACH;FMTTYPE=image/jpeg:https://elaevents.com/wp-content/uploads/2025/01/dua-lipa-radical-optimism-tour-1.jpg
END:VEVENT
BEGIN:VEVENT
DTSTART;TZID=UTC:20250912T203000
DTEND;TZID=UTC:20250912T203000
DTSTAMP:20260420T014422
CREATED:20250901T083609Z
LAST-MODIFIED:20250913T092912Z
UID:10002338-1757709000-1757709000@elaevents.com
SUMMARY:Alejandro Fernández: de Rey a Rey
DESCRIPTION:
URL:https://elaevents.com/event/alejandro-fernandez-de-rey-a-rey/
LOCATION:Arizona Financial Theatre\, Phoenix\, az
CATEGORIES:Latin
ATTACH;FMTTYPE=image/jpeg:https://elaevents.com/wp-content/uploads/2025/09/alejandro-fernandez-de-rey-a-rey.jpg
END:VEVENT
BEGIN:VEVENT
DTSTART;TZID=UTC:20250912T190000
DTEND;TZID=UTC:20250912T190000
DTSTAMP:20260420T014422
CREATED:20250825T042500Z
LAST-MODIFIED:20250913T035721Z
UID:10002324-1757703600-1757703600@elaevents.com
SUMMARY:BKFC 80
DESCRIPTION:
URL:https://elaevents.com/event/bkfc-80/
LOCATION:Hard Rock Live\, Hollywood
CATEGORIES:Martial Arts
ATTACH;FMTTYPE=image/jpeg:https://elaevents.com/wp-content/uploads/2025/06/bkfc-hollywood-2.jpg
GEO:26.0534476;-80.2138684
END:VEVENT
BEGIN:VEVENT
DTSTART;TZID=UTC:20250911T193000
DTEND;TZID=UTC:20250911T193000
DTSTAMP:20260420T014422
CREATED:20250428T182355Z
LAST-MODIFIED:20250912T081858Z
UID:10002336-1757619000-1757619000@elaevents.com
SUMMARY:LUCY DACUS - FOREVER IS A FEELING TOUR
DESCRIPTION:
URL:https://elaevents.com/event/lucy-dacus-forever-is-a-feeling-tour/
LOCATION:Arizona Financial Theatre\, Phoenix\, az
CATEGORIES:Rock
END:VEVENT
BEGIN:VEVENT
DTSTART;TZID=UTC:20250910T193000
DTEND;TZID=UTC:20250910T193000
DTSTAMP:20260420T014422
CREATED:20250428T182848Z
LAST-MODIFIED:20250911T083356Z
UID:10002180-1757532600-1757532600@elaevents.com
SUMMARY:Kolohe Kai - What Aloha Means (Album Release Summer Tour 2025)
DESCRIPTION:
URL:https://elaevents.com/event/kolohe-kai-what-aloha-means-album-release-summer-tour-2025/
LOCATION:Arizona Financial Theatre\, Phoenix\, az
CATEGORIES:World
ATTACH;FMTTYPE=image/jpeg:https://elaevents.com/wp-content/uploads/2025/04/kolohe-kai-what-aloha-means-album-release-summer-tour-2025.jpg
END:VEVENT
BEGIN:VEVENT
DTSTART;TZID=America/New_York:20250907T220000
DTEND;TZID=America/New_York:20250908T030000
DTSTAMP:20260420T014422
CREATED:20241108T072020Z
LAST-MODIFIED:20241108T072020Z
UID:10000087-1757282400-1757300400@elaevents.com
SUMMARY:SOIREE SUNDAYS AT MELA LOUNGE (LADIES FREE ALL NIGHT)
DESCRIPTION:Come party with us at Mela Lounge every Sunday for Soiree Sundays – ladies get in free all night long!
URL:https://elaevents.com/event/soiree-sundays-at-mela-lounge-ladies-free-all-night-44/
LOCATION:Mela Bar & Lounge\, 1359 Clairmont Road\, Decatur\, GA 30033\, Decatur\, GA\, 30033\, US
GEO:33.7925418;-84.3049631
X-APPLE-STRUCTURED-LOCATION;VALUE=URI;X-ADDRESS=Mela Bar & Lounge 1359 Clairmont Road Decatur GA 30033 Decatur GA 30033 US;X-APPLE-RADIUS=500;X-TITLE=1359 Clairmont Road\, Decatur\, GA 30033:geo:-84.3049631,33.7925418
END:VEVENT
BEGIN:VEVENT
DTSTART;TZID=UTC:20250906T200000
DTEND;TZID=UTC:20250906T200000
DTSTAMP:20260420T014422
CREATED:20250824T043406Z
LAST-MODIFIED:20250907T041556Z
UID:10002322-1757188800-1757188800@elaevents.com
SUMMARY:Joey Diaz: 62 & Still Slinging
DESCRIPTION:
URL:https://elaevents.com/event/joey-diaz-62-still-slinging/
LOCATION:Hard Rock Live\, Hollywood
CATEGORIES:Comedy
ATTACH;FMTTYPE=image/jpeg:https://elaevents.com/wp-content/uploads/2025/08/joey-diaz-62-still-slinging.jpg
GEO:26.0534476;-80.2138684
END:VEVENT
BEGIN:VEVENT
DTSTART;TZID=UTC:20250906T200000
DTEND;TZID=UTC:20250906T200000
DTSTAMP:20260420T014422
CREATED:20250823T055210Z
LAST-MODIFIED:20250907T045425Z
UID:10002320-1757188800-1757188800@elaevents.com
SUMMARY:Miami Dolphins Kickoff Celebration at Guitar Hotel Pool
DESCRIPTION:
URL:https://elaevents.com/event/miami-dolphins-kickoff-celebration-at-guitar-hotel-pool/
LOCATION:Hard Rock Live\, Hollywood
CATEGORIES:Fairs & Festivals
ATTACH;FMTTYPE=image/jpeg:https://elaevents.com/wp-content/uploads/2025/08/miami-dolphins-kickoff-celebration-at-guitar-hotel-pool.jpg
GEO:26.0534476;-80.2138684
END:VEVENT
END:VCALENDAR