BEGIN:VCALENDAR
VERSION:2.0
PRODID:-//Ela Events - ECPv6.9.0//NONSGML v1.0//EN
CALSCALE:GREGORIAN
METHOD:PUBLISH
X-WR-CALNAME:Ela Events
X-ORIGINAL-URL:https://elaevents.com
X-WR-CALDESC:Events for Ela Events
REFRESH-INTERVAL;VALUE=DURATION:PT1H
X-Robots-Tag:noindex
X-PUBLISHED-TTL:PT1H
BEGIN:VTIMEZONE
TZID:UTC
BEGIN:STANDARD
TZOFFSETFROM:+0000
TZOFFSETTO:+0000
TZNAME:UTC
DTSTART:20250101T000000
END:STANDARD
TZID:America/New_York
BEGIN:DAYLIGHT
TZOFFSETFROM:-0500
TZOFFSETTO:-0400
TZNAME:EDT
DTSTART:20250309T070000
END:DAYLIGHT
BEGIN:STANDARD
TZOFFSETFROM:-0400
TZOFFSETTO:-0500
TZNAME:EST
DTSTART:20251102T060000
END:STANDARD
END:VTIMEZONE
BEGIN:VEVENT
DTSTART;TZID=UTC:20251013T193000
DTEND;TZID=UTC:20251013T193000
DTSTAMP:20260420T000209
CREATED:20251002T090823Z
LAST-MODIFIED:20251014T083524Z
UID:10002398-1760383800-1760383800@elaevents.com
SUMMARY:MARINA: The Princess Of Power Tour
DESCRIPTION:
URL:https://elaevents.com/event/marina-the-princess-of-power-tour/
LOCATION:Arizona Financial Theatre\, Phoenix\, az
CATEGORIES:Rock
ATTACH;FMTTYPE=image/jpeg:https://elaevents.com/wp-content/uploads/2025/10/marina-the-princess-of-power-tour.jpg
END:VEVENT
BEGIN:VEVENT
DTSTART;TZID=UTC:20251012T193000
DTEND;TZID=UTC:20251012T193000
DTSTAMP:20260420T000209
CREATED:20251001T081320Z
LAST-MODIFIED:20251013T082941Z
UID:10002390-1760297400-1760297400@elaevents.com
SUMMARY:Melissa Etheridge & Indigo Girls
DESCRIPTION:
URL:https://elaevents.com/event/melissa-etheridge-indigo-girls/
LOCATION:Arizona Financial Theatre\, Phoenix\, az
CATEGORIES:Rock
ATTACH;FMTTYPE=image/jpeg:https://elaevents.com/wp-content/uploads/2025/10/melissa-etheridge-indigo-girls.jpg
END:VEVENT
BEGIN:VEVENT
DTSTART;TZID=UTC:20251012T160000
DTEND;TZID=UTC:20251012T160000
DTSTAMP:20260420T000209
CREATED:20251004T043739Z
LAST-MODIFIED:20251013T035418Z
UID:10002400-1760284800-1760284800@elaevents.com
SUMMARY:Fists of Fury Series
DESCRIPTION:
URL:https://elaevents.com/event/fists-of-fury-series-3/
LOCATION:Hard Rock Live\, Hollywood
CATEGORIES:Boxing
ATTACH;FMTTYPE=image/jpeg:https://elaevents.com/wp-content/uploads/2025/10/fists-of-fury-series-3-scaled.jpg
GEO:26.0534476;-80.2138684
END:VEVENT
BEGIN:VEVENT
DTSTART;TZID=UTC:20251011T200000
DTEND;TZID=UTC:20251011T200000
DTSTAMP:20260420T000209
CREATED:20250730T074712Z
LAST-MODIFIED:20251012T090016Z
UID:10002278-1760212800-1760212800@elaevents.com
SUMMARY:GIVEON: Dear Beloved\, The Tour
DESCRIPTION:
URL:https://elaevents.com/event/giveon-dear-beloved-the-tour/
LOCATION:Arizona Financial Theatre\, Phoenix\, az
CATEGORIES:R&B
ATTACH;FMTTYPE=image/jpeg:https://elaevents.com/wp-content/uploads/2025/07/giveon-dear-beloved-the-tour.jpg
END:VEVENT
BEGIN:VEVENT
DTSTART;TZID=UTC:20251009T200000
DTEND;TZID=UTC:20251009T200000
DTSTAMP:20260420T000209
CREATED:20250927T043648Z
LAST-MODIFIED:20251010T042545Z
UID:10002381-1760040000-1760040000@elaevents.com
SUMMARY:Alleh y Yorghaki: La Ciudad USA
DESCRIPTION:
URL:https://elaevents.com/event/alleh-y-yorghaki-la-ciudad-usa/
LOCATION:Hard Rock Live\, Hollywood
CATEGORIES:Other
ATTACH;FMTTYPE=image/jpeg:https://elaevents.com/wp-content/uploads/2025/09/alleh-y-yorghaki-la-ciudad-usa.jpg
GEO:26.0534476;-80.2138684
END:VEVENT
BEGIN:VEVENT
DTSTART;TZID=UTC:20251008T200000
DTEND;TZID=UTC:20251008T200000
DTSTAMP:20260420T000209
CREATED:20250926T043722Z
LAST-MODIFIED:20251009T043038Z
UID:10002379-1759953600-1759953600@elaevents.com
SUMMARY:Alex Warren - Cheaper Than Therapy Tour
DESCRIPTION:
URL:https://elaevents.com/event/alex-warren-cheaper-than-therapy-tour/
LOCATION:Hard Rock Live\, Hollywood
CATEGORIES:Pop
ATTACH;FMTTYPE=image/jpeg:https://elaevents.com/wp-content/uploads/2025/09/alex-warren-cheaper-than-therapy-tour-scaled.jpg
GEO:26.0534476;-80.2138684
END:VEVENT
BEGIN:VEVENT
DTSTART;TZID=UTC:20251007T193000
DTEND;TZID=UTC:20251007T193000
DTSTAMP:20260420T000209
CREATED:20250602T215754Z
LAST-MODIFIED:20251008T035210Z
UID:10002225-1759865400-1759865400@elaevents.com
SUMMARY:The Lumineers: The Automatic World Tour
DESCRIPTION:
URL:https://elaevents.com/event/the-lumineers-the-automatic-world-tour/
LOCATION:Hard Rock Live\, Hollywood
CATEGORIES:Rock
ATTACH;FMTTYPE=image/jpeg:https://elaevents.com/wp-content/uploads/2025/06/the-lumineers-the-automatic-world-tour-1.jpg
GEO:26.0534476;-80.2138684
END:VEVENT
BEGIN:VEVENT
DTSTART;TZID=UTC:20251006T193000
DTEND;TZID=UTC:20251006T193000
DTSTAMP:20260420T000209
CREATED:20250929T090652Z
LAST-MODIFIED:20251007T083035Z
UID:10002387-1759779000-1759779000@elaevents.com
SUMMARY:RuPaul's Drag Race Werq The World Tour 2025
DESCRIPTION:
URL:https://elaevents.com/event/rupauls-drag-race-werq-the-world-tour-2025/
LOCATION:Arizona Financial Theatre\, Phoenix\, az
CATEGORIES:Performance Art
ATTACH;FMTTYPE=image/jpeg:https://elaevents.com/wp-content/uploads/2025/09/rupauls-drag-race-werq-the-world-tour-2025.jpg
END:VEVENT
BEGIN:VEVENT
DTSTART;TZID=UTC:20251005T200000
DTEND;TZID=UTC:20251005T200000
DTSTAMP:20260420T000209
CREATED:20250924T041449Z
LAST-MODIFIED:20251006T042830Z
UID:10002376-1759694400-1759694400@elaevents.com
SUMMARY:Steve Miller Band
DESCRIPTION:
URL:https://elaevents.com/event/steve-miller-band/
LOCATION:Hard Rock Live\, Hollywood
CATEGORIES:Rock
ATTACH;FMTTYPE=image/jpeg:https://elaevents.com/wp-content/uploads/2025/09/steve-miller-band-scaled.jpg
GEO:26.0534476;-80.2138684
END:VEVENT
BEGIN:VEVENT
DTSTART;TZID=UTC:20251004T200000
DTEND;TZID=UTC:20251004T200000
DTSTAMP:20260420T000209
CREATED:20241116T144357Z
LAST-MODIFIED:20251005T042917Z
UID:10000124-1759608000-1759608000@elaevents.com
SUMMARY:Steve Martin & Martin Short - The Dukes Of Funnytown!
DESCRIPTION:
URL:https://elaevents.com/event/steve-martin-martin-short-the-dukes-of-funnytown/
LOCATION:Hard Rock Live\, Hollywood
CATEGORIES:Comedy
ATTACH;FMTTYPE=image/jpeg:https://elaevents.com/wp-content/uploads/2024/11/steve-martin-martin-short-the-dukes-of-funnytown.jpg
GEO:26.0534476;-80.2138684
END:VEVENT
BEGIN:VEVENT
DTSTART;TZID=UTC:20251003T200000
DTEND;TZID=UTC:20251003T200000
DTSTAMP:20260420T000209
CREATED:20250928T080752Z
LAST-MODIFIED:20251004T085809Z
UID:10002384-1759521600-1759521600@elaevents.com
SUMMARY:Wet Leg - north american moistourizer 2025
DESCRIPTION:
URL:https://elaevents.com/event/wet-leg-north-american-moistourizer-2025/
LOCATION:Arizona Financial Theatre\, Phoenix\, az
CATEGORIES:Rock
ATTACH;FMTTYPE=image/jpeg:https://elaevents.com/wp-content/uploads/2025/09/wet-leg-north-american-moistourizer-2025.jpg
END:VEVENT
BEGIN:VEVENT
DTSTART;TZID=UTC:20251003T200000
DTEND;TZID=UTC:20251003T200000
DTSTAMP:20260420T000209
CREATED:20250902T182553Z
LAST-MODIFIED:20251004T042725Z
UID:10002348-1759521600-1759521600@elaevents.com
SUMMARY:Willie Colon and Jorge Celedon
DESCRIPTION:
URL:https://elaevents.com/event/willie-colon-and-jorge-celedon/
LOCATION:Hard Rock Live\, Hollywood
CATEGORIES:Latin
ATTACH;FMTTYPE=image/jpeg:https://elaevents.com/wp-content/uploads/2025/09/willie-colon-and-jorge-celedon.jpg
GEO:26.0534476;-80.2138684
END:VEVENT
BEGIN:VEVENT
DTSTART;TZID=UTC:20251001T200000
DTEND;TZID=UTC:20251001T200000
DTSTAMP:20260420T000209
CREATED:20250519T124634Z
LAST-MODIFIED:20251002T090514Z
UID:10002226-1759348800-1759348800@elaevents.com
SUMMARY:Quinn XCII - LOOK! I'm Alive Tour
DESCRIPTION:
URL:https://elaevents.com/event/quinn-xcii-look-im-alive-tour/
LOCATION:Arizona Financial Theatre\, Phoenix\, az
CATEGORIES:Pop
ATTACH;FMTTYPE=image/jpeg:https://elaevents.com/wp-content/uploads/2025/05/quinn-xcii-look-im-alive-tour.jpg
END:VEVENT
BEGIN:VEVENT
DTSTART;TZID=UTC:20251001T193000
DTEND;TZID=UTC:20251001T193000
DTSTAMP:20260420T000209
CREATED:20250922T044107Z
LAST-MODIFIED:20251002T040430Z
UID:10002374-1759347000-1759347000@elaevents.com
SUMMARY:AEW Presents Dynamite
DESCRIPTION:
URL:https://elaevents.com/event/aew-presents-dynamite/
LOCATION:Hard Rock Live\, Hollywood
CATEGORIES:Wrestling
ATTACH;FMTTYPE=image/jpeg:https://elaevents.com/wp-content/uploads/2025/09/aew-presents-dynamite.jpg
GEO:26.0534476;-80.2138684
END:VEVENT
BEGIN:VEVENT
DTSTART;TZID=UTC:20250930T190000
DTEND;TZID=UTC:20250930T190000
DTSTAMP:20260420T000209
CREATED:20250926T090954Z
LAST-MODIFIED:20251001T080754Z
UID:10002380-1759258800-1759258800@elaevents.com
SUMMARY:The Head And The Heart: Aperture Tour
DESCRIPTION:
URL:https://elaevents.com/event/the-head-and-the-heart-aperture-tour/
LOCATION:Arizona Financial Theatre\, Phoenix\, az
CATEGORIES:Rock
ATTACH;FMTTYPE=image/jpeg:https://elaevents.com/wp-content/uploads/2025/09/the-head-and-the-heart-aperture-tour.jpg
END:VEVENT
BEGIN:VEVENT
DTSTART;TZID=UTC:20250929T193000
DTEND;TZID=UTC:20250929T193000
DTSTAMP:20260420T000209
CREATED:20250924T090543Z
LAST-MODIFIED:20250930T082233Z
UID:10002377-1759174200-1759174200@elaevents.com
SUMMARY:Nathaniel Rateliff & The Night Sweats with special guest Hannah Cohen
DESCRIPTION:
URL:https://elaevents.com/event/nathaniel-rateliff-the-night-sweats-with-special-guest-hannah-cohen/
LOCATION:Arizona Financial Theatre\, Phoenix\, az
CATEGORIES:Rock
ATTACH;FMTTYPE=image/jpeg:https://elaevents.com/wp-content/uploads/2025/09/nathaniel-rateliff-the-night-sweats-with-special-guest-hannah-cohen.jpg
END:VEVENT
BEGIN:VEVENT
DTSTART;TZID=America/New_York:20250928T220000
DTEND;TZID=America/New_York:20250929T030000
DTSTAMP:20260420T000209
CREATED:20241108T072022Z
LAST-MODIFIED:20241224T134917Z
UID:10000090-1759096800-1759114800@elaevents.com
SUMMARY:SOIREE SUNDAYS AT MELA LOUNGE (LADIES FREE ALL NIGHT)
DESCRIPTION:Come party with us at Mela Lounge every Sunday for Soiree Sundays – ladies get in free all night long!
URL:https://elaevents.com/event/soiree-sundays-at-mela-lounge-ladies-free-all-night-47/
LOCATION:Mela Bar & Lounge\, 1359 Clairmont Road\, Decatur\, GA 30033\, Decatur\, GA\, 30033\, US
GEO:33.7925418;-84.3049631
X-APPLE-STRUCTURED-LOCATION;VALUE=URI;X-ADDRESS=Mela Bar & Lounge 1359 Clairmont Road Decatur GA 30033 Decatur GA 30033 US;X-APPLE-RADIUS=500;X-TITLE=1359 Clairmont Road\, Decatur\, GA 30033:geo:-84.3049631,33.7925418
END:VEVENT
BEGIN:VEVENT
DTSTART;TZID=UTC:20250928T200000
DTEND;TZID=UTC:20250928T200000
DTSTAMP:20260420T000209
CREATED:20250704T232419Z
LAST-MODIFIED:20250929T085859Z
UID:10002250-1759089600-1759089600@elaevents.com
SUMMARY:Alex G
DESCRIPTION:
URL:https://elaevents.com/event/alex-g/
LOCATION:Arizona Financial Theatre\, Phoenix\, az
CATEGORIES:Rock
ATTACH;FMTTYPE=image/jpeg:https://elaevents.com/wp-content/uploads/2025/07/alex-g-scaled.jpg
END:VEVENT
BEGIN:VEVENT
DTSTART;TZID=UTC:20250928T190000
DTEND;TZID=UTC:20250928T190000
DTSTAMP:20260420T000209
CREATED:20250921T043920Z
LAST-MODIFIED:20250929T040220Z
UID:10002371-1759086000-1759086000@elaevents.com
SUMMARY:Alison Krauss & Union Station Featuring Jerry Douglas
DESCRIPTION:
URL:https://elaevents.com/event/alison-krauss-union-station-featuring-jerry-douglas-2/
LOCATION:Hard Rock Live\, Hollywood
CATEGORIES:Folk
ATTACH;FMTTYPE=image/jpeg:https://elaevents.com/wp-content/uploads/2025/09/alison-krauss-union-station-featuring-jerry-douglas-2.jpg
GEO:26.0534476;-80.2138684
END:VEVENT
BEGIN:VEVENT
DTSTART;TZID=UTC:20250927T190000
DTEND;TZID=UTC:20250927T190000
DTSTAMP:20260420T000209
CREATED:20250920T080459Z
LAST-MODIFIED:20250928T075840Z
UID:10002369-1758999600-1758999600@elaevents.com
SUMMARY:Mudvayne: L.D. 50 25th Anniversary Tour
DESCRIPTION:
URL:https://elaevents.com/event/mudvayne-l-d-50-25th-anniversary-tour/
LOCATION:Arizona Financial Theatre\, Phoenix\, az
CATEGORIES:Rock
ATTACH;FMTTYPE=image/jpeg:https://elaevents.com/wp-content/uploads/2025/09/mudvayne-l-d-50-25th-anniversary-tour.jpg
END:VEVENT
BEGIN:VEVENT
DTSTART;TZID=UTC:20250926T200000
DTEND;TZID=UTC:20250926T200000
DTSTAMP:20260420T000209
CREATED:20250920T054034Z
LAST-MODIFIED:20250927T043115Z
UID:10002368-1758916800-1758916800@elaevents.com
SUMMARY:Shane Gillis Live
DESCRIPTION:
URL:https://elaevents.com/event/shane-gillis-live-2/
LOCATION:Hard Rock Live\, Hollywood
CATEGORIES:Comedy
ATTACH;FMTTYPE=image/jpeg:https://elaevents.com/wp-content/uploads/2025/09/shane-gillis-live.jpg
GEO:26.0534476;-80.2138684
END:VEVENT
BEGIN:VEVENT
DTSTART;TZID=UTC:20250926T200000
DTEND;TZID=UTC:20250926T200000
DTSTAMP:20260420T000209
CREATED:20250914T142139Z
LAST-MODIFIED:20250927T085809Z
UID:10002365-1758916800-1758916800@elaevents.com
SUMMARY:Air Play Moon Safari
DESCRIPTION:
URL:https://elaevents.com/event/air-play-moon-safari/
LOCATION:Arizona Financial Theatre\, Phoenix\, az
CATEGORIES:Dance/Electronic
ATTACH;FMTTYPE=image/jpeg:https://elaevents.com/wp-content/uploads/2025/09/air-play-moon-safari.jpg
END:VEVENT
BEGIN:VEVENT
DTSTART;TZID=UTC:20250925T200000
DTEND;TZID=UTC:20250925T200000
DTSTAMP:20260420T000209
CREATED:20250919T041411Z
LAST-MODIFIED:20250926T042604Z
UID:10002367-1758830400-1758830400@elaevents.com
SUMMARY:Shane Gillis Live
DESCRIPTION:
URL:https://elaevents.com/event/shane-gillis-live/
LOCATION:Hard Rock Live\, Hollywood
CATEGORIES:Comedy
ATTACH;FMTTYPE=image/jpeg:https://elaevents.com/wp-content/uploads/2025/09/shane-gillis-live.jpg
GEO:26.0534476;-80.2138684
END:VEVENT
BEGIN:VEVENT
DTSTART;TZID=UTC:20250925T200000
DTEND;TZID=UTC:20250925T200000
DTSTAMP:20260420T000209
CREATED:20250913T093429Z
LAST-MODIFIED:20250926T090518Z
UID:10002362-1758830400-1758830400@elaevents.com
SUMMARY:Aminé - Tour de Dance 2025 with Lido
DESCRIPTION:
URL:https://elaevents.com/event/amine-tour-de-dance-2025-with-lido/
LOCATION:Arizona Financial Theatre\, Phoenix\, az
CATEGORIES:Hip-Hop/Rap
ATTACH;FMTTYPE=image/png:https://elaevents.com/wp-content/uploads/2025/09/amine-tour-de-dance-2025-with-lido.png
END:VEVENT
BEGIN:VEVENT
DTSTART;TZID=UTC:20250924T200000
DTEND;TZID=UTC:20250924T200000
DTSTAMP:20260420T000209
CREATED:20250602T222610Z
LAST-MODIFIED:20250925T040048Z
UID:10002221-1758744000-1758744000@elaevents.com
SUMMARY:Nate Bargatze: Big Dumb Eyes World Tour
DESCRIPTION:
URL:https://elaevents.com/event/nate-bargatze-big-dumb-eyes-world-tour-3/
LOCATION:Hard Rock Live\, Hollywood
CATEGORIES:Comedy
ATTACH;FMTTYPE=image/jpeg:https://elaevents.com/wp-content/uploads/2025/05/nate-bargatze-big-dumb-eyes-world-tour.jpg
GEO:26.0534476;-80.2138684
END:VEVENT
BEGIN:VEVENT
DTSTART;TZID=UTC:20250923T200000
DTEND;TZID=UTC:20250923T200000
DTSTAMP:20260420T000209
CREATED:20250914T044305Z
LAST-MODIFIED:20250924T040715Z
UID:10002363-1758657600-1758657600@elaevents.com
SUMMARY:Jimmy Carr: Laughs Funny
DESCRIPTION:
URL:https://elaevents.com/event/jimmy-carr-laughs-funny/
LOCATION:Hard Rock Live\, Hollywood
CATEGORIES:Comedy
ATTACH;FMTTYPE=image/jpeg:https://elaevents.com/wp-content/uploads/2025/09/jimmy-carr-laughs-funny.jpg
GEO:26.0534476;-80.2138684
END:VEVENT
BEGIN:VEVENT
DTSTART;TZID=UTC:20250923T200000
DTEND;TZID=UTC:20250923T200000
DTSTAMP:20260420T000209
CREATED:20250912T083610Z
LAST-MODIFIED:20250924T085742Z
UID:10002359-1758657600-1758657600@elaevents.com
SUMMARY:Magdalena Bay: Imaginal Mystery Tour
DESCRIPTION:
URL:https://elaevents.com/event/magdalena-bay-imaginal-mystery-tour/
LOCATION:Arizona Financial Theatre\, Phoenix\, az
CATEGORIES:Pop
ATTACH;FMTTYPE=image/jpeg:https://elaevents.com/wp-content/uploads/2025/09/magdalena-bay-imaginal-mystery-tour.jpg
END:VEVENT
BEGIN:VEVENT
DTSTART;TZID=UTC:20250922T200000
DTEND;TZID=UTC:20250922T200000
DTSTAMP:20260420T000209
CREATED:20250913T040920Z
LAST-MODIFIED:20250923T043535Z
UID:10002361-1758571200-1758571200@elaevents.com
SUMMARY:Conan Gray: The Wishbone Pajama Show w/ special guest hemlocke springs
DESCRIPTION:
URL:https://elaevents.com/event/conan-gray-the-wishbone-pajama-show-w-special-guest-hemlocke-springs/
LOCATION:Hard Rock Live\, Hollywood
CATEGORIES:Pop
ATTACH;FMTTYPE=image/jpeg:https://elaevents.com/wp-content/uploads/2025/09/conan-gray-the-wishbone-pajama-show-w-special-guest-hemlocke-springs.jpg
GEO:26.0534476;-80.2138684
END:VEVENT
BEGIN:VEVENT
DTSTART;TZID=America/New_York:20250921T220000
DTEND;TZID=America/New_York:20250922T030000
DTSTAMP:20260420T000209
CREATED:20241108T072021Z
LAST-MODIFIED:20241108T072021Z
UID:10000089-1758492000-1758510000@elaevents.com
SUMMARY:SOIREE SUNDAYS AT MELA LOUNGE (LADIES FREE ALL NIGHT)
DESCRIPTION:Come party with us at Mela Lounge every Sunday for Soiree Sundays – ladies get in free all night long!
URL:https://elaevents.com/event/soiree-sundays-at-mela-lounge-ladies-free-all-night-46/
LOCATION:Mela Bar & Lounge\, 1359 Clairmont Road\, Decatur\, GA 30033\, Decatur\, GA\, 30033\, US
GEO:33.7925418;-84.3049631
X-APPLE-STRUCTURED-LOCATION;VALUE=URI;X-ADDRESS=Mela Bar & Lounge 1359 Clairmont Road Decatur GA 30033 Decatur GA 30033 US;X-APPLE-RADIUS=500;X-TITLE=1359 Clairmont Road\, Decatur\, GA 30033:geo:-84.3049631,33.7925418
END:VEVENT
BEGIN:VEVENT
DTSTART;TZID=UTC:20250921T200000
DTEND;TZID=UTC:20250921T200000
DTSTAMP:20260420T000209
CREATED:20250907T050402Z
LAST-MODIFIED:20250922T043136Z
UID:10002347-1758484800-1758484800@elaevents.com
SUMMARY:Al Green
DESCRIPTION:
URL:https://elaevents.com/event/al-green/
LOCATION:Hard Rock Live\, Hollywood
CATEGORIES:R&B
ATTACH;FMTTYPE=image/jpeg:https://elaevents.com/wp-content/uploads/2025/09/al-green.jpg
GEO:26.0534476;-80.2138684
END:VEVENT
END:VCALENDAR