BEGIN:VCALENDAR
VERSION:2.0
PRODID:-//Ela Events - ECPv6.9.0//NONSGML v1.0//EN
CALSCALE:GREGORIAN
METHOD:PUBLISH
X-WR-CALNAME:Ela Events
X-ORIGINAL-URL:https://elaevents.com
X-WR-CALDESC:Events for Ela Events
REFRESH-INTERVAL;VALUE=DURATION:PT1H
X-Robots-Tag:noindex
X-PUBLISHED-TTL:PT1H
BEGIN:VTIMEZONE
TZID:America/Chicago
BEGIN:DAYLIGHT
TZOFFSETFROM:-0600
TZOFFSETTO:-0500
TZNAME:CDT
DTSTART:20250309T080000
END:DAYLIGHT
BEGIN:STANDARD
TZOFFSETFROM:-0500
TZOFFSETTO:-0600
TZNAME:CST
DTSTART:20251102T070000
END:STANDARD
TZID:UTC
BEGIN:STANDARD
TZOFFSETFROM:+0000
TZOFFSETTO:+0000
TZNAME:UTC
DTSTART:20250101T000000
END:STANDARD
TZID:America/New_York
BEGIN:DAYLIGHT
TZOFFSETFROM:-0500
TZOFFSETTO:-0400
TZNAME:EDT
DTSTART:20250309T070000
END:DAYLIGHT
BEGIN:STANDARD
TZOFFSETFROM:-0400
TZOFFSETTO:-0500
TZNAME:EST
DTSTART:20251102T060000
END:STANDARD
TZID:America/Los_Angeles
BEGIN:DAYLIGHT
TZOFFSETFROM:-0800
TZOFFSETTO:-0700
TZNAME:PDT
DTSTART:20250309T100000
END:DAYLIGHT
BEGIN:STANDARD
TZOFFSETFROM:-0700
TZOFFSETTO:-0800
TZNAME:PST
DTSTART:20251102T090000
END:STANDARD
END:VTIMEZONE
BEGIN:VEVENT
DTSTART;TZID=America/Chicago:20250704T110000
DTEND;TZID=America/Chicago:20250704T140000
DTSTAMP:20260422T013213
CREATED:20250410T193430Z
LAST-MODIFIED:20250410T193430Z
UID:10001962-1751626800-1751637600@elaevents.com
SUMMARY:#RetailHires Virtual Job Fair / Career Expo Event #Dallas #DFW
DESCRIPTION:Attend  #RetailHires Virtual Job Fair / Career Expo Event #Dallas #DFW  https://events.tao.ai/pod/retailhires.com/jobfair\n\n\n🛍️ Welcome\, Retail Professionals! Ready to take your career to new heights? Join us at the “RetailHires.com Virtual Networking and Career Fair\,” an event designed for the retail community. This monthly event\, happening every 1st Friday from 11 AM to 2 PM local time\, is designed to support and elevate careers in the retail sector. \n📆 Event Details: \n\nDate: 1st Friday of Each Month\nTime: 11 AM – 2 PM (Local Time)\nVenue: https://events.tao.ai/pod/retailhires.com/jobfair\nHosted by: https://retailhires.com/\n\n🌟 Highlights of the Event: \n\nCareer Advancement: Connect with participating employers offering roles across the retail spectrum.\nNetworking and Collaboration: Build relationships with experienced professionals and peers.\nCreate Opportunities: Looking for Business / Consulting / Contracting? Network with other working professionals and seek opportunities.\n\n👥 How to Participate: \n\nSign Up: Register at https://events.tao.ai/pod/retailhires.com/jobfair and join our growing retail community.\nRSVP for the Fair: Confirm your attendance to be part of this exclusive career-focused event.\nStay Updated: Keep an eye on your inbox for important event updates and information.\n\n👥 What career resources are available at Retailhires.com/hires: \n\nJoin Career Events – Empower career through global learning and networking events\nApply to Opportunities – Explore a curated selection of job openings\, internships\, and freelance positions.\nLearn and upskill – Build a growth mindset and upskill for tomorrow’s challenges!\nAsk Career Questions – Get answers to the most pressing questions and join the askers’ community to build success\, network\, reputation\, and growth.\n\n💼 A Supportive Professional Community: Our event welcomes all professionals at all career stages\, offering a space to connect\, learn\, and grow with others who share your passion for retail. \n📣 Spread the Word: Inform your network about this valuable event. Together\, we can strengthen our community and support each other’s career aspirations. Every added professional can elevate and support the entire community.  \n👉 Ready to Explore New Horizons? Click https://events.tao.ai/pod/retailhires.com/jobfair to RSVP and begin a new chapter in your professional life! \n👉 Industries Hiring @ Career Fair: Advertising\, Aerospace\, Agriculture and Agribusiness\, Air pollution\, Arms\, Automotive\, Broadcasting\, Chemical\, Computer\, Construction\, Creative\, Defense\, Education\, Electric power\, Electronics\, Energy\, Entertainment\, Fashion\, Film\, Financial services\, Fishing\, Floral\, Food\, Healthcare\, Horticulture\, Hospitality\, Industrial robot\, Information\, Insurance\, Internet\, Leisure\, Low technology\, Machine tooling\, Machining\, Manufacturing\, Market research\, Mass media\, Mass production\, Materials science\, Meatpacking\, Mining\, Music\, News media\, Occupational injury\, Occupational noise\, Oil shale\, Petroleum\, Pharmaceutical\, Pricing\, Professional Services\, Publishing\, Pulp and paper\, Raw material\, Real estate\, Robber baron (industrialist)\, Semiconductor\, Services\, Shipbuilding\, Software\, Sport\, Steel\, Telecommunications\, Textile\, Tobacco\, Trade association\, Transport\, Video game\, Water\, Wood\, etc. \n👉 Hosted by No Worker Left Behind [a 501c3]: A global non-profit https://noworkerleftbehind.org\, is behind this event\, aiming to democratize healthy career development for all. We focus on improving career networking and using technology to assist the global workforce in reaching their career aspirations. \n👉 Interested in Assisting No Worker Left Behind: Contribute to this initiative by signing up as a volunteer at https://one.tao.ai/nwlbvol. \n📣 Keywords: RetailCareerFair\, RetailJobFair\, RetailNetworking\, CareerExpo\, Retail Career Fair\, Retail Job Fair\, Networking Event\, Retail Industry\, Employment Opportunities\, Virtual Event\, Online Networking\, Career Growth
URL:https://elaevents.com/event/retailhires-virtual-job-fair-career-expo-event-dallas-dfw-8/
LOCATION:Dallas\, Virtual Event only\, Dallas\, TX\, Dallas\, TX\, US
GEO:32.7802918;-96.7996482
X-APPLE-STRUCTURED-LOCATION;VALUE=URI;X-ADDRESS=Dallas Virtual Event only Dallas TX Dallas TX US;X-APPLE-RADIUS=500;X-TITLE=Virtual Event only\, Dallas\, TX:geo:-96.7996482,32.7802918
END:VEVENT
BEGIN:VEVENT
DTSTART;TZID=UTC:20250703T200000
DTEND;TZID=UTC:20250703T200000
DTSTAMP:20260422T013213
CREATED:20250619T052841Z
LAST-MODIFIED:20250704T044310Z
UID:10002237-1751572800-1751572800@elaevents.com
SUMMARY:Blue Oyster Cult
DESCRIPTION:
URL:https://elaevents.com/event/blue-oyster-cult/
LOCATION:Hard Rock Live\, Hollywood
CATEGORIES:Rock
ATTACH;FMTTYPE=image/jpeg:https://elaevents.com/wp-content/uploads/2025/06/blue-oyster-cult.jpg
GEO:26.0534476;-80.2138684
END:VEVENT
BEGIN:VEVENT
DTSTART;TZID=UTC:20250703T200000
DTEND;TZID=UTC:20250703T200000
DTSTAMP:20260422T013213
CREATED:20241124T132651Z
LAST-MODIFIED:20250704T090150Z
UID:10000131-1751572800-1751572800@elaevents.com
SUMMARY:The Driver Era: Obsession Tour
DESCRIPTION:
URL:https://elaevents.com/event/the-driver-era-obsession-tour/
LOCATION:Arizona Financial Theatre\, Phoenix\, az
CATEGORIES:Rock
ATTACH;FMTTYPE=image/jpeg:https://elaevents.com/wp-content/uploads/2024/11/the-driver-era-obsession-tour.jpg
END:VEVENT
BEGIN:VEVENT
DTSTART;TZID=America/New_York:20250629T220000
DTEND;TZID=America/New_York:20250630T030000
DTSTAMP:20260422T013213
CREATED:20241108T072011Z
LAST-MODIFIED:20241108T072011Z
UID:10000077-1751234400-1751252400@elaevents.com
SUMMARY:SOIREE SUNDAYS AT MELA LOUNGE (LADIES FREE ALL NIGHT)
DESCRIPTION:Come party with us at Mela Lounge every Sunday for Soiree Sundays – ladies get in free all night long!
URL:https://elaevents.com/event/soiree-sundays-at-mela-lounge-ladies-free-all-night-34/
LOCATION:Mela Bar & Lounge\, 1359 Clairmont Road\, Decatur\, GA 30033\, Decatur\, GA\, 30033\, US
GEO:33.7925418;-84.3049631
X-APPLE-STRUCTURED-LOCATION;VALUE=URI;X-ADDRESS=Mela Bar & Lounge 1359 Clairmont Road Decatur GA 30033 Decatur GA 30033 US;X-APPLE-RADIUS=500;X-TITLE=1359 Clairmont Road\, Decatur\, GA 30033:geo:-84.3049631,33.7925418
END:VEVENT
BEGIN:VEVENT
DTSTART;TZID=UTC:20250629T180000
DTEND;TZID=UTC:20250629T180000
DTSTAMP:20260422T013213
CREATED:20250615T090343Z
LAST-MODIFIED:20250630T072003Z
UID:10002234-1751220000-1751220000@elaevents.com
SUMMARY:Totally Tubular Festival
DESCRIPTION:
URL:https://elaevents.com/event/totally-tubular-festival/
LOCATION:Arizona Financial Theatre\, Phoenix\, az
CATEGORIES:Pop
ATTACH;FMTTYPE=image/jpeg:https://elaevents.com/wp-content/uploads/2025/06/totally-tubular-festival.jpg
END:VEVENT
BEGIN:VEVENT
DTSTART;TZID=UTC:20250628T200000
DTEND;TZID=UTC:20250628T200000
DTSTAMP:20260422T013213
CREATED:20250615T044132Z
LAST-MODIFIED:20250629T042622Z
UID:10002233-1751140800-1751140800@elaevents.com
SUMMARY:An Evening with Heart
DESCRIPTION:
URL:https://elaevents.com/event/an-evening-with-heart/
LOCATION:Hard Rock Live\, Hollywood
CATEGORIES:Rock
ATTACH;FMTTYPE=image/jpeg:https://elaevents.com/wp-content/uploads/2025/06/an-evening-with-heart.jpg
GEO:26.0534476;-80.2138684
END:VEVENT
BEGIN:VEVENT
DTSTART;TZID=UTC:20250628T200000
DTEND;TZID=UTC:20250628T200000
DTSTAMP:20260422T013213
CREATED:20250606T085212Z
LAST-MODIFIED:20250629T085954Z
UID:10002216-1751140800-1751140800@elaevents.com
SUMMARY:Key Glock: GLOCKAVELI Tour presented by SiriusXM's Hip-Hop Nation
DESCRIPTION:
URL:https://elaevents.com/event/key-glock-glockaveli-tour-presented-by-siriusxms-hip-hop-nation/
LOCATION:Arizona Financial Theatre\, Phoenix\, az
CATEGORIES:Hip-Hop/Rap
ATTACH;FMTTYPE=image/jpeg:https://elaevents.com/wp-content/uploads/2025/06/key-glock-glockaveli-tour-presented-by-siriusxms-hip-hop-nation.jpg
END:VEVENT
BEGIN:VEVENT
DTSTART;TZID=UTC:20250627T180000
DTEND;TZID=UTC:20250627T180000
DTSTAMP:20260422T013213
CREATED:20250519T124845Z
LAST-MODIFIED:20250628T064600Z
UID:10002213-1751047200-1751047200@elaevents.com
SUMMARY:TCL Team Boxing
DESCRIPTION:
URL:https://elaevents.com/event/tcl-team-boxing/
LOCATION:Arizona Financial Theatre\, Phoenix\, az
CATEGORIES:Boxing
END:VEVENT
BEGIN:VEVENT
DTSTART;TZID=UTC:20250625T200000
DTEND;TZID=UTC:20250625T200000
DTSTAMP:20260422T013213
CREATED:20250615T090721Z
LAST-MODIFIED:20250626T035746Z
UID:10002235-1750881600-1750881600@elaevents.com
SUMMARY:2025 Draft Watch Party
DESCRIPTION:
URL:https://elaevents.com/event/2025-draft-watch-party/
LOCATION:State Farm Arena\, Atlanta
CATEGORIES:Basketball
ATTACH;FMTTYPE=image/jpeg:https://elaevents.com/wp-content/uploads/2024/11/unnamed-file.jpg
END:VEVENT
BEGIN:VEVENT
DTSTART;TZID=UTC:20250625T193000
DTEND;TZID=UTC:20250625T193000
DTSTAMP:20260422T013213
CREATED:20250604T104104Z
LAST-MODIFIED:20250626T083235Z
UID:10002210-1750879800-1750879800@elaevents.com
SUMMARY:Peter Frampton - Let's Do It Again!
DESCRIPTION:
URL:https://elaevents.com/event/peter-frampton-lets-do-it-again/
LOCATION:Arizona Financial Theatre\, Phoenix\, az
CATEGORIES:Rock
ATTACH;FMTTYPE=image/jpeg:https://elaevents.com/wp-content/uploads/2025/06/peter-frampton-lets-do-it-again-scaled.jpg
END:VEVENT
BEGIN:VEVENT
DTSTART;TZID=America/New_York:20250622T220000
DTEND;TZID=America/New_York:20250623T030000
DTSTAMP:20260422T013213
CREATED:20241108T072010Z
LAST-MODIFIED:20241108T072010Z
UID:10000076-1750629600-1750647600@elaevents.com
SUMMARY:SOIREE SUNDAYS AT MELA LOUNGE (LADIES FREE ALL NIGHT)
DESCRIPTION:Come party with us at Mela Lounge every Sunday for Soiree Sundays – ladies get in free all night long!
URL:https://elaevents.com/event/soiree-sundays-at-mela-lounge-ladies-free-all-night-33/
LOCATION:Mela Bar & Lounge\, 1359 Clairmont Road\, Decatur\, GA 30033\, Decatur\, GA\, 30033\, US
GEO:33.7925418;-84.3049631
X-APPLE-STRUCTURED-LOCATION;VALUE=URI;X-ADDRESS=Mela Bar & Lounge 1359 Clairmont Road Decatur GA 30033 Decatur GA 30033 US;X-APPLE-RADIUS=500;X-TITLE=1359 Clairmont Road\, Decatur\, GA 30033:geo:-84.3049631,33.7925418
END:VEVENT
BEGIN:VEVENT
DTSTART;TZID=UTC:20250622T200000
DTEND;TZID=UTC:20250622T200000
DTSTAMP:20260422T013213
CREATED:20250608T050629Z
LAST-MODIFIED:20250623T042814Z
UID:10002218-1750622400-1750622400@elaevents.com
SUMMARY:Fridayy - Some Days I'm Good\, Some Days I'm Not World Tour
DESCRIPTION:
URL:https://elaevents.com/event/fridayy-some-days-im-good-some-days-im-not-world-tour/
LOCATION:Hard Rock Live\, Hollywood
CATEGORIES:R&B
ATTACH;FMTTYPE=image/jpeg:https://elaevents.com/wp-content/uploads/2025/06/fridayy-some-days-im-good-some-days-im-not-world-tour.jpg
GEO:26.0534476;-80.2138684
END:VEVENT
BEGIN:VEVENT
DTSTART;TZID=UTC:20250621T193000
DTEND;TZID=UTC:20250621T193000
DTSTAMP:20260422T013213
CREATED:20250602T215756Z
LAST-MODIFIED:20250622T040119Z
UID:10002214-1750534200-1750534200@elaevents.com
SUMMARY:Avril Lavigne: The Greatest Hits
DESCRIPTION:
URL:https://elaevents.com/event/avril-lavigne-the-greatest-hits/
LOCATION:Hard Rock Live\, Hollywood
CATEGORIES:Rock
ATTACH;FMTTYPE=image/jpeg:https://elaevents.com/wp-content/uploads/2025/06/avril-lavigne-the-greatest-hits.jpg
GEO:26.0534476;-80.2138684
END:VEVENT
BEGIN:VEVENT
DTSTART;TZID=UTC:20250621T190000
DTEND;TZID=UTC:20250621T190000
DTSTAMP:20260422T013213
CREATED:20250612T051705Z
LAST-MODIFIED:20250622T060216Z
UID:10002230-1750532400-1750532400@elaevents.com
SUMMARY:Birthday Bash ATL 2025
DESCRIPTION:
URL:https://elaevents.com/event/birthday-bash-atl-2025/
LOCATION:State Farm Arena\, Atlanta
CATEGORIES:Hip-Hop/Rap
ATTACH;FMTTYPE=image/jpeg:https://elaevents.com/wp-content/uploads/2025/06/birthday-bash-atl-2025.jpg
END:VEVENT
BEGIN:VEVENT
DTSTART;TZID=UTC:20250620T200000
DTEND;TZID=UTC:20250620T200000
DTSTAMP:20260422T013213
CREATED:20250601T064221Z
LAST-MODIFIED:20250621T034643Z
UID:10002202-1750449600-1750449600@elaevents.com
SUMMARY:Ringo Starr and His All Starr Band
DESCRIPTION:
URL:https://elaevents.com/event/ringo-starr-and-his-all-starr-band/
LOCATION:Hard Rock Live\, Hollywood
CATEGORIES:Pop
ATTACH;FMTTYPE=image/jpeg:https://elaevents.com/wp-content/uploads/2025/06/ringo-starr-and-his-all-starr-band.jpg
GEO:26.0534476;-80.2138684
END:VEVENT
BEGIN:VEVENT
DTSTART;TZID=UTC:20250618T200000
DTEND;TZID=UTC:20250618T200000
DTSTAMP:20260422T013213
CREATED:20250531T040708Z
LAST-MODIFIED:20250619T041230Z
UID:10002199-1750276800-1750276800@elaevents.com
SUMMARY:Glass Animals: Tour Of Earth
DESCRIPTION:
URL:https://elaevents.com/event/glass-animals-tour-of-earth/
LOCATION:Hard Rock Live\, Hollywood
CATEGORIES:Pop
ATTACH;FMTTYPE=image/jpeg:https://elaevents.com/wp-content/uploads/2025/05/glass-animals-tour-of-earth.jpg
GEO:26.0534476;-80.2138684
END:VEVENT
BEGIN:VEVENT
DTSTART;TZID=UTC:20250618T193000
DTEND;TZID=UTC:20250618T193000
DTSTAMP:20260422T013213
CREATED:20250428T182548Z
LAST-MODIFIED:20250619T083041Z
UID:10002207-1750275000-1750275000@elaevents.com
SUMMARY:Dropout Improv
DESCRIPTION:
URL:https://elaevents.com/event/dropout-improv/
LOCATION:Arizona Financial Theatre\, Phoenix\, az
CATEGORIES:Performance Art
ATTACH;FMTTYPE=image/jpeg:https://elaevents.com/wp-content/uploads/2025/04/dropout-improv.jpg
END:VEVENT
BEGIN:VEVENT
DTSTART;TZID=America/New_York:20250615T220000
DTEND;TZID=America/New_York:20250616T030000
DTSTAMP:20260422T013213
CREATED:20241108T072009Z
LAST-MODIFIED:20241108T072009Z
UID:10000075-1750024800-1750042800@elaevents.com
SUMMARY:SOIREE SUNDAYS AT MELA LOUNGE (LADIES FREE ALL NIGHT)
DESCRIPTION:Come party with us at Mela Lounge every Sunday for Soiree Sundays – ladies get in free all night long!
URL:https://elaevents.com/event/soiree-sundays-at-mela-lounge-ladies-free-all-night-32/
LOCATION:Mela Bar & Lounge\, 1359 Clairmont Road\, Decatur\, GA 30033\, Decatur\, GA\, 30033\, US
GEO:33.7925418;-84.3049631
X-APPLE-STRUCTURED-LOCATION;VALUE=URI;X-ADDRESS=Mela Bar & Lounge 1359 Clairmont Road Decatur GA 30033 Decatur GA 30033 US;X-APPLE-RADIUS=500;X-TITLE=1359 Clairmont Road\, Decatur\, GA 30033:geo:-84.3049631,33.7925418
END:VEVENT
BEGIN:VEVENT
DTSTART;TZID=UTC:20250614T200000
DTEND;TZID=UTC:20250614T200000
DTSTAMP:20260422T013213
CREATED:20250526T050208Z
LAST-MODIFIED:20250615T042632Z
UID:10002196-1749931200-1749931200@elaevents.com
SUMMARY:Nate Bargatze: Big Dumb Eyes World Tour
DESCRIPTION:
URL:https://elaevents.com/event/nate-bargatze-big-dumb-eyes-world-tour/
LOCATION:Hard Rock Live\, Hollywood
CATEGORIES:Comedy
ATTACH;FMTTYPE=image/jpeg:https://elaevents.com/wp-content/uploads/2025/05/nate-bargatze-big-dumb-eyes-world-tour.jpg
GEO:26.0534476;-80.2138684
END:VEVENT
BEGIN:VEVENT
DTSTART;TZID=UTC:20250614T190000
DTEND;TZID=UTC:20250614T190000
DTSTAMP:20260422T013213
CREATED:20250607T051900Z
LAST-MODIFIED:20250615T055443Z
UID:10002217-1749927600-1749927600@elaevents.com
SUMMARY:UFC Fight Night
DESCRIPTION:
URL:https://elaevents.com/event/ufc-fight-night/
LOCATION:State Farm Arena\, Atlanta
CATEGORIES:Martial Arts
ATTACH;FMTTYPE=image/jpeg:https://elaevents.com/wp-content/uploads/2025/06/ufc-fight-night.jpg
END:VEVENT
BEGIN:VEVENT
DTSTART;TZID=UTC:20250614T190000
DTEND;TZID=UTC:20250614T190000
DTSTAMP:20260422T013213
CREATED:20250603T083358Z
LAST-MODIFIED:20250615T085443Z
UID:10002206-1749927600-1749927600@elaevents.com
SUMMARY:Peach Pit & Briston Maroney: Long Hair\, Long Life Tour
DESCRIPTION:
URL:https://elaevents.com/event/peach-pit-briston-maroney-long-hair-long-life-tour/
LOCATION:Arizona Financial Theatre\, Phoenix\, az
CATEGORIES:Pop
ATTACH;FMTTYPE=image/jpeg:https://elaevents.com/wp-content/uploads/2025/06/peach-pit-briston-maroney-long-hair-long-life-tour.jpg
END:VEVENT
BEGIN:VEVENT
DTSTART;TZID=UTC:20250614T150000
DTEND;TZID=UTC:20250614T150000
DTSTAMP:20260422T013213
CREATED:20250530T044401Z
LAST-MODIFIED:20250615T035649Z
UID:10002198-1749913200-1749913200@elaevents.com
SUMMARY:Nate Bargatze: Big Dumb Eyes World Tour
DESCRIPTION:
URL:https://elaevents.com/event/nate-bargatze-big-dumb-eyes-world-tour-2/
LOCATION:Hard Rock Live\, Hollywood
CATEGORIES:Comedy
ATTACH;FMTTYPE=image/jpeg:https://elaevents.com/wp-content/uploads/2025/05/nate-bargatze-big-dumb-eyes-world-tour.jpg
GEO:26.0534476;-80.2138684
END:VEVENT
BEGIN:VEVENT
DTSTART;TZID=UTC:20250611T200000
DTEND;TZID=UTC:20250611T200000
DTSTAMP:20260422T013213
CREATED:20250606T051210Z
LAST-MODIFIED:20250612T045935Z
UID:10002215-1749672000-1749672000@elaevents.com
SUMMARY:Wu-Tang Forever: The Final Chamber
DESCRIPTION:
URL:https://elaevents.com/event/wu-tang-forever-the-final-chamber/
LOCATION:State Farm Arena\, Atlanta
CATEGORIES:Hip-Hop/Rap
ATTACH;FMTTYPE=image/jpeg:https://elaevents.com/wp-content/uploads/2025/06/wu-tang-forever-the-final-chamber.jpg
END:VEVENT
BEGIN:VEVENT
DTSTART;TZID=UTC:20250611T200000
DTEND;TZID=UTC:20250611T200000
DTSTAMP:20260422T013213
CREATED:20250602T093258Z
LAST-MODIFIED:20250612T090356Z
UID:10002205-1749672000-1749672000@elaevents.com
SUMMARY:Bingham's Bourbon Presents Ryan Bingham and The Texas Gentlemen
DESCRIPTION:
URL:https://elaevents.com/event/binghams-bourbon-presents-ryan-bingham-and-the-texas-gentlemen/
LOCATION:Arizona Financial Theatre\, Phoenix\, az
CATEGORIES:Rock
ATTACH;FMTTYPE=image/jpeg:https://elaevents.com/wp-content/uploads/2025/06/binghams-bourbon-presents-ryan-bingham-and-the-texas-gentlemen.jpg
END:VEVENT
BEGIN:VEVENT
DTSTART;TZID=America/New_York:20250608T220000
DTEND;TZID=America/New_York:20250609T030000
DTSTAMP:20260422T013213
CREATED:20241108T072008Z
LAST-MODIFIED:20241108T072008Z
UID:10000074-1749420000-1749438000@elaevents.com
SUMMARY:SOIREE SUNDAYS AT MELA LOUNGE (LADIES FREE ALL NIGHT)
DESCRIPTION:Come party with us at Mela Lounge every Sunday for Soiree Sundays – ladies get in free all night long!
URL:https://elaevents.com/event/soiree-sundays-at-mela-lounge-ladies-free-all-night-31/
LOCATION:Mela Bar & Lounge\, 1359 Clairmont Road\, Decatur\, GA 30033\, Decatur\, GA\, 30033\, US
GEO:33.7925418;-84.3049631
X-APPLE-STRUCTURED-LOCATION;VALUE=URI;X-ADDRESS=Mela Bar & Lounge 1359 Clairmont Road Decatur GA 30033 Decatur GA 30033 US;X-APPLE-RADIUS=500;X-TITLE=1359 Clairmont Road\, Decatur\, GA 30033:geo:-84.3049631,33.7925418
END:VEVENT
BEGIN:VEVENT
DTSTART;TZID=UTC:20250607T200000
DTEND;TZID=UTC:20250607T200000
DTSTAMP:20260422T013213
CREATED:20250525T053636Z
LAST-MODIFIED:20250608T042701Z
UID:10002193-1749326400-1749326400@elaevents.com
SUMMARY:Fantasia & Joe
DESCRIPTION:
URL:https://elaevents.com/event/fantasia-joe/
LOCATION:Hard Rock Live\, Hollywood
CATEGORIES:R&B
ATTACH;FMTTYPE=image/jpeg:https://elaevents.com/wp-content/uploads/2025/05/fantasia-joe.jpg
GEO:26.0534476;-80.2138684
END:VEVENT
BEGIN:VEVENT
DTSTART;TZID=UTC:20250607T190000
DTEND;TZID=UTC:20250607T190000
DTSTAMP:20260422T013213
CREATED:20250605T090037Z
LAST-MODIFIED:20250608T045633Z
UID:10002211-1749322800-1749322800@elaevents.com
SUMMARY:Lil Baby - WHAM World Tour
DESCRIPTION:
URL:https://elaevents.com/event/lil-baby-wham-world-tour/
LOCATION:State Farm Arena\, Atlanta
CATEGORIES:Hip-Hop/Rap
ATTACH;FMTTYPE=image/jpeg:https://elaevents.com/wp-content/uploads/2025/06/lil-baby-wham-world-tour.jpg
END:VEVENT
BEGIN:VEVENT
DTSTART;TZID=UTC:20250606T200000
DTEND;TZID=UTC:20250606T200000
DTSTAMP:20260422T013213
CREATED:20250604T103931Z
LAST-MODIFIED:20250607T044536Z
UID:10002209-1749240000-1749240000@elaevents.com
SUMMARY:Reggae Fest Presents Vybz Kartel
DESCRIPTION:
URL:https://elaevents.com/event/reggae-fest-presents-vybz-kartel/
LOCATION:State Farm Arena\, Atlanta
CATEGORIES:Reggae
ATTACH;FMTTYPE=image/jpeg:https://elaevents.com/wp-content/uploads/2025/06/reggae-fest-presents-vybz-kartel.jpg
END:VEVENT
BEGIN:VEVENT
DTSTART;TZID=America/Los_Angeles:20250606T110000
DTEND;TZID=America/Los_Angeles:20250606T140000
DTSTAMP:20260422T013213
CREATED:20250410T193429Z
LAST-MODIFIED:20250410T193429Z
UID:10001961-1749207600-1749218400@elaevents.com
SUMMARY:Monthly #FirstFridayFair Business\, Data & Technology (Virtual Event) - San Jose (#SJC)
DESCRIPTION:Event Happens on First Friday of the Month..  https://jobfair.tao.ai/pod/fff\n\n\n🚀 Ready to expand your professional network and explore new career opportunities? Join the FirstFridayFair Virtual Job Fair & Career Expo by NoWorkerLeftBehind! 🌐 \n#FirstFridayFair is a global virtual networking event designed to connect professionals with recruiters and employers across multiple industries. Held on the First Friday of every month from 11 AM to 2 PM in your local time zone\, this event is FREE and open to all! \n📅 Event Details:Date: First Friday of Each MonthTime: 11 AM – 2 PM (Local Time)Venue: https://firstfridayfair.com/jobfair – No separate Zoom link is needed for the event.Hosted by: NoWorkerLeftBehind & Hires by TAO.ai \n🌟 Why Attend? \n\nAccess to Global & Local Talent/Opportunities: Connect with recruiters and employers from your area and around the world.\nCollaborate & Network: Engage with other job seekers\, recruiters\, and service providers through chat and video meet-ups.\nCareer Resources: Gain access to valuable tools and support for long-lasting career growth.\nSupport Your Local Community: Learn about job openings and opportunities within your local area.\n\n🔑 How to Participate: \n\nJoin the Platform: Create your profile and fill in all the necessary details.\nRSVP for the Event: Secure your place for the next FirstFridayFair.\nLog In on Event Day: Join the event from 11 AM – 2 PM (your local time zone) and network with other professionals and recruiters.\n\n🚀 For Job Seekers & Professionals Everywhere: Whether you’re seeking a new opportunity or building your network\, this event is the perfect place to explore opportunities in various industries. \n📣 Share the Event: Encourage friends\, colleagues\, and job seekers in your network to join us. Let’s connect and grow together! \n👉 Ready to Grow Your Network? Click https://firstfridayfair.com/jobfair to RSVP and participate in the world’s largest virtual job fair! \n👉 Industries Hiring @ Hires Job Fair: Advertising\, Aerospace\, Agriculture\, Automotive\, Healthcare\, Education\, Technology\, Marketing\, Telecommunications\, Finance\, Creative\, Manufacturing\, Transportation\, and more. \n👉 Hosted by No Worker Left Behind [a 501(c)(3)]: A global non-profit dedicated to supporting workers impacted by the pandemic and technological disruptions. Learn more at https://noworkerleftbehind.org. \n👉 Interested in Volunteering with No Worker Left Behind? Sign up at https://one.tao.ai/nwlbvol \n📣 Keywords: CareerNetworking\, JobFair\, VirtualNetworking\, RecruiterEvent\, #FirstFridayFair\, #NoWorkerLeftBehind\, #Employment\, #Diversity\, #Opportunity\, #VirtualJobFair\, #Community\, #Jobsforall
URL:https://elaevents.com/event/monthly-firstfridayfair-business-data-technology-virtual-event-san-jose-sjc-7/
LOCATION:Virtual Event [Online Only]\, San Jose\, CA\, San Jose\, CA\, US
GEO:37.33874;-121.8852525
X-APPLE-STRUCTURED-LOCATION;VALUE=URI;X-ADDRESS=Virtual Event [Online Only] San Jose CA San Jose CA US;X-APPLE-RADIUS=500;X-TITLE=San Jose\, CA:geo:-121.8852525,37.33874
END:VEVENT
BEGIN:VEVENT
DTSTART;TZID=America/Los_Angeles:20250606T110000
DTEND;TZID=America/Los_Angeles:20250606T140000
DTSTAMP:20260422T013213
CREATED:20250410T193427Z
LAST-MODIFIED:20250410T193427Z
UID:10001960-1749207600-1749218400@elaevents.com
SUMMARY:Monthly #FirstFridayFair Business\, Data & Tech (Virtual Event) - Los Angeles (#LAX)
DESCRIPTION:Event Happens on First Friday of the Month..  https://jobfair.tao.ai/pod/fff\n\n\n🚀 Ready to expand your professional network and explore new career opportunities? Join the FirstFridayFair Virtual Job Fair & Career Expo by NoWorkerLeftBehind! 🌐 \n#FirstFridayFair is a global virtual networking event designed to connect professionals with recruiters and employers across multiple industries. Held on the First Friday of every month from 11 AM to 2 PM in your local time zone\, this event is FREE and open to all! \n📅 Event Details:Date: First Friday of Each MonthTime: 11 AM – 2 PM (Local Time)Venue: https://firstfridayfair.com/jobfair – No separate Zoom link is needed for the event.Hosted by: NoWorkerLeftBehind & Hires by TAO.ai \n🌟 Why Attend? \n\nAccess to Global & Local Talent/Opportunities: Connect with recruiters and employers from your area and around the world.\nCollaborate & Network: Engage with other job seekers\, recruiters\, and service providers through chat and video meet-ups.\nCareer Resources: Gain access to valuable tools and support for long-lasting career growth.\nSupport Your Local Community: Learn about job openings and opportunities within your local area.\n\n🔑 How to Participate: \n\nJoin the Platform: Create your profile and fill in all the necessary details.\nRSVP for the Event: Secure your place for the next FirstFridayFair.\nLog In on Event Day: Join the event from 11 AM – 2 PM (your local time zone) and network with other professionals and recruiters.\n\n🚀 For Job Seekers & Professionals Everywhere: Whether you’re seeking a new opportunity or building your network\, this event is the perfect place to explore opportunities in various industries. \n📣 Share the Event: Encourage friends\, colleagues\, and job seekers in your network to join us. Let’s connect and grow together! \n👉 Ready to Grow Your Network? Click https://firstfridayfair.com/jobfair to RSVP and participate in the world’s largest virtual job fair! \n👉 Industries Hiring @ Hires Job Fair: Advertising\, Aerospace\, Agriculture\, Automotive\, Healthcare\, Education\, Technology\, Marketing\, Telecommunications\, Finance\, Creative\, Manufacturing\, Transportation\, and more. \n👉 Hosted by No Worker Left Behind [a 501(c)(3)]: A global non-profit dedicated to supporting workers impacted by the pandemic and technological disruptions. Learn more at https://noworkerleftbehind.org. \n👉 Interested in Volunteering with No Worker Left Behind? Sign up at https://one.tao.ai/nwlbvol \n📣 Keywords: CareerNetworking\, JobFair\, VirtualNetworking\, RecruiterEvent\, #FirstFridayFair\, #NoWorkerLeftBehind\, #Employment\, #Diversity\, #Opportunity\, #VirtualJobFair\, #Community\, #Jobsforall
URL:https://elaevents.com/event/monthly-firstfridayfair-business-data-tech-virtual-event-los-angeles-lax-7/
LOCATION:Virtual Event [Online Only]\, San Jose\, CA\, San Jose\, CA\, US
GEO:37.33874;-121.8852525
X-APPLE-STRUCTURED-LOCATION;VALUE=URI;X-ADDRESS=Virtual Event [Online Only] San Jose CA San Jose CA US;X-APPLE-RADIUS=500;X-TITLE=San Jose\, CA:geo:-121.8852525,37.33874
END:VEVENT
END:VCALENDAR