BEGIN:VCALENDAR
VERSION:2.0
PRODID:-//Ela Events - ECPv6.9.0//NONSGML v1.0//EN
CALSCALE:GREGORIAN
METHOD:PUBLISH
X-WR-CALNAME:Ela Events
X-ORIGINAL-URL:https://elaevents.com
X-WR-CALDESC:Events for Ela Events
REFRESH-INTERVAL;VALUE=DURATION:PT1H
X-Robots-Tag:noindex
X-PUBLISHED-TTL:PT1H
BEGIN:VTIMEZONE
TZID:UTC
BEGIN:STANDARD
TZOFFSETFROM:+0000
TZOFFSETTO:+0000
TZNAME:UTC
DTSTART:20250101T000000
END:STANDARD
TZID:America/New_York
BEGIN:DAYLIGHT
TZOFFSETFROM:-0500
TZOFFSETTO:-0400
TZNAME:EDT
DTSTART:20250309T070000
END:DAYLIGHT
BEGIN:STANDARD
TZOFFSETFROM:-0400
TZOFFSETTO:-0500
TZNAME:EST
DTSTART:20251102T060000
END:STANDARD
END:VTIMEZONE
BEGIN:VEVENT
DTSTART;TZID=UTC:20250828T200000
DTEND;TZID=UTC:20250828T200000
DTSTAMP:20260419T224213
CREATED:20250611T222342Z
LAST-MODIFIED:20250829T090655Z
UID:10002236-1756411200-1756411200@elaevents.com
SUMMARY:The Basement Yard
DESCRIPTION:
URL:https://elaevents.com/event/the-basement-yard/
LOCATION:Arizona Financial Theatre\, Phoenix\, az
CATEGORIES:Theatre
ATTACH;FMTTYPE=image/jpeg:https://elaevents.com/wp-content/uploads/2025/06/the-basement-yard.jpg
END:VEVENT
BEGIN:VEVENT
DTSTART;TZID=UTC:20250828T190000
DTEND;TZID=UTC:20250828T190000
DTSTAMP:20260419T224213
CREATED:20250724T075932Z
LAST-MODIFIED:20250829T040704Z
UID:10002287-1756407600-1756407600@elaevents.com
SUMMARY:blink-182: Missionary Impossible 2025 Tour
DESCRIPTION:
URL:https://elaevents.com/event/blink-182-missionary-impossible-2025-tour/
LOCATION:Hard Rock Live\, Hollywood
CATEGORIES:Rock
ATTACH;FMTTYPE=image/jpeg:https://elaevents.com/wp-content/uploads/2025/07/blink-182-missionary-impossible-2025-tour.jpg
GEO:26.0534476;-80.2138684
END:VEVENT
BEGIN:VEVENT
DTSTART;TZID=UTC:20250826T200000
DTEND;TZID=UTC:20250826T200000
DTSTAMP:20260419T224213
CREATED:20250815T043627Z
LAST-MODIFIED:20250827T042739Z
UID:10002307-1756238400-1756238400@elaevents.com
SUMMARY:The O'Jays
DESCRIPTION:
URL:https://elaevents.com/event/the-ojays/
LOCATION:Hard Rock Live\, Hollywood
CATEGORIES:R&B
ATTACH;FMTTYPE=image/jpeg:https://elaevents.com/wp-content/uploads/2025/08/the-ojays.jpg
GEO:26.0534476;-80.2138684
END:VEVENT
BEGIN:VEVENT
DTSTART;TZID=America/New_York:20250824T220000
DTEND;TZID=America/New_York:20250825T030000
DTSTAMP:20260419T224213
CREATED:20241108T072018Z
LAST-MODIFIED:20241108T072018Z
UID:10000085-1756072800-1756090800@elaevents.com
SUMMARY:SOIREE SUNDAYS AT MELA LOUNGE (LADIES FREE ALL NIGHT)
DESCRIPTION:Come party with us at Mela Lounge every Sunday for Soiree Sundays – ladies get in free all night long!
URL:https://elaevents.com/event/soiree-sundays-at-mela-lounge-ladies-free-all-night-42/
LOCATION:Mela Bar & Lounge\, 1359 Clairmont Road\, Decatur\, GA 30033\, Decatur\, GA\, 30033\, US
GEO:33.7925418;-84.3049631
X-APPLE-STRUCTURED-LOCATION;VALUE=URI;X-ADDRESS=Mela Bar & Lounge 1359 Clairmont Road Decatur GA 30033 Decatur GA 30033 US;X-APPLE-RADIUS=500;X-TITLE=1359 Clairmont Road\, Decatur\, GA 30033:geo:-84.3049631,33.7925418
END:VEVENT
BEGIN:VEVENT
DTSTART;TZID=UTC:20250824T190000
DTEND;TZID=UTC:20250824T190000
DTSTAMP:20260419T224213
CREATED:20250811T054620Z
LAST-MODIFIED:20250825T040247Z
UID:10002294-1756062000-1756062000@elaevents.com
SUMMARY:Tyler Henry - The Hollywood Medium: An Evening of Hope and Healing
DESCRIPTION:
URL:https://elaevents.com/event/tyler-henry-the-hollywood-medium-an-evening-of-hope-and-healing/
LOCATION:Hard Rock Live\, Hollywood
CATEGORIES:Psychics/Mediums/Hypnotists
ATTACH;FMTTYPE=image/jpeg:https://elaevents.com/wp-content/uploads/2025/08/tyler-henry-the-hollywood-medium-an-evening-of-hope-and-healing.jpg
GEO:26.0534476;-80.2138684
END:VEVENT
BEGIN:VEVENT
DTSTART;TZID=UTC:20250824T183000
DTEND;TZID=UTC:20250824T183000
DTSTAMP:20260419T224213
CREATED:20250819T092851Z
LAST-MODIFIED:20250825T081920Z
UID:10002314-1756060200-1756060200@elaevents.com
SUMMARY:Vishal-Sheykhar
DESCRIPTION:
URL:https://elaevents.com/event/vishal-sheykhar/
LOCATION:Arizona Financial Theatre\, Phoenix\, az
CATEGORIES:World
ATTACH;FMTTYPE=image/jpeg:https://elaevents.com/wp-content/uploads/2025/08/vishal-sheykhar.jpg
END:VEVENT
BEGIN:VEVENT
DTSTART;TZID=UTC:20250823T200000
DTEND;TZID=UTC:20250823T200000
DTSTAMP:20260419T224213
CREATED:20250817T112018Z
LAST-MODIFIED:20250824T090508Z
UID:10002313-1755979200-1755979200@elaevents.com
SUMMARY:Men I Trust - Equus Tour 2025
DESCRIPTION:
URL:https://elaevents.com/event/men-i-trust-equus-tour-2025/
LOCATION:Arizona Financial Theatre\, Phoenix\, az
CATEGORIES:Pop
ATTACH;FMTTYPE=image/jpeg:https://elaevents.com/wp-content/uploads/2025/08/men-i-trust-equus-tour-2025.jpg
END:VEVENT
BEGIN:VEVENT
DTSTART;TZID=UTC:20250823T200000
DTEND;TZID=UTC:20250823T200000
DTSTAMP:20260419T224213
CREATED:20250809T055230Z
LAST-MODIFIED:20250824T042844Z
UID:10002291-1755979200-1755979200@elaevents.com
SUMMARY:BOMBA ESTÉREO + RAWAYANA: ASTROPICAL TOUR 2025
DESCRIPTION:
URL:https://elaevents.com/event/bomba-estereo-rawayana-astropical-tour-2025/
LOCATION:Hard Rock Live\, Hollywood
CATEGORIES:Latin
ATTACH;FMTTYPE=image/jpeg:https://elaevents.com/wp-content/uploads/2025/08/bomba-estereo-rawayana-astropical-tour-2025.jpg
GEO:26.0534476;-80.2138684
END:VEVENT
BEGIN:VEVENT
DTSTART;TZID=UTC:20250822T200000
DTEND;TZID=UTC:20250822T200000
DTSTAMP:20260419T224213
CREATED:20250815T094448Z
LAST-MODIFIED:20250823T092559Z
UID:10002310-1755892800-1755892800@elaevents.com
SUMMARY:Ethel Cain: The Willoughby Tucker Forever Tour
DESCRIPTION:
URL:https://elaevents.com/event/ethel-cain-the-willoughby-tucker-forever-tour/
LOCATION:Arizona Financial Theatre\, Phoenix\, az
CATEGORIES:Rock
ATTACH;FMTTYPE=image/jpeg:https://elaevents.com/wp-content/uploads/2025/08/ethel-cain-the-willoughby-tucker-forever-tour.jpg
END:VEVENT
BEGIN:VEVENT
DTSTART;TZID=UTC:20250822T200000
DTEND;TZID=UTC:20250822T200000
DTSTAMP:20260419T224213
CREATED:20250705T202835Z
LAST-MODIFIED:20250823T041610Z
UID:10002268-1755892800-1755892800@elaevents.com
SUMMARY:UB40
DESCRIPTION:
URL:https://elaevents.com/event/ub40/
LOCATION:Hard Rock Live\, Hollywood
CATEGORIES:Reggae
ATTACH;FMTTYPE=image/png:https://elaevents.com/wp-content/uploads/2025/07/ub40.png
GEO:26.0534476;-80.2138684
END:VEVENT
BEGIN:VEVENT
DTSTART;TZID=UTC:20250821T184500
DTEND;TZID=UTC:20250821T184500
DTSTAMP:20260419T224213
CREATED:20250815T070322Z
LAST-MODIFIED:20250822T072534Z
UID:10002308-1755801900-1755801900@elaevents.com
SUMMARY:Toto + Men At Work + Christopher Cross
DESCRIPTION:
URL:https://elaevents.com/event/toto-men-at-work-christopher-cross/
LOCATION:Arizona Financial Theatre\, Phoenix\, az
CATEGORIES:Rock
ATTACH;FMTTYPE=image/jpeg:https://elaevents.com/wp-content/uploads/2025/08/toto-men-at-work-christopher-cross.jpg
END:VEVENT
BEGIN:VEVENT
DTSTART;TZID=UTC:20250821T180000
DTEND;TZID=UTC:20250821T180000
DTSTAMP:20260419T224213
CREATED:20250724T075934Z
LAST-MODIFIED:20250822T003017Z
UID:10002283-1755799200-1755799200@elaevents.com
SUMMARY:2025 PFL World Tournament 10: Finals
DESCRIPTION:
URL:https://elaevents.com/event/2025-pfl-world-tournament-10-finals/
LOCATION:Hard Rock Live\, Hollywood
CATEGORIES:Martial Arts
ATTACH;FMTTYPE=image/jpeg:https://elaevents.com/wp-content/uploads/2025/07/2025-pfl-world-tournament-10-finals.jpg
GEO:26.0534476;-80.2138684
END:VEVENT
BEGIN:VEVENT
DTSTART;TZID=UTC:20250820T180000
DTEND;TZID=UTC:20250820T180000
DTSTAMP:20260419T224213
CREATED:20250810T081032Z
LAST-MODIFIED:20250821T065637Z
UID:10002293-1755712800-1755712800@elaevents.com
SUMMARY:Lost 80's Live
DESCRIPTION:
URL:https://elaevents.com/event/lost-80s-live/
LOCATION:Arizona Financial Theatre\, Phoenix\, az
CATEGORIES:Rock
ATTACH;FMTTYPE=image/jpeg:https://elaevents.com/wp-content/uploads/2025/08/lost-80s-live.jpg
END:VEVENT
BEGIN:VEVENT
DTSTART;TZID=UTC:20250818T193000
DTEND;TZID=UTC:20250818T193000
DTSTAMP:20260419T224213
CREATED:20250807T070742Z
LAST-MODIFIED:20250819T083126Z
UID:10002290-1755545400-1755545400@elaevents.com
SUMMARY:Whiskey Myers & Tedeschi Trucks Band: Live In 25
DESCRIPTION:
URL:https://elaevents.com/event/whiskey-myers-tedeschi-trucks-band-live-in-25/
LOCATION:Arizona Financial Theatre\, Phoenix\, az
CATEGORIES:Country
ATTACH;FMTTYPE=image/jpeg:https://elaevents.com/wp-content/uploads/2025/08/whiskey-myers-tedeschi-trucks-band-live-in-25.jpg
END:VEVENT
BEGIN:VEVENT
DTSTART;TZID=America/New_York:20250817T220000
DTEND;TZID=America/New_York:20250818T030000
DTSTAMP:20260419T224213
CREATED:20241108T072017Z
LAST-MODIFIED:20241108T072017Z
UID:10000084-1755468000-1755486000@elaevents.com
SUMMARY:SOIREE SUNDAYS AT MELA LOUNGE (LADIES FREE ALL NIGHT)
DESCRIPTION:Come party with us at Mela Lounge every Sunday for Soiree Sundays – ladies get in free all night long!
URL:https://elaevents.com/event/soiree-sundays-at-mela-lounge-ladies-free-all-night-41/
LOCATION:Mela Bar & Lounge\, 1359 Clairmont Road\, Decatur\, GA 30033\, Decatur\, GA\, 30033\, US
GEO:33.7925418;-84.3049631
X-APPLE-STRUCTURED-LOCATION;VALUE=URI;X-ADDRESS=Mela Bar & Lounge 1359 Clairmont Road Decatur GA 30033 Decatur GA 30033 US;X-APPLE-RADIUS=500;X-TITLE=1359 Clairmont Road\, Decatur\, GA 30033:geo:-84.3049631,33.7925418
END:VEVENT
BEGIN:VEVENT
DTSTART;TZID=UTC:20250816T200000
DTEND;TZID=UTC:20250816T200000
DTSTAMP:20260419T224213
CREATED:20250802T040631Z
LAST-MODIFIED:20250817T042947Z
UID:10002282-1755374400-1755374400@elaevents.com
SUMMARY:Gabriel Fluffy Iglesias Live
DESCRIPTION:
URL:https://elaevents.com/event/gabriel-fluffy-iglesias-live-2/
LOCATION:Hard Rock Live\, Hollywood
CATEGORIES:Comedy
ATTACH;FMTTYPE=image/jpeg:https://elaevents.com/wp-content/uploads/2025/08/gabriel-fluffy-iglesias-live.jpg
GEO:26.0534476;-80.2138684
END:VEVENT
BEGIN:VEVENT
DTSTART;TZID=UTC:20250816T190000
DTEND;TZID=UTC:20250816T190000
DTSTAMP:20260419T224213
CREATED:20250804T091815Z
LAST-MODIFIED:20250817T074459Z
UID:10002285-1755370800-1755370800@elaevents.com
SUMMARY:Kurtis Conner: The Goodfellow World Tour
DESCRIPTION:
URL:https://elaevents.com/event/kurtis-conner-the-goodfellow-world-tour/
LOCATION:Arizona Financial Theatre\, Phoenix\, az
CATEGORIES:Comedy
ATTACH;FMTTYPE=image/jpeg:https://elaevents.com/wp-content/uploads/2025/08/kurtis-conner-the-goodfellow-world-tour.jpg
END:VEVENT
BEGIN:VEVENT
DTSTART;TZID=UTC:20250815T200000
DTEND;TZID=UTC:20250815T200000
DTSTAMP:20260419T224213
CREATED:20250801T043753Z
LAST-MODIFIED:20250816T045135Z
UID:10002279-1755288000-1755288000@elaevents.com
SUMMARY:Gabriel Fluffy Iglesias Live
DESCRIPTION:
URL:https://elaevents.com/event/gabriel-fluffy-iglesias-live/
LOCATION:Hard Rock Live\, Hollywood
CATEGORIES:Comedy
ATTACH;FMTTYPE=image/jpeg:https://elaevents.com/wp-content/uploads/2025/08/gabriel-fluffy-iglesias-live.jpg
GEO:26.0534476;-80.2138684
END:VEVENT
BEGIN:VEVENT
DTSTART;TZID=UTC:20250814T200000
DTEND;TZID=UTC:20250814T200000
DTSTAMP:20260419T224213
CREATED:20250727T045805Z
LAST-MODIFIED:20250815T042322Z
UID:10002273-1755201600-1755201600@elaevents.com
SUMMARY:The Joe Perry Project
DESCRIPTION:
URL:https://elaevents.com/event/the-joe-perry-project/
LOCATION:Hard Rock Live\, Hollywood
CATEGORIES:Rock
ATTACH;FMTTYPE=image/jpeg:https://elaevents.com/wp-content/uploads/2025/07/the-joe-perry-project.jpg
GEO:26.0534476;-80.2138684
END:VEVENT
BEGIN:VEVENT
DTSTART;TZID=UTC:20250814T183000
DTEND;TZID=UTC:20250814T183000
DTSTAMP:20260419T224213
CREATED:20250428T182544Z
LAST-MODIFIED:20250815T073012Z
UID:10002179-1755196200-1755196200@elaevents.com
SUMMARY:Simple Plan: Bigger Than You Think! Tour
DESCRIPTION:
URL:https://elaevents.com/event/simple-plan-bigger-than-you-think-tour/
LOCATION:Arizona Financial Theatre\, Phoenix\, az
CATEGORIES:Rock
ATTACH;FMTTYPE=image/jpeg:https://elaevents.com/wp-content/uploads/2025/04/simple-plan-bigger-than-you-think-tour-scaled.jpg
END:VEVENT
BEGIN:VEVENT
DTSTART;TZID=UTC:20250813T200000
DTEND;TZID=UTC:20250813T200000
DTSTAMP:20260419T224213
CREATED:20250801T083429Z
LAST-MODIFIED:20250814T090158Z
UID:10002280-1755115200-1755115200@elaevents.com
SUMMARY:Kevin Kaarl
DESCRIPTION:
URL:https://elaevents.com/event/kevin-kaarl/
LOCATION:Arizona Financial Theatre\, Phoenix\, az
CATEGORIES:Rock
ATTACH;FMTTYPE=image/jpeg:https://elaevents.com/wp-content/uploads/2025/08/kevin-kaarl-scaled.jpg
END:VEVENT
BEGIN:VEVENT
DTSTART;TZID=America/New_York:20250810T220000
DTEND;TZID=America/New_York:20250811T030000
DTSTAMP:20260419T224213
CREATED:20241108T072016Z
LAST-MODIFIED:20241108T072016Z
UID:10000083-1754863200-1754881200@elaevents.com
SUMMARY:SOIREE SUNDAYS AT MELA LOUNGE (LADIES FREE ALL NIGHT)
DESCRIPTION:Come party with us at Mela Lounge every Sunday for Soiree Sundays – ladies get in free all night long!
URL:https://elaevents.com/event/soiree-sundays-at-mela-lounge-ladies-free-all-night-40/
LOCATION:Mela Bar & Lounge\, 1359 Clairmont Road\, Decatur\, GA 30033\, Decatur\, GA\, 30033\, US
GEO:33.7925418;-84.3049631
X-APPLE-STRUCTURED-LOCATION;VALUE=URI;X-ADDRESS=Mela Bar & Lounge 1359 Clairmont Road Decatur GA 30033 Decatur GA 30033 US;X-APPLE-RADIUS=500;X-TITLE=1359 Clairmont Road\, Decatur\, GA 30033:geo:-84.3049631,33.7925418
END:VEVENT
BEGIN:VEVENT
DTSTART;TZID=UTC:20250810T200000
DTEND;TZID=UTC:20250810T200000
DTSTAMP:20260419T224213
CREATED:20250726T042149Z
LAST-MODIFIED:20250811T045546Z
UID:10002271-1754856000-1754856000@elaevents.com
SUMMARY:Rebelution
DESCRIPTION:
URL:https://elaevents.com/event/rebelution/
LOCATION:Hard Rock Live\, Hollywood
CATEGORIES:Reggae
ATTACH;FMTTYPE=image/jpeg:https://elaevents.com/wp-content/uploads/2025/07/rebelution.jpg
GEO:26.0534476;-80.2138684
END:VEVENT
BEGIN:VEVENT
DTSTART;TZID=UTC:20250808T203000
DTEND;TZID=UTC:20250808T203000
DTSTAMP:20260419T224213
CREATED:20250723T044508Z
LAST-MODIFIED:20250809T050231Z
UID:10002267-1754685000-1754685000@elaevents.com
SUMMARY:Ramon Ayala - Historia De Un Final
DESCRIPTION:
URL:https://elaevents.com/event/ramon-ayala-historia-de-un-final/
LOCATION:Hard Rock Live\, Hollywood
CATEGORIES:Latin
ATTACH;FMTTYPE=image/jpeg:https://elaevents.com/wp-content/uploads/2025/07/ramon-ayala-historia-de-un-final.jpg
GEO:26.0534476;-80.2138684
END:VEVENT
BEGIN:VEVENT
DTSTART;TZID=UTC:20250808T200000
DTEND;TZID=UTC:20250808T200000
DTSTAMP:20260419T224213
CREATED:20250728T090658Z
LAST-MODIFIED:20250809T085658Z
UID:10002275-1754683200-1754683200@elaevents.com
SUMMARY:OSCAR MAYDON - RICO O MUERTO TOUR
DESCRIPTION:
URL:https://elaevents.com/event/oscar-maydon-rico-o-muerto-tour/
LOCATION:Arizona Financial Theatre\, Phoenix\, az
CATEGORIES:Latin
ATTACH;FMTTYPE=image/jpeg:https://elaevents.com/wp-content/uploads/2025/07/oscar-maydon-rico-o-muerto-tour.jpg
END:VEVENT
BEGIN:VEVENT
DTSTART;TZID=UTC:20250807T193000
DTEND;TZID=UTC:20250807T193000
DTSTAMP:20260419T224213
CREATED:20250602T222609Z
LAST-MODIFIED:20250808T033635Z
UID:10002223-1754595000-1754595000@elaevents.com
SUMMARY:A.R. Rahman
DESCRIPTION:
URL:https://elaevents.com/event/a-r-rahman/
LOCATION:Hard Rock Live\, Hollywood
CATEGORIES:World
ATTACH;FMTTYPE=image/jpeg:https://elaevents.com/wp-content/uploads/2025/06/a-r-rahman.jpg
GEO:26.0534476;-80.2138684
END:VEVENT
BEGIN:VEVENT
DTSTART;TZID=UTC:20250806T170000
DTEND;TZID=UTC:20250806T170000
DTSTAMP:20260419T224213
CREATED:20250727T071350Z
LAST-MODIFIED:20250807T070215Z
UID:10002274-1754499600-1754499600@elaevents.com
SUMMARY:Danny Go! Live!
DESCRIPTION:
URL:https://elaevents.com/event/danny-go-live/
LOCATION:Arizona Financial Theatre\, Phoenix\, az
CATEGORIES:Family
ATTACH;FMTTYPE=image/jpeg:https://elaevents.com/wp-content/uploads/2025/07/danny-go-live.jpg
END:VEVENT
BEGIN:VEVENT
DTSTART;TZID=America/New_York:20250803T220000
DTEND;TZID=America/New_York:20250804T030000
DTSTAMP:20260419T224213
CREATED:20241108T072015Z
LAST-MODIFIED:20241108T072015Z
UID:10000082-1754258400-1754276400@elaevents.com
SUMMARY:SOIREE SUNDAYS AT MELA LOUNGE (LADIES FREE ALL NIGHT)
DESCRIPTION:Come party with us at Mela Lounge every Sunday for Soiree Sundays – ladies get in free all night long!
URL:https://elaevents.com/event/soiree-sundays-at-mela-lounge-ladies-free-all-night-39/
LOCATION:Mela Bar & Lounge\, 1359 Clairmont Road\, Decatur\, GA 30033\, Decatur\, GA\, 30033\, US
GEO:33.7925418;-84.3049631
X-APPLE-STRUCTURED-LOCATION;VALUE=URI;X-ADDRESS=Mela Bar & Lounge 1359 Clairmont Road Decatur GA 30033 Decatur GA 30033 US;X-APPLE-RADIUS=500;X-TITLE=1359 Clairmont Road\, Decatur\, GA 30033:geo:-84.3049631,33.7925418
END:VEVENT
BEGIN:VEVENT
DTSTART;TZID=UTC:20250803T200000
DTEND;TZID=UTC:20250803T200000
DTSTAMP:20260419T224213
CREATED:20241114T141056Z
LAST-MODIFIED:20250804T090525Z
UID:10000113-1754251200-1754251200@elaevents.com
SUMMARY:Teddy Swims - I've Tried Everything But Therapy Tour
DESCRIPTION:
URL:https://elaevents.com/event/teddy-swims-ive-tried-everything-but-therapy-tour-2/
LOCATION:Arizona Financial Theatre\, Phoenix\, az
CATEGORIES:Pop
ATTACH;FMTTYPE=image/jpeg:https://elaevents.com/wp-content/uploads/2024/11/unnamed-file-7.jpg
END:VEVENT
BEGIN:VEVENT
DTSTART;TZID=UTC:20250802T193000
DTEND;TZID=UTC:20250802T193000
DTSTAMP:20260419T224213
CREATED:20250421T143719Z
LAST-MODIFIED:20250803T040246Z
UID:10002147-1754163000-1754163000@elaevents.com
SUMMARY:Shania Twain:  Live in Concert
DESCRIPTION:
URL:https://elaevents.com/event/shania-twain-live-in-concert-2/
LOCATION:Hard Rock Live\, Hollywood
CATEGORIES:Country
ATTACH;FMTTYPE=image/jpeg:https://elaevents.com/wp-content/uploads/2024/12/shania-twain-live-in-concert.jpg
GEO:26.0534476;-80.2138684
END:VEVENT
END:VCALENDAR