BEGIN:VCALENDAR
VERSION:2.0
PRODID:-//Ela Events - ECPv6.9.0//NONSGML v1.0//EN
CALSCALE:GREGORIAN
METHOD:PUBLISH
X-WR-CALNAME:Ela Events
X-ORIGINAL-URL:https://elaevents.com
X-WR-CALDESC:Events for Ela Events
REFRESH-INTERVAL;VALUE=DURATION:PT1H
X-Robots-Tag:noindex
X-PUBLISHED-TTL:PT1H
BEGIN:VTIMEZONE
TZID:America/New_York
BEGIN:DAYLIGHT
TZOFFSETFROM:-0500
TZOFFSETTO:-0400
TZNAME:EDT
DTSTART:20250309T070000
END:DAYLIGHT
BEGIN:STANDARD
TZOFFSETFROM:-0400
TZOFFSETTO:-0500
TZNAME:EST
DTSTART:20251102T060000
END:STANDARD
TZID:America/Chicago
BEGIN:DAYLIGHT
TZOFFSETFROM:-0600
TZOFFSETTO:-0500
TZNAME:CDT
DTSTART:20250309T080000
END:DAYLIGHT
BEGIN:STANDARD
TZOFFSETFROM:-0500
TZOFFSETTO:-0600
TZNAME:CST
DTSTART:20251102T070000
END:STANDARD
TZID:UTC
BEGIN:STANDARD
TZOFFSETFROM:+0000
TZOFFSETTO:+0000
TZNAME:UTC
DTSTART:20250101T000000
END:STANDARD
TZID:America/Phoenix
BEGIN:STANDARD
TZOFFSETFROM:-0700
TZOFFSETTO:-0700
TZNAME:MST
DTSTART:20250101T000000
END:STANDARD
TZID:America/Los_Angeles
BEGIN:DAYLIGHT
TZOFFSETFROM:-0800
TZOFFSETTO:-0700
TZNAME:PDT
DTSTART:20250309T100000
END:DAYLIGHT
BEGIN:STANDARD
TZOFFSETFROM:-0700
TZOFFSETTO:-0800
TZNAME:PST
DTSTART:20251102T090000
END:STANDARD
TZID:America/Montreal
BEGIN:DAYLIGHT
TZOFFSETFROM:-0500
TZOFFSETTO:-0400
TZNAME:EDT
DTSTART:20250309T070000
END:DAYLIGHT
BEGIN:STANDARD
TZOFFSETFROM:-0400
TZOFFSETTO:-0500
TZNAME:EST
DTSTART:20251102T060000
END:STANDARD
END:VTIMEZONE
BEGIN:VEVENT
DTSTART;TZID=America/New_York:20250104T220000
DTEND;TZID=America/New_York:20250105T030000
DTSTAMP:20260423T185225
CREATED:20241108T071928Z
LAST-MODIFIED:20241108T071928Z
UID:10000030-1736028000-1736046000@elaevents.com
SUMMARY:FREE ENTRY & DRINKS W/RSVP AT LYFEATL THIS SATURDAY
DESCRIPTION:THE #1 PARTY IN DOWNTOWN ATLANTA !\n\n\nEACH AND EVERY SATURDAY THE BEST PARTY IN ATLANTA \nFOR VIP SECTIONS W/ BOTTLE SERVICE TEXT “LYFE” TO 470.408.9038 FOR ANY SATURDAY \nFOOD & MORE IS AVAILABLE \nLIVE HIPHOP AND R&B DJ’S \nDOORS OPEN AT 10PM \nDON’T CLOSE UNTIL 3AM
URL:https://elaevents.com/event/free-entry-drinks-w-rsvp-at-lyfeatl-this-saturday-9/
LOCATION:Lyfe ATL\, 201 Courtland Street Northeast\, Atlanta\, GA 30303\, Atlanta\, GA\, 30303\, US
GEO:33.7599132;-84.3839809
X-APPLE-STRUCTURED-LOCATION;VALUE=URI;X-ADDRESS=Lyfe ATL 201 Courtland Street Northeast Atlanta GA 30303 Atlanta GA 30303 US;X-APPLE-RADIUS=500;X-TITLE=201 Courtland Street Northeast\, Atlanta\, GA 30303:geo:-84.3839809,33.7599132
END:VEVENT
BEGIN:VEVENT
DTSTART;TZID=America/New_York:20250105T220000
DTEND;TZID=America/New_York:20250106T030000
DTSTAMP:20260423T185225
CREATED:20241108T071928Z
LAST-MODIFIED:20241108T071928Z
UID:10000031-1736114400-1736132400@elaevents.com
SUMMARY:SOIREE SUNDAYS AT MELA LOUNGE (LADIES FREE ALL NIGHT)
DESCRIPTION:Come party with us at Mela Lounge every Sunday for Soiree Sundays – ladies get in free all night long!
URL:https://elaevents.com/event/soiree-sundays-at-mela-lounge-ladies-free-all-night-9/
LOCATION:Mela Bar & Lounge\, 1359 Clairmont Road\, Decatur\, GA 30033\, Decatur\, GA\, 30033\, US
GEO:33.7925418;-84.3049631
X-APPLE-STRUCTURED-LOCATION;VALUE=URI;X-ADDRESS=Mela Bar & Lounge 1359 Clairmont Road Decatur GA 30033 Decatur GA 30033 US;X-APPLE-RADIUS=500;X-TITLE=1359 Clairmont Road\, Decatur\, GA 30033:geo:-84.3049631,33.7925418
END:VEVENT
BEGIN:VEVENT
DTSTART;TZID=America/Chicago:20250106T110000
DTEND;TZID=America/Chicago:20250106T140000
DTSTAMP:20260423T185225
CREATED:20241205T194826Z
LAST-MODIFIED:20241205T194826Z
UID:10001047-1736161200-1736172000@elaevents.com
SUMMARY:#AnalyticsClub Virtual Job Fair / Career Expo Event #Oklahoma
DESCRIPTION:
URL:https://elaevents.com/event/analyticsclub-virtual-job-fair-career-expo-event-oklahoma-2/
LOCATION:az
END:VEVENT
BEGIN:VEVENT
DTSTART;TZID=America/New_York:20250110T220000
DTEND;TZID=America/New_York:20250111T030000
DTSTAMP:20260423T185225
CREATED:20241108T071929Z
LAST-MODIFIED:20241108T071929Z
UID:10000032-1736546400-1736564400@elaevents.com
SUMMARY:FRIDAY NIGHT LIVE THIS FRIDAY AT MIRZA LOUNGE (FREE BEFORE 11PM W/RSVP)
DESCRIPTION:Join us this Friday night at Mirza Lounge  – it’s free before 11pm with RSVP! Free Bday Sections available . Text “Mirza” to 4704089038\n\n\nFRIDAY NIGHT LIVE THIS FRIDAY AT MIRZA LOUNGE (FREE BEFORE 11PM W/RSVP) \nCome join us for an epic Friday night at Mirza Lounge! Get ready to dance\, mingle\, and have a great time with friends. The party starts at 10:00 PM\, so make sure to arrive early to take advantage of the free entry before 11:00 PM with your RSVP. Don’t miss out on the hottest event in town! \nTime: 10:00 PM \nLocation: Mirza Hookah Lounge
URL:https://elaevents.com/event/friday-night-live-this-friday-at-mirza-lounge-free-before-11pm-w-rsvp-10/
LOCATION:Mirza Hookah Lounge\, 1098 Herrington Road #2\, Lawrenceville\, GA 30044\, Lawrenceville\, GA\, 30044\, US
GEO:33.9460137;-84.081751
X-APPLE-STRUCTURED-LOCATION;VALUE=URI;X-ADDRESS=Mirza Hookah Lounge 1098 Herrington Road #2 Lawrenceville GA 30044 Lawrenceville GA 30044 US;X-APPLE-RADIUS=500;X-TITLE=1098 Herrington Road #2\, Lawrenceville\, GA 30044:geo:-84.081751,33.9460137
END:VEVENT
BEGIN:VEVENT
DTSTART;TZID=UTC:20250111T100000
DTEND;TZID=UTC:20250111T100000
DTSTAMP:20260423T185225
CREATED:20241223T103921Z
LAST-MODIFIED:20250112T073121Z
UID:10001323-1736589600-1736589600@elaevents.com
SUMMARY:PAW Patrol Live! "Heroes Unite"
DESCRIPTION:
URL:https://elaevents.com/event/paw-patrol-live-heroes-unite/
LOCATION:Arizona Financial Theatre\, Phoenix\, az
CATEGORIES:Children's Theatre
END:VEVENT
BEGIN:VEVENT
DTSTART;TZID=America/New_York:20250112T220000
DTEND;TZID=America/New_York:20250113T030000
DTSTAMP:20260423T185225
CREATED:20241108T071930Z
LAST-MODIFIED:20241108T071930Z
UID:10000033-1736719200-1736737200@elaevents.com
SUMMARY:SOIREE SUNDAYS AT MELA LOUNGE (LADIES FREE ALL NIGHT)
DESCRIPTION:Come party with us at Mela Lounge every Sunday for Soiree Sundays – ladies get in free all night long!
URL:https://elaevents.com/event/soiree-sundays-at-mela-lounge-ladies-free-all-night-10/
LOCATION:Mela Bar & Lounge\, 1359 Clairmont Road\, Decatur\, GA 30033\, Decatur\, GA\, 30033\, US
GEO:33.7925418;-84.3049631
X-APPLE-STRUCTURED-LOCATION;VALUE=URI;X-ADDRESS=Mela Bar & Lounge 1359 Clairmont Road Decatur GA 30033 Decatur GA 30033 US;X-APPLE-RADIUS=500;X-TITLE=1359 Clairmont Road\, Decatur\, GA 30033:geo:-84.3049631,33.7925418
END:VEVENT
BEGIN:VEVENT
DTSTART;TZID=UTC:20250114T193000
DTEND;TZID=UTC:20250114T193000
DTSTAMP:20260423T185225
CREATED:20241113T004746Z
LAST-MODIFIED:20250115T053754Z
UID:10000096-1736883000-1736883000@elaevents.com
SUMMARY:Atlanta Hawks vs Phoenix Suns
DESCRIPTION:
URL:https://elaevents.com/event/atlanta-hawks-vs-phoenix-suns/
LOCATION:State Farm Arena\, Atlanta
CATEGORIES:Basketball
ATTACH;FMTTYPE=image/jpeg:https://elaevents.com/wp-content/uploads/2024/11/unnamed-file.jpg
END:VEVENT
BEGIN:VEVENT
DTSTART;TZID=America/New_York:20250117T220000
DTEND;TZID=America/New_York:20250118T030000
DTSTAMP:20260423T185225
CREATED:20241108T071931Z
LAST-MODIFIED:20241108T071931Z
UID:10000034-1737151200-1737169200@elaevents.com
SUMMARY:FRIDAY NIGHT LIVE THIS FRIDAY AT MIRZA LOUNGE (FREE BEFORE 11PM W/RSVP)
DESCRIPTION:Join us this Friday night at Mirza Lounge  – it’s free before 11pm with RSVP! Free Bday Sections available . Text “Mirza” to 4704089038\n\n\nFRIDAY NIGHT LIVE THIS FRIDAY AT MIRZA LOUNGE (FREE BEFORE 11PM W/RSVP) \nCome join us for an epic Friday night at Mirza Lounge! Get ready to dance\, mingle\, and have a great time with friends. The party starts at 10:00 PM\, so make sure to arrive early to take advantage of the free entry before 11:00 PM with your RSVP. Don’t miss out on the hottest event in town! \nTime: 10:00 PM \nLocation: Mirza Hookah Lounge
URL:https://elaevents.com/event/friday-night-live-this-friday-at-mirza-lounge-free-before-11pm-w-rsvp-11/
LOCATION:Mirza Hookah Lounge\, 1098 Herrington Road #2\, Lawrenceville\, GA 30044\, Lawrenceville\, GA\, 30044\, US
GEO:33.9460137;-84.081751
X-APPLE-STRUCTURED-LOCATION;VALUE=URI;X-ADDRESS=Mirza Hookah Lounge 1098 Herrington Road #2 Lawrenceville GA 30044 Lawrenceville GA 30044 US;X-APPLE-RADIUS=500;X-TITLE=1098 Herrington Road #2\, Lawrenceville\, GA 30044:geo:-84.081751,33.9460137
END:VEVENT
BEGIN:VEVENT
DTSTART;TZID=America/New_York:20250119T220000
DTEND;TZID=America/New_York:20250120T030000
DTSTAMP:20260423T185225
CREATED:20241108T071932Z
LAST-MODIFIED:20241108T071932Z
UID:10000035-1737324000-1737342000@elaevents.com
SUMMARY:SOIREE SUNDAYS AT MELA LOUNGE (LADIES FREE ALL NIGHT)
DESCRIPTION:Come party with us at Mela Lounge every Sunday for Soiree Sundays – ladies get in free all night long!
URL:https://elaevents.com/event/soiree-sundays-at-mela-lounge-ladies-free-all-night-11/
LOCATION:Mela Bar & Lounge\, 1359 Clairmont Road\, Decatur\, GA 30033\, Decatur\, GA\, 30033\, US
GEO:33.7925418;-84.3049631
X-APPLE-STRUCTURED-LOCATION;VALUE=URI;X-ADDRESS=Mela Bar & Lounge 1359 Clairmont Road Decatur GA 30033 Decatur GA 30033 US;X-APPLE-RADIUS=500;X-TITLE=1359 Clairmont Road\, Decatur\, GA 30033:geo:-84.3049631,33.7925418
END:VEVENT
BEGIN:VEVENT
DTSTART;TZID=UTC:20250122T193000
DTEND;TZID=UTC:20250122T193000
DTSTAMP:20260423T185225
CREATED:20241130T093118Z
LAST-MODIFIED:20250123T053153Z
UID:10000581-1737574200-1737574200@elaevents.com
SUMMARY:Atlanta Hawks vs Detroit Pistons
DESCRIPTION:
URL:https://elaevents.com/event/atlanta-hawks-vs-detroit-pistons/
LOCATION:State Farm Arena\, Atlanta
CATEGORIES:Basketball
ATTACH;FMTTYPE=image/jpeg:https://elaevents.com/wp-content/uploads/2024/11/unnamed-file.jpg
END:VEVENT
BEGIN:VEVENT
DTSTART;TZID=UTC:20250123T193000
DTEND;TZID=UTC:20250123T193000
DTSTAMP:20260423T185225
CREATED:20241113T004742Z
LAST-MODIFIED:20250124T053045Z
UID:10000097-1737660600-1737660600@elaevents.com
SUMMARY:Atlanta Hawks vs Toronto Raptors
DESCRIPTION:
URL:https://elaevents.com/event/atlanta-hawks-vs-toronto-raptors-2/
LOCATION:State Farm Arena\, Atlanta
CATEGORIES:Basketball
ATTACH;FMTTYPE=image/jpeg:https://elaevents.com/wp-content/uploads/2024/11/unnamed-file.jpg
END:VEVENT
BEGIN:VEVENT
DTSTART;TZID=America/New_York:20250124T220000
DTEND;TZID=America/New_York:20250125T030000
DTSTAMP:20260423T185225
CREATED:20241108T071933Z
LAST-MODIFIED:20241108T071933Z
UID:10000036-1737756000-1737774000@elaevents.com
SUMMARY:FRIDAY NIGHT LIVE THIS FRIDAY AT MIRZA LOUNGE (FREE BEFORE 11PM W/RSVP)
DESCRIPTION:Join us this Friday night at Mirza Lounge  – it’s free before 11pm with RSVP! Free Bday Sections available . Text “Mirza” to 4704089038\n\n\nFRIDAY NIGHT LIVE THIS FRIDAY AT MIRZA LOUNGE (FREE BEFORE 11PM W/RSVP) \nCome join us for an epic Friday night at Mirza Lounge! Get ready to dance\, mingle\, and have a great time with friends. The party starts at 10:00 PM\, so make sure to arrive early to take advantage of the free entry before 11:00 PM with your RSVP. Don’t miss out on the hottest event in town! \nTime: 10:00 PM \nLocation: Mirza Hookah Lounge
URL:https://elaevents.com/event/friday-night-live-this-friday-at-mirza-lounge-free-before-11pm-w-rsvp-12/
LOCATION:Mirza Hookah Lounge\, 1098 Herrington Road #2\, Lawrenceville\, GA 30044\, Lawrenceville\, GA\, 30044\, US
GEO:33.9460137;-84.081751
X-APPLE-STRUCTURED-LOCATION;VALUE=URI;X-ADDRESS=Mirza Hookah Lounge 1098 Herrington Road #2 Lawrenceville GA 30044 Lawrenceville GA 30044 US;X-APPLE-RADIUS=500;X-TITLE=1098 Herrington Road #2\, Lawrenceville\, GA 30044:geo:-84.081751,33.9460137
END:VEVENT
BEGIN:VEVENT
DTSTART;TZID=UTC:20250125T193000
DTEND;TZID=UTC:20250125T193000
DTSTAMP:20260423T185225
CREATED:20241113T004739Z
LAST-MODIFIED:20250126T060211Z
UID:10000092-1737833400-1737833400@elaevents.com
SUMMARY:Atlanta Hawks vs Toronto Raptors
DESCRIPTION:
URL:https://elaevents.com/event/atlanta-hawks-vs-toronto-raptors/
LOCATION:State Farm Arena\, Atlanta
CATEGORIES:Basketball
ATTACH;FMTTYPE=image/jpeg:https://elaevents.com/wp-content/uploads/2024/11/unnamed-file.jpg
END:VEVENT
BEGIN:VEVENT
DTSTART;TZID=UTC:20250125T200000
DTEND;TZID=UTC:20250125T200000
DTSTAMP:20260423T185225
CREATED:20241114T141051Z
LAST-MODIFIED:20250126T055237Z
UID:10000105-1737835200-1737835200@elaevents.com
SUMMARY:Jerry Seinfeld
DESCRIPTION:
URL:https://elaevents.com/event/jerry-seinfeld/
LOCATION:Hard Rock Live\, Hollywood
CATEGORIES:Comedy
ATTACH;FMTTYPE=image/jpeg:https://elaevents.com/wp-content/uploads/2024/11/unnamed-file-5.jpg
GEO:26.0534476;-80.2138684
END:VEVENT
BEGIN:VEVENT
DTSTART;TZID=America/New_York:20250126T220000
DTEND;TZID=America/New_York:20250127T030000
DTSTAMP:20260423T185225
CREATED:20241108T071934Z
LAST-MODIFIED:20241108T071934Z
UID:10000037-1737928800-1737946800@elaevents.com
SUMMARY:SOIREE SUNDAYS AT MELA LOUNGE (LADIES FREE ALL NIGHT)
DESCRIPTION:Come party with us at Mela Lounge every Sunday for Soiree Sundays – ladies get in free all night long!
URL:https://elaevents.com/event/soiree-sundays-at-mela-lounge-ladies-free-all-night-12/
LOCATION:Mela Bar & Lounge\, 1359 Clairmont Road\, Decatur\, GA 30033\, Decatur\, GA\, 30033\, US
GEO:33.7925418;-84.3049631
X-APPLE-STRUCTURED-LOCATION;VALUE=URI;X-ADDRESS=Mela Bar & Lounge 1359 Clairmont Road Decatur GA 30033 Decatur GA 30033 US;X-APPLE-RADIUS=500;X-TITLE=1359 Clairmont Road\, Decatur\, GA 30033:geo:-84.3049631,33.7925418
END:VEVENT
BEGIN:VEVENT
DTSTART;TZID=UTC:20250128T193000
DTEND;TZID=UTC:20250128T193000
DTSTAMP:20260423T185225
CREATED:20241116T144147Z
LAST-MODIFIED:20250129T043116Z
UID:10000125-1738092600-1738092600@elaevents.com
SUMMARY:Atlanta Hawks vs Houston Rockets
DESCRIPTION:
URL:https://elaevents.com/event/atlanta-hawks-vs-houston-rockets/
LOCATION:State Farm Arena\, Atlanta
CATEGORIES:Basketball
ATTACH;FMTTYPE=image/jpeg:https://elaevents.com/wp-content/uploads/2024/11/unnamed-file.jpg
END:VEVENT
BEGIN:VEVENT
DTSTART;TZID=UTC:20250130T200000
DTEND;TZID=UTC:20250130T200000
DTSTAMP:20260423T185225
CREATED:20241114T141311Z
LAST-MODIFIED:20250131T070651Z
UID:10000119-1738267200-1738267200@elaevents.com
SUMMARY:Thee Sacred Souls
DESCRIPTION:
URL:https://elaevents.com/event/thee-sacred-souls/
LOCATION:Arizona Financial Theatre\, Phoenix\, az
CATEGORIES:R&B
ATTACH;FMTTYPE=image/jpeg:https://elaevents.com/wp-content/uploads/2024/11/thee-sacred-souls.jpg
END:VEVENT
BEGIN:VEVENT
DTSTART;TZID=UTC:20250131T200000
DTEND;TZID=UTC:20250131T200000
DTSTAMP:20260423T185225
CREATED:20250104T060506Z
LAST-MODIFIED:20250201T060033Z
UID:10001325-1738353600-1738353600@elaevents.com
SUMMARY:Frankie Valli & The Four Seasons: The Last Encores
DESCRIPTION:
URL:https://elaevents.com/event/frankie-valli-the-four-seasons-the-last-encores/
LOCATION:Hard Rock Live\, Hollywood
CATEGORIES:Rock
ATTACH;FMTTYPE=image/jpeg:https://elaevents.com/wp-content/uploads/2025/01/frankie-valli-the-four-seasons-the-last-encores.jpg
GEO:26.0534476;-80.2138684
END:VEVENT
BEGIN:VEVENT
DTSTART;TZID=America/New_York:20250131T220000
DTEND;TZID=America/New_York:20250201T030000
DTSTAMP:20260423T185225
CREATED:20241108T071935Z
LAST-MODIFIED:20241108T071935Z
UID:10000038-1738360800-1738378800@elaevents.com
SUMMARY:FRIDAY NIGHT LIVE THIS FRIDAY AT MIRZA LOUNGE (FREE BEFORE 11PM W/RSVP)
DESCRIPTION:Join us this Friday night at Mirza Lounge  – it’s free before 11pm with RSVP! Free Bday Sections available . Text “Mirza” to 4704089038\n\n\nFRIDAY NIGHT LIVE THIS FRIDAY AT MIRZA LOUNGE (FREE BEFORE 11PM W/RSVP) \nCome join us for an epic Friday night at Mirza Lounge! Get ready to dance\, mingle\, and have a great time with friends. The party starts at 10:00 PM\, so make sure to arrive early to take advantage of the free entry before 11:00 PM with your RSVP. Don’t miss out on the hottest event in town! \nTime: 10:00 PM \nLocation: Mirza Hookah Lounge
URL:https://elaevents.com/event/friday-night-live-this-friday-at-mirza-lounge-free-before-11pm-w-rsvp-13/
LOCATION:Mirza Hookah Lounge\, 1098 Herrington Road #2\, Lawrenceville\, GA 30044\, Lawrenceville\, GA\, 30044\, US
GEO:33.9460137;-84.081751
X-APPLE-STRUCTURED-LOCATION;VALUE=URI;X-ADDRESS=Mirza Hookah Lounge 1098 Herrington Road #2 Lawrenceville GA 30044 Lawrenceville GA 30044 US;X-APPLE-RADIUS=500;X-TITLE=1098 Herrington Road #2\, Lawrenceville\, GA 30044:geo:-84.081751,33.9460137
END:VEVENT
BEGIN:VEVENT
DTSTART;TZID=America/New_York:20250202T220000
DTEND;TZID=America/New_York:20250203T030000
DTSTAMP:20260423T185225
CREATED:20241108T071935Z
LAST-MODIFIED:20241108T071935Z
UID:10000039-1738533600-1738551600@elaevents.com
SUMMARY:SOIREE SUNDAYS AT MELA LOUNGE (LADIES FREE ALL NIGHT)
DESCRIPTION:Come party with us at Mela Lounge every Sunday for Soiree Sundays – ladies get in free all night long!
URL:https://elaevents.com/event/soiree-sundays-at-mela-lounge-ladies-free-all-night-13/
LOCATION:Mela Bar & Lounge\, 1359 Clairmont Road\, Decatur\, GA 30033\, Decatur\, GA\, 30033\, US
GEO:33.7925418;-84.3049631
X-APPLE-STRUCTURED-LOCATION;VALUE=URI;X-ADDRESS=Mela Bar & Lounge 1359 Clairmont Road Decatur GA 30033 Decatur GA 30033 US;X-APPLE-RADIUS=500;X-TITLE=1359 Clairmont Road\, Decatur\, GA 30033:geo:-84.3049631,33.7925418
END:VEVENT
BEGIN:VEVENT
DTSTART;TZID=America/Chicago:20250207T110000
DTEND;TZID=America/Chicago:20250207T140000
DTSTAMP:20260423T185225
CREATED:20241205T194827Z
LAST-MODIFIED:20241205T194827Z
UID:10001048-1738926000-1738936800@elaevents.com
SUMMARY:#RetailHires Virtual Job Fair / Career Expo Event #Dallas #DFW
DESCRIPTION:
URL:https://elaevents.com/event/retailhires-virtual-job-fair-career-expo-event-dallas-dfw-3/
LOCATION:az
END:VEVENT
BEGIN:VEVENT
DTSTART;TZID=America/Chicago:20250207T110000
DTEND;TZID=America/Chicago:20250207T140000
DTSTAMP:20260423T185225
CREATED:20241205T194828Z
LAST-MODIFIED:20241205T194828Z
UID:10001049-1738926000-1738936800@elaevents.com
SUMMARY:#RetailHires Virtual Job Fair / Career Expo Event #Oklahoma
DESCRIPTION:
URL:https://elaevents.com/event/retailhires-virtual-job-fair-career-expo-event-oklahoma-3/
LOCATION:az
END:VEVENT
BEGIN:VEVENT
DTSTART;TZID=America/New_York:20250207T110000
DTEND;TZID=America/New_York:20250207T140000
DTSTAMP:20260423T185225
CREATED:20241205T194829Z
LAST-MODIFIED:20241205T194829Z
UID:10001050-1738926000-1738936800@elaevents.com
SUMMARY:#RetailHires Virtual Job Fair / Career Expo Event #Philadelphia #PHL
DESCRIPTION:
URL:https://elaevents.com/event/retailhires-virtual-job-fair-career-expo-event-philadelphia-phl-3/
LOCATION:az
END:VEVENT
BEGIN:VEVENT
DTSTART;TZID=America/Phoenix:20250207T110000
DTEND;TZID=America/Phoenix:20250207T140000
DTSTAMP:20260423T185225
CREATED:20241205T194831Z
LAST-MODIFIED:20241205T194831Z
UID:10001051-1738926000-1738936800@elaevents.com
SUMMARY:#RetailHires Virtual Job Fair / Career Expo Event #Phoenix #PHX
DESCRIPTION:
URL:https://elaevents.com/event/retailhires-virtual-job-fair-career-expo-event-phoenix-phx-3/
LOCATION:az
END:VEVENT
BEGIN:VEVENT
DTSTART;TZID=America/Los_Angeles:20250207T110000
DTEND;TZID=America/Los_Angeles:20250207T140000
DTSTAMP:20260423T185225
CREATED:20241205T194832Z
LAST-MODIFIED:20241205T194832Z
UID:10001052-1738926000-1738936800@elaevents.com
SUMMARY:#RetailHires Virtual Job Fair / Career Expo Event #Seattle #SEA
DESCRIPTION:
URL:https://elaevents.com/event/retailhires-virtual-job-fair-career-expo-event-seattle-sea-3/
LOCATION:az
END:VEVENT
BEGIN:VEVENT
DTSTART;TZID=America/Los_Angeles:20250207T110000
DTEND;TZID=America/Los_Angeles:20250207T140000
DTSTAMP:20260423T185225
CREATED:20241205T194833Z
LAST-MODIFIED:20241205T194833Z
UID:10001053-1738926000-1738936800@elaevents.com
SUMMARY:#RetailHires Virtual Job Fair / Career Expo Event #DC #IAD
DESCRIPTION:
URL:https://elaevents.com/event/retailhires-virtual-job-fair-career-expo-event-dc-iad-3/
LOCATION:az
END:VEVENT
BEGIN:VEVENT
DTSTART;TZID=America/Chicago:20250207T110000
DTEND;TZID=America/Chicago:20250207T140000
DTSTAMP:20260423T185225
CREATED:20241205T194834Z
LAST-MODIFIED:20241205T194834Z
UID:10001054-1738926000-1738936800@elaevents.com
SUMMARY:#RetailHires Virtual Job Fair / Career Expo Event #Houston #IAH
DESCRIPTION:
URL:https://elaevents.com/event/retailhires-virtual-job-fair-career-expo-event-houston-iah-3/
LOCATION:az
END:VEVENT
BEGIN:VEVENT
DTSTART;TZID=America/Los_Angeles:20250207T110000
DTEND;TZID=America/Los_Angeles:20250207T140000
DTSTAMP:20260423T185225
CREATED:20241205T194835Z
LAST-MODIFIED:20241205T194835Z
UID:10001055-1738926000-1738936800@elaevents.com
SUMMARY:#RetailHires Virtual Job Fair / Career Expo Event #Vancouver
DESCRIPTION:
URL:https://elaevents.com/event/retailhires-virtual-job-fair-career-expo-event-vancouver-3/
LOCATION:az
END:VEVENT
BEGIN:VEVENT
DTSTART;TZID=America/Montreal:20250207T110000
DTEND;TZID=America/Montreal:20250207T140000
DTSTAMP:20260423T185225
CREATED:20241205T194836Z
LAST-MODIFIED:20241205T194836Z
UID:10001056-1738926000-1738936800@elaevents.com
SUMMARY:#RetailHires Virtual Job Fair / Career Expo Event #Montreal
DESCRIPTION:
URL:https://elaevents.com/event/retailhires-virtual-job-fair-career-expo-event-montreal-3/
LOCATION:az
END:VEVENT
BEGIN:VEVENT
DTSTART;TZID=America/Los_Angeles:20250207T110000
DTEND;TZID=America/Los_Angeles:20250207T140000
DTSTAMP:20260423T185225
CREATED:20241205T194837Z
LAST-MODIFIED:20241205T194837Z
UID:10001057-1738926000-1738936800@elaevents.com
SUMMARY:#RetailHires Virtual Job Fair / Career Expo Event #SFO
DESCRIPTION:
URL:https://elaevents.com/event/retailhires-virtual-job-fair-career-expo-event-sfo-3/
LOCATION:az
END:VEVENT
END:VCALENDAR