BEGIN:VCALENDAR
VERSION:2.0
PRODID:-//Ela Events - ECPv6.9.0//NONSGML v1.0//EN
CALSCALE:GREGORIAN
METHOD:PUBLISH
X-WR-CALNAME:Ela Events
X-ORIGINAL-URL:https://elaevents.com
X-WR-CALDESC:Events for Ela Events
REFRESH-INTERVAL;VALUE=DURATION:PT1H
X-Robots-Tag:noindex
X-PUBLISHED-TTL:PT1H
BEGIN:VTIMEZONE
TZID:America/New_York
BEGIN:DAYLIGHT
TZOFFSETFROM:-0500
TZOFFSETTO:-0400
TZNAME:EDT
DTSTART:20250309T070000
END:DAYLIGHT
BEGIN:STANDARD
TZOFFSETFROM:-0400
TZOFFSETTO:-0500
TZNAME:EST
DTSTART:20251102T060000
END:STANDARD
TZID:UTC
BEGIN:STANDARD
TZOFFSETFROM:+0000
TZOFFSETTO:+0000
TZNAME:UTC
DTSTART:20250101T000000
END:STANDARD
END:VTIMEZONE
BEGIN:VEVENT
DTSTART;TZID=America/New_York:20250525T220000
DTEND;TZID=America/New_York:20250526T030000
DTSTAMP:20260421T103114
CREATED:20241108T072005Z
LAST-MODIFIED:20241108T072005Z
UID:10000071-1748210400-1748228400@elaevents.com
SUMMARY:SOIREE SUNDAYS AT MELA LOUNGE (LADIES FREE ALL NIGHT)
DESCRIPTION:Come party with us at Mela Lounge every Sunday for Soiree Sundays – ladies get in free all night long!
URL:https://elaevents.com/event/soiree-sundays-at-mela-lounge-ladies-free-all-night-29/
LOCATION:Mela Bar & Lounge\, 1359 Clairmont Road\, Decatur\, GA 30033\, Decatur\, GA\, 30033\, US
GEO:33.7925418;-84.3049631
X-APPLE-STRUCTURED-LOCATION;VALUE=URI;X-ADDRESS=Mela Bar & Lounge 1359 Clairmont Road Decatur GA 30033 Decatur GA 30033 US;X-APPLE-RADIUS=500;X-TITLE=1359 Clairmont Road\, Decatur\, GA 30033:geo:-84.3049631,33.7925418
END:VEVENT
BEGIN:VEVENT
DTSTART;TZID=UTC:20250525T190000
DTEND;TZID=UTC:20250525T190000
DTSTAMP:20260421T103114
CREATED:20250512T045433Z
LAST-MODIFIED:20250526T040712Z
UID:10002171-1748199600-1748199600@elaevents.com
SUMMARY:Halsey: For My Last Trick
DESCRIPTION:
URL:https://elaevents.com/event/halsey-for-my-last-trick/
LOCATION:Hard Rock Live\, Hollywood
CATEGORIES:Rock
ATTACH;FMTTYPE=image/jpeg:https://elaevents.com/wp-content/uploads/2025/05/halsey-for-my-last-trick.jpg
GEO:26.0534476;-80.2138684
END:VEVENT
BEGIN:VEVENT
DTSTART;TZID=UTC:20250524T200000
DTEND;TZID=UTC:20250524T200000
DTSTAMP:20260421T103114
CREATED:20250523T091134Z
LAST-MODIFIED:20250525T060056Z
UID:10002189-1748116800-1748116800@elaevents.com
SUMMARY:Rauw Alejandro - Cosa Nuestra World Tour
DESCRIPTION:
URL:https://elaevents.com/event/rauw-alejandro-cosa-nuestra-world-tour/
LOCATION:State Farm Arena\, Atlanta
CATEGORIES:Latin
ATTACH;FMTTYPE=image/png:https://elaevents.com/wp-content/uploads/2025/05/rauw-alejandro-cosa-nuestra-world-tour.png
END:VEVENT
BEGIN:VEVENT
DTSTART;TZID=UTC:20250524T200000
DTEND;TZID=UTC:20250524T200000
DTSTAMP:20260421T103114
CREATED:20250518T074535Z
LAST-MODIFIED:20250525T092845Z
UID:10002176-1748116800-1748116800@elaevents.com
SUMMARY:HAUSER: The Rebel Is Back
DESCRIPTION:
URL:https://elaevents.com/event/hauser-the-rebel-is-back-2/
LOCATION:Arizona Financial Theatre\, Phoenix\, az
CATEGORIES:Classical
ATTACH;FMTTYPE=image/jpeg:https://elaevents.com/wp-content/uploads/2025/05/hauser-the-rebel-is-back.jpg
END:VEVENT
BEGIN:VEVENT
DTSTART;TZID=UTC:20250524T200000
DTEND;TZID=UTC:20250524T200000
DTSTAMP:20260421T103114
CREATED:20250510T050620Z
LAST-MODIFIED:20250525T040457Z
UID:10002168-1748116800-1748116800@elaevents.com
SUMMARY:Sunidhi Chauhan
DESCRIPTION:
URL:https://elaevents.com/event/sunidhi-chauhan/
LOCATION:Hard Rock Live\, Hollywood
CATEGORIES:World
ATTACH;FMTTYPE=image/jpeg:https://elaevents.com/wp-content/uploads/2025/05/sunidhi-chauhan.jpg
GEO:26.0534476;-80.2138684
END:VEVENT
BEGIN:VEVENT
DTSTART;TZID=America/New_York:20250523T220000
DTEND;TZID=America/New_York:20250524T030000
DTSTAMP:20260421T103114
CREATED:20241108T072004Z
LAST-MODIFIED:20241108T072004Z
UID:10000070-1748037600-1748055600@elaevents.com
SUMMARY:FRIDAY NIGHT LIVE THIS FRIDAY AT MIRZA LOUNGE (FREE BEFORE 11PM W/RSVP)
DESCRIPTION:Join us this Friday night at Mirza Lounge  – it’s free before 11pm with RSVP! Free Bday Sections available . Text “Mirza” to 4704089038\n\n\nFRIDAY NIGHT LIVE THIS FRIDAY AT MIRZA LOUNGE (FREE BEFORE 11PM W/RSVP) \nCome join us for an epic Friday night at Mirza Lounge! Get ready to dance\, mingle\, and have a great time with friends. The party starts at 10:00 PM\, so make sure to arrive early to take advantage of the free entry before 11:00 PM with your RSVP. Don’t miss out on the hottest event in town! \nTime: 10:00 PM \nLocation: Mirza Hookah Lounge
URL:https://elaevents.com/event/friday-night-live-this-friday-at-mirza-lounge-free-before-11pm-w-rsvp-29/
LOCATION:Mirza Hookah Lounge\, 1098 Herrington Road #2\, Lawrenceville\, GA 30044\, Lawrenceville\, GA\, 30044\, US
GEO:33.9460137;-84.081751
X-APPLE-STRUCTURED-LOCATION;VALUE=URI;X-ADDRESS=Mirza Hookah Lounge 1098 Herrington Road #2 Lawrenceville GA 30044 Lawrenceville GA 30044 US;X-APPLE-RADIUS=500;X-TITLE=1098 Herrington Road #2\, Lawrenceville\, GA 30044:geo:-84.081751,33.9460137
END:VEVENT
BEGIN:VEVENT
DTSTART;TZID=UTC:20250523T200000
DTEND;TZID=UTC:20250523T200000
DTSTAMP:20260421T103114
CREATED:20250512T074143Z
LAST-MODIFIED:20250524T090523Z
UID:10002172-1748030400-1748030400@elaevents.com
SUMMARY:Live With Jake Shane
DESCRIPTION:
URL:https://elaevents.com/event/live-with-jake-shane/
LOCATION:Arizona Financial Theatre\, Phoenix\, az
CATEGORIES:Comedy
ATTACH;FMTTYPE=image/jpeg:https://elaevents.com/wp-content/uploads/2025/05/live-with-jake-shane.jpg
END:VEVENT
BEGIN:VEVENT
DTSTART;TZID=UTC:20250523T200000
DTEND;TZID=UTC:20250523T200000
DTSTAMP:20260421T103114
CREATED:20250507T045719Z
LAST-MODIFIED:20250524T041827Z
UID:10002167-1748030400-1748030400@elaevents.com
SUMMARY:Jay Shetty: On Purpose Live Tour Presented by Chase Sapphire Reserve
DESCRIPTION:
URL:https://elaevents.com/event/jay-shetty-on-purpose-live-tour-presented-by-chase-sapphire-reserve/
LOCATION:Hard Rock Live\, Hollywood
CATEGORIES:Lecture/Seminar
ATTACH;FMTTYPE=image/jpeg:https://elaevents.com/wp-content/uploads/2025/05/jay-shetty-on-purpose-live-tour-presented-by-chase-sapphire-reserve.jpg
GEO:26.0534476;-80.2138684
END:VEVENT
BEGIN:VEVENT
DTSTART;TZID=UTC:20250522T200000
DTEND;TZID=UTC:20250522T200000
DTSTAMP:20260421T103114
CREATED:20250506T214623Z
LAST-MODIFIED:20250523T042053Z
UID:10002166-1747944000-1747944000@elaevents.com
SUMMARY:Ron White
DESCRIPTION:
URL:https://elaevents.com/event/ron-white/
LOCATION:Hard Rock Live\, Hollywood
CATEGORIES:Comedy
ATTACH;FMTTYPE=image/jpeg:https://elaevents.com/wp-content/uploads/2025/05/ron-white.jpg
GEO:26.0534476;-80.2138684
END:VEVENT
BEGIN:VEVENT
DTSTART;TZID=UTC:20250522T193000
DTEND;TZID=UTC:20250522T193000
DTSTAMP:20260421T103114
CREATED:20250519T223553Z
LAST-MODIFIED:20250523T075707Z
UID:10002183-1747942200-1747942200@elaevents.com
SUMMARY:Atlanta Dream vs. Indiana Fever
DESCRIPTION:
URL:https://elaevents.com/event/atlanta-dream-vs-indiana-fever/
LOCATION:State Farm Arena\, Atlanta
END:VEVENT
BEGIN:VEVENT
DTSTART;TZID=UTC:20250522T193000
DTEND;TZID=UTC:20250522T193000
DTSTAMP:20260421T103114
CREATED:20250518T074534Z
LAST-MODIFIED:20250523T002711Z
UID:10002177-1747942200-1747942200@elaevents.com
SUMMARY:Atlanta Dream v Indiana Fever
DESCRIPTION:
URL:https://elaevents.com/event/atlanta-dream-v-indiana-fever/
LOCATION:State Farm Arena\, Atlanta
CATEGORIES:Basketball
ATTACH;FMTTYPE=image/jpeg:https://elaevents.com/wp-content/uploads/2025/05/atlanta-dream-v-indiana-fever.jpg
END:VEVENT
BEGIN:VEVENT
DTSTART;TZID=UTC:20250520T200000
DTEND;TZID=UTC:20250520T200000
DTSTAMP:20260421T103114
CREATED:20250506T112423Z
LAST-MODIFIED:20250521T083506Z
UID:10002165-1747771200-1747771200@elaevents.com
SUMMARY:Khruangbin - A La Sala Tour
DESCRIPTION:
URL:https://elaevents.com/event/khruangbin-a-la-sala-tour/
LOCATION:Arizona Financial Theatre\, Phoenix\, az
CATEGORIES:Rock
ATTACH;FMTTYPE=image/jpeg:https://elaevents.com/wp-content/uploads/2025/05/khruangbin-a-la-sala-tour.jpg
END:VEVENT
BEGIN:VEVENT
DTSTART;TZID=UTC:20250519T193000
DTEND;TZID=UTC:20250519T193000
DTSTAMP:20260421T103114
CREATED:20250503T100154Z
LAST-MODIFIED:20250520T081424Z
UID:10002162-1747683000-1747683000@elaevents.com
SUMMARY:Tom Jones
DESCRIPTION:
URL:https://elaevents.com/event/tom-jones/
LOCATION:Arizona Financial Theatre\, Phoenix\, az
CATEGORIES:Rock
END:VEVENT
BEGIN:VEVENT
DTSTART;TZID=America/New_York:20250518T220000
DTEND;TZID=America/New_York:20250519T030000
DTSTAMP:20260421T103114
CREATED:20241108T072003Z
LAST-MODIFIED:20241108T072003Z
UID:10000069-1747605600-1747623600@elaevents.com
SUMMARY:SOIREE SUNDAYS AT MELA LOUNGE (LADIES FREE ALL NIGHT)
DESCRIPTION:Come party with us at Mela Lounge every Sunday for Soiree Sundays – ladies get in free all night long!
URL:https://elaevents.com/event/soiree-sundays-at-mela-lounge-ladies-free-all-night-28/
LOCATION:Mela Bar & Lounge\, 1359 Clairmont Road\, Decatur\, GA 30033\, Decatur\, GA\, 30033\, US
GEO:33.7925418;-84.3049631
X-APPLE-STRUCTURED-LOCATION;VALUE=URI;X-ADDRESS=Mela Bar & Lounge 1359 Clairmont Road Decatur GA 30033 Decatur GA 30033 US;X-APPLE-RADIUS=500;X-TITLE=1359 Clairmont Road\, Decatur\, GA 30033:geo:-84.3049631,33.7925418
END:VEVENT
BEGIN:VEVENT
DTSTART;TZID=UTC:20250517T200000
DTEND;TZID=UTC:20250517T200000
DTSTAMP:20260421T103114
CREATED:20250510T051303Z
LAST-MODIFIED:20250518T062848Z
UID:10002169-1747512000-1747512000@elaevents.com
SUMMARY:We Them One's Comedy Tour
DESCRIPTION:
URL:https://elaevents.com/event/we-them-ones-comedy-tour/
LOCATION:State Farm Arena\, Atlanta
CATEGORIES:Comedy
ATTACH;FMTTYPE=image/jpeg:https://elaevents.com/wp-content/uploads/2025/05/we-them-ones-comedy-tour.jpg
END:VEVENT
BEGIN:VEVENT
DTSTART;TZID=America/New_York:20250516T220000
DTEND;TZID=America/New_York:20250517T030000
DTSTAMP:20260421T103114
CREATED:20241108T072002Z
LAST-MODIFIED:20241108T072002Z
UID:10000068-1747432800-1747450800@elaevents.com
SUMMARY:FRIDAY NIGHT LIVE THIS FRIDAY AT MIRZA LOUNGE (FREE BEFORE 11PM W/RSVP)
DESCRIPTION:Join us this Friday night at Mirza Lounge  – it’s free before 11pm with RSVP! Free Bday Sections available . Text “Mirza” to 4704089038\n\n\nFRIDAY NIGHT LIVE THIS FRIDAY AT MIRZA LOUNGE (FREE BEFORE 11PM W/RSVP) \nCome join us for an epic Friday night at Mirza Lounge! Get ready to dance\, mingle\, and have a great time with friends. The party starts at 10:00 PM\, so make sure to arrive early to take advantage of the free entry before 11:00 PM with your RSVP. Don’t miss out on the hottest event in town! \nTime: 10:00 PM \nLocation: Mirza Hookah Lounge
URL:https://elaevents.com/event/friday-night-live-this-friday-at-mirza-lounge-free-before-11pm-w-rsvp-28/
LOCATION:Mirza Hookah Lounge\, 1098 Herrington Road #2\, Lawrenceville\, GA 30044\, Lawrenceville\, GA\, 30044\, US
GEO:33.9460137;-84.081751
X-APPLE-STRUCTURED-LOCATION;VALUE=URI;X-ADDRESS=Mirza Hookah Lounge 1098 Herrington Road #2 Lawrenceville GA 30044 Lawrenceville GA 30044 US;X-APPLE-RADIUS=500;X-TITLE=1098 Herrington Road #2\, Lawrenceville\, GA 30044:geo:-84.081751,33.9460137
END:VEVENT
BEGIN:VEVENT
DTSTART;TZID=UTC:20250516T200000
DTEND;TZID=UTC:20250516T200000
DTSTAMP:20260421T103114
CREATED:20250425T104944Z
LAST-MODIFIED:20250517T090919Z
UID:10002154-1747425600-1747425600@elaevents.com
SUMMARY:Crime Junkie Podcast Live: Life Rule #10 Tour
DESCRIPTION:
URL:https://elaevents.com/event/crime-junkie-podcast-live-life-rule-10-tour-2/
LOCATION:Arizona Financial Theatre\, Phoenix\, az
CATEGORIES:Theatre
END:VEVENT
BEGIN:VEVENT
DTSTART;TZID=UTC:20250515T200000
DTEND;TZID=UTC:20250515T200000
DTSTAMP:20260421T103114
CREATED:20250503T050343Z
LAST-MODIFIED:20250516T053413Z
UID:10002159-1747339200-1747339200@elaevents.com
SUMMARY:HAUSER: The Rebel Is Back
DESCRIPTION:
URL:https://elaevents.com/event/hauser-the-rebel-is-back/
LOCATION:Hard Rock Live\, Hollywood
CATEGORIES:Classical
ATTACH;FMTTYPE=image/jpeg:https://elaevents.com/wp-content/uploads/2025/05/hauser-the-rebel-is-back.jpg
GEO:26.0534476;-80.2138684
END:VEVENT
BEGIN:VEVENT
DTSTART;TZID=UTC:20250512T203000
DTEND;TZID=UTC:20250512T203000
DTSTAMP:20260421T103114
CREATED:20250502T051029Z
LAST-MODIFIED:20250513T041420Z
UID:10002158-1747081800-1747081800@elaevents.com
SUMMARY:IDAN AMEDI
DESCRIPTION:
URL:https://elaevents.com/event/idan-amedi/
LOCATION:Hard Rock Live\, Hollywood
CATEGORIES:World
ATTACH;FMTTYPE=image/jpeg:https://elaevents.com/wp-content/uploads/2025/05/idan-amedi.jpg
GEO:26.0534476;-80.2138684
END:VEVENT
BEGIN:VEVENT
DTSTART;TZID=America/New_York:20250511T220000
DTEND;TZID=America/New_York:20250512T030000
DTSTAMP:20260421T103114
CREATED:20241108T072001Z
LAST-MODIFIED:20241108T072001Z
UID:10000067-1747000800-1747018800@elaevents.com
SUMMARY:SOIREE SUNDAYS AT MELA LOUNGE (LADIES FREE ALL NIGHT)
DESCRIPTION:Come party with us at Mela Lounge every Sunday for Soiree Sundays – ladies get in free all night long!
URL:https://elaevents.com/event/soiree-sundays-at-mela-lounge-ladies-free-all-night-27/
LOCATION:Mela Bar & Lounge\, 1359 Clairmont Road\, Decatur\, GA 30033\, Decatur\, GA\, 30033\, US
GEO:33.7925418;-84.3049631
X-APPLE-STRUCTURED-LOCATION;VALUE=URI;X-ADDRESS=Mela Bar & Lounge 1359 Clairmont Road Decatur GA 30033 Decatur GA 30033 US;X-APPLE-RADIUS=500;X-TITLE=1359 Clairmont Road\, Decatur\, GA 30033:geo:-84.3049631,33.7925418
END:VEVENT
BEGIN:VEVENT
DTSTART;TZID=UTC:20250511T200000
DTEND;TZID=UTC:20250511T200000
DTSTAMP:20260421T103114
CREATED:20250428T050630Z
LAST-MODIFIED:20250512T044250Z
UID:10002156-1746993600-1746993600@elaevents.com
SUMMARY:Camila - REGRESA TOUR
DESCRIPTION:
URL:https://elaevents.com/event/camila-regresa-tour/
LOCATION:Hard Rock Live\, Hollywood
CATEGORIES:Rock
GEO:26.0534476;-80.2138684
END:VEVENT
BEGIN:VEVENT
DTSTART;TZID=UTC:20250510T200000
DTEND;TZID=UTC:20250510T200000
DTSTAMP:20260421T103114
CREATED:20250112T074919Z
LAST-MODIFIED:20250511T091040Z
UID:10001562-1746907200-1746907200@elaevents.com
SUMMARY:Ha*Ash - HAASHVILLE Tour USA + Canada 2024 2025
DESCRIPTION:
URL:https://elaevents.com/event/haash-haashville-tour-usa-canada-2024-2025/
LOCATION:Arizona Financial Theatre\, Phoenix\, az
CATEGORIES:Ballads/Romantic
ATTACH;FMTTYPE=image/jpeg:https://elaevents.com/wp-content/uploads/2025/01/haash-haashville-tour-usa-canada-2024-2025.jpg
END:VEVENT
BEGIN:VEVENT
DTSTART;TZID=America/New_York:20250509T220000
DTEND;TZID=America/New_York:20250510T030000
DTSTAMP:20260421T103114
CREATED:20241108T072000Z
LAST-MODIFIED:20241108T072000Z
UID:10000066-1746828000-1746846000@elaevents.com
SUMMARY:FRIDAY NIGHT LIVE THIS FRIDAY AT MIRZA LOUNGE (FREE BEFORE 11PM W/RSVP)
DESCRIPTION:Join us this Friday night at Mirza Lounge  – it’s free before 11pm with RSVP! Free Bday Sections available . Text “Mirza” to 4704089038\n\n\nFRIDAY NIGHT LIVE THIS FRIDAY AT MIRZA LOUNGE (FREE BEFORE 11PM W/RSVP) \nCome join us for an epic Friday night at Mirza Lounge! Get ready to dance\, mingle\, and have a great time with friends. The party starts at 10:00 PM\, so make sure to arrive early to take advantage of the free entry before 11:00 PM with your RSVP. Don’t miss out on the hottest event in town! \nTime: 10:00 PM \nLocation: Mirza Hookah Lounge
URL:https://elaevents.com/event/friday-night-live-this-friday-at-mirza-lounge-free-before-11pm-w-rsvp-27/
LOCATION:Mirza Hookah Lounge\, 1098 Herrington Road #2\, Lawrenceville\, GA 30044\, Lawrenceville\, GA\, 30044\, US
GEO:33.9460137;-84.081751
X-APPLE-STRUCTURED-LOCATION;VALUE=URI;X-ADDRESS=Mirza Hookah Lounge 1098 Herrington Road #2 Lawrenceville GA 30044 Lawrenceville GA 30044 US;X-APPLE-RADIUS=500;X-TITLE=1098 Herrington Road #2\, Lawrenceville\, GA 30044:geo:-84.081751,33.9460137
END:VEVENT
BEGIN:VEVENT
DTSTART;TZID=UTC:20250509T200000
DTEND;TZID=UTC:20250509T200000
DTSTAMP:20260421T103114
CREATED:20250503T100640Z
LAST-MODIFIED:20250510T042303Z
UID:10002161-1746820800-1746820800@elaevents.com
SUMMARY:Ivan Cornejo - Mirada Tour
DESCRIPTION:
URL:https://elaevents.com/event/ivan-cornejo-mirada-tour/
LOCATION:State Farm Arena\, Atlanta
CATEGORIES:Latin
ATTACH;FMTTYPE=image/jpeg:https://elaevents.com/wp-content/uploads/2025/05/ivan-cornejo-mirada-tour.jpg
END:VEVENT
BEGIN:VEVENT
DTSTART;TZID=UTC:20250509T200000
DTEND;TZID=UTC:20250509T200000
DTSTAMP:20260421T103114
CREATED:20241114T141042Z
LAST-MODIFIED:20250510T042302Z
UID:10000104-1746820800-1746820800@elaevents.com
SUMMARY:Teddy Swims - I've Tried Everything But Therapy Tour
DESCRIPTION:
URL:https://elaevents.com/event/teddy-swims-ive-tried-everything-but-therapy-tour/
LOCATION:Hard Rock Live\, Hollywood
CATEGORIES:Pop
ATTACH;FMTTYPE=image/jpeg:https://elaevents.com/wp-content/uploads/2024/11/unnamed-file-7.jpg
GEO:26.0534476;-80.2138684
END:VEVENT
BEGIN:VEVENT
DTSTART;TZID=UTC:20250506T200000
DTEND;TZID=UTC:20250506T200000
DTSTAMP:20260421T103114
CREATED:20241209T073657Z
LAST-MODIFIED:20250507T040736Z
UID:10001083-1746561600-1746561600@elaevents.com
SUMMARY:Sessanta V 2.0: Primus\, Puscifer\, A Perfect Circle
DESCRIPTION:
URL:https://elaevents.com/event/sessanta-v-2-0-primus-puscifer-a-perfect-circle/
LOCATION:Hard Rock Live\, Hollywood
CATEGORIES:Rock
ATTACH;FMTTYPE=image/jpeg:https://elaevents.com/wp-content/uploads/2024/12/sessanta-v-2-0-primus-puscifer-a-perfect-circle.jpg
GEO:26.0534476;-80.2138684
END:VEVENT
BEGIN:VEVENT
DTSTART;TZID=UTC:20250505T193000
DTEND;TZID=UTC:20250505T193000
DTSTAMP:20260421T103114
CREATED:20241214T093216Z
LAST-MODIFIED:20250506T082520Z
UID:10001320-1746473400-1746473400@elaevents.com
SUMMARY:Dave Ramsey And Dr. John Delony: The Money & Relationships Tour
DESCRIPTION:
URL:https://elaevents.com/event/dave-ramsey-and-dr-john-delony-the-money-relationships-tour/
LOCATION:Arizona Financial Theatre\, Phoenix\, az
CATEGORIES:Lecture/Seminar
ATTACH;FMTTYPE=image/jpeg:https://elaevents.com/wp-content/uploads/2024/12/dave-ramsey-and-dr-john-delony-the-money-relationships-tour.jpg
END:VEVENT
BEGIN:VEVENT
DTSTART;TZID=America/New_York:20250504T220000
DTEND;TZID=America/New_York:20250505T030000
DTSTAMP:20260421T103114
CREATED:20241108T071959Z
LAST-MODIFIED:20241108T071959Z
UID:10000065-1746396000-1746414000@elaevents.com
SUMMARY:SOIREE SUNDAYS AT MELA LOUNGE (LADIES FREE ALL NIGHT)
DESCRIPTION:Come party with us at Mela Lounge every Sunday for Soiree Sundays – ladies get in free all night long!
URL:https://elaevents.com/event/soiree-sundays-at-mela-lounge-ladies-free-all-night-26/
LOCATION:Mela Bar & Lounge\, 1359 Clairmont Road\, Decatur\, GA 30033\, Decatur\, GA\, 30033\, US
GEO:33.7925418;-84.3049631
X-APPLE-STRUCTURED-LOCATION;VALUE=URI;X-ADDRESS=Mela Bar & Lounge 1359 Clairmont Road Decatur GA 30033 Decatur GA 30033 US;X-APPLE-RADIUS=500;X-TITLE=1359 Clairmont Road\, Decatur\, GA 30033:geo:-84.3049631,33.7925418
END:VEVENT
BEGIN:VEVENT
DTSTART;TZID=UTC:20250503T200000
DTEND;TZID=UTC:20250503T200000
DTSTAMP:20260421T103114
CREATED:20250502T004146Z
LAST-MODIFIED:20250504T045605Z
UID:10002157-1746302400-1746302400@elaevents.com
SUMMARY:CASH MONEY MILLIONAIRES 30TH ANNIVERSARY LIVE IN CONCERT
DESCRIPTION:
URL:https://elaevents.com/event/cash-money-millionaires-30th-anniversary-live-in-concert/
LOCATION:State Farm Arena\, Atlanta
CATEGORIES:Hip-Hop/Rap
END:VEVENT
BEGIN:VEVENT
DTSTART;TZID=UTC:20250503T200000
DTEND;TZID=UTC:20250503T200000
DTSTAMP:20260421T103114
CREATED:20250427T043850Z
LAST-MODIFIED:20250504T045605Z
UID:10002155-1746302400-1746302400@elaevents.com
SUMMARY:Sofi Tukker at The Guitar Hotel Pool Powered by SI Circuit Series
DESCRIPTION:
URL:https://elaevents.com/event/sofi-tukker-at-the-guitar-hotel-pool-powered-by-si-circuit-series/
LOCATION:Hard Rock Live\, Hollywood
CATEGORIES:Dance/Electronic
GEO:26.0534476;-80.2138684
END:VEVENT
END:VCALENDAR