BEGIN:VCALENDAR
VERSION:2.0
PRODID:-//Ela Events - ECPv6.9.0//NONSGML v1.0//EN
CALSCALE:GREGORIAN
METHOD:PUBLISH
X-WR-CALNAME:Ela Events
X-ORIGINAL-URL:https://elaevents.com
X-WR-CALDESC:Events for Ela Events
REFRESH-INTERVAL;VALUE=DURATION:PT1H
X-Robots-Tag:noindex
X-PUBLISHED-TTL:PT1H
BEGIN:VTIMEZONE
TZID:UTC
BEGIN:STANDARD
TZOFFSETFROM:+0000
TZOFFSETTO:+0000
TZNAME:UTC
DTSTART:20250101T000000
END:STANDARD
END:VTIMEZONE
BEGIN:VEVENT
DTSTART;TZID=UTC:20260114T173000
DTEND;TZID=UTC:20260114T173000
DTSTAMP:20260419T131735
CREATED:20251228T070343Z
LAST-MODIFIED:20260115T065637Z
UID:10002539-1768411800-1768411800@elaevents.com
SUMMARY:AEW presents Dynamite & Collision Maximum Carnage
DESCRIPTION:
URL:https://elaevents.com/event/aew-presents-dynamite-collision-maximum-carnage/
LOCATION:Arizona Financial Theatre\, Phoenix\, az
CATEGORIES:Wrestling
ATTACH;FMTTYPE=image/jpeg:https://elaevents.com/wp-content/uploads/2025/09/aew-presents-dynamite.jpg
END:VEVENT
BEGIN:VEVENT
DTSTART;TZID=UTC:20251001T193000
DTEND;TZID=UTC:20251001T193000
DTSTAMP:20260419T131735
CREATED:20250922T044107Z
LAST-MODIFIED:20251002T040430Z
UID:10002374-1759347000-1759347000@elaevents.com
SUMMARY:AEW Presents Dynamite
DESCRIPTION:
URL:https://elaevents.com/event/aew-presents-dynamite/
LOCATION:Hard Rock Live\, Hollywood
CATEGORIES:Wrestling
ATTACH;FMTTYPE=image/jpeg:https://elaevents.com/wp-content/uploads/2025/09/aew-presents-dynamite.jpg
GEO:26.0534476;-80.2138684
END:VEVENT
BEGIN:VEVENT
DTSTART;TZID=UTC:20250713T183000
DTEND;TZID=UTC:20250713T183000
DTSTAMP:20260419T131735
CREATED:20250712T092511Z
LAST-MODIFIED:20250714T034141Z
UID:10002257-1752431400-1752431400@elaevents.com
SUMMARY:WWE Evolution Premium Live Event
DESCRIPTION:
URL:https://elaevents.com/event/wwe-evolution-premium-live-event/
LOCATION:State Farm Arena\, Atlanta
CATEGORIES:Wrestling
ATTACH;FMTTYPE=image/jpeg:https://elaevents.com/wp-content/uploads/2025/07/wwe-saturday-nights-main-event.jpg
END:VEVENT
BEGIN:VEVENT
DTSTART;TZID=UTC:20250712T193000
DTEND;TZID=UTC:20250712T193000
DTSTAMP:20260419T131735
CREATED:20250711T105454Z
LAST-MODIFIED:20250713T042818Z
UID:10002254-1752348600-1752348600@elaevents.com
SUMMARY:WWE Saturday Night's Main Event
DESCRIPTION:
URL:https://elaevents.com/event/wwe-saturday-nights-main-event/
LOCATION:State Farm Arena\, Atlanta
CATEGORIES:Wrestling
ATTACH;FMTTYPE=image/jpeg:https://elaevents.com/wp-content/uploads/2025/07/wwe-saturday-nights-main-event.jpg
END:VEVENT
BEGIN:VEVENT
DTSTART;TZID=UTC:20250712T000000
DTEND;TZID=UTC:20250713T201500
DTSTAMP:20260419T131735
CREATED:20250713T044319Z
LAST-MODIFIED:20250714T035229Z
UID:10002259-1752278400-1752437700@elaevents.com
SUMMARY:WWE 2-Day Saturday Night's Main Event & Evolution Combo Event Ticket
DESCRIPTION:
URL:https://elaevents.com/event/wwe-2-day-saturday-nights-main-event-evolution-combo-event-ticket/
LOCATION:State Farm Arena\, Atlanta
CATEGORIES:Wrestling
ATTACH;FMTTYPE=image/jpeg:https://elaevents.com/wp-content/uploads/2025/07/wwe-saturday-nights-main-event.jpg
END:VEVENT
END:VCALENDAR