BEGIN:VCALENDAR
VERSION:2.0
PRODID:-//Ela Events - ECPv6.9.0//NONSGML v1.0//EN
CALSCALE:GREGORIAN
METHOD:PUBLISH
X-ORIGINAL-URL:https://elaevents.com
X-WR-CALDESC:Events for Ela Events
REFRESH-INTERVAL;VALUE=DURATION:PT1H
X-Robots-Tag:noindex
X-PUBLISHED-TTL:PT1H
BEGIN:VTIMEZONE
TZID:UTC
BEGIN:STANDARD
TZOFFSETFROM:+0000
TZOFFSETTO:+0000
TZNAME:UTC
DTSTART:20240101T000000
END:STANDARD
END:VTIMEZONE
BEGIN:VEVENT
DTSTART;TZID=UTC:20241115T193000
DTEND;TZID=UTC:20241115T193000
DTSTAMP:20260420T075535
CREATED:20241114T141230Z
LAST-MODIFIED:20241116T070959Z
UID:10000108-1731699000-1731699000@elaevents.com
SUMMARY:Commodores\, The Pointer Sisters and The Spinners
DESCRIPTION:
URL:https://elaevents.com/event/commodores-the-pointer-sisters-and-the-spinners/
LOCATION:Hard Rock Live\, Hollywood
CATEGORIES:R&B
ATTACH;FMTTYPE=image/jpeg:https://elaevents.com/wp-content/uploads/2024/11/unnamed-file-9.jpg
GEO:26.0534476;-80.2138684
END:VEVENT
BEGIN:VEVENT
DTSTART;TZID=UTC:20250130T200000
DTEND;TZID=UTC:20250130T200000
DTSTAMP:20260420T075535
CREATED:20241114T141311Z
LAST-MODIFIED:20250131T070651Z
UID:10000119-1738267200-1738267200@elaevents.com
SUMMARY:Thee Sacred Souls
DESCRIPTION:
URL:https://elaevents.com/event/thee-sacred-souls/
LOCATION:Arizona Financial Theatre\, Phoenix\, az
CATEGORIES:R&B
ATTACH;FMTTYPE=image/jpeg:https://elaevents.com/wp-content/uploads/2024/11/thee-sacred-souls.jpg
END:VEVENT
BEGIN:VEVENT
DTSTART;TZID=UTC:20250211T190000
DTEND;TZID=UTC:20250211T190000
DTSTAMP:20260420T075535
CREATED:20250126T060624Z
LAST-MODIFIED:20250212T042251Z
UID:10001566-1739300400-1739300400@elaevents.com
SUMMARY:Mary J. Blige: The For My Fans Tour with NE-YO & Mario
DESCRIPTION:
URL:https://elaevents.com/event/mary-j-blige-the-for-my-fans-tour-with-ne-yo-mario/
LOCATION:Hard Rock Live\, Hollywood
CATEGORIES:R&B
GEO:26.0534476;-80.2138684
END:VEVENT
BEGIN:VEVENT
DTSTART;TZID=UTC:20250607T200000
DTEND;TZID=UTC:20250607T200000
DTSTAMP:20260420T075535
CREATED:20250525T053636Z
LAST-MODIFIED:20250608T042701Z
UID:10002193-1749326400-1749326400@elaevents.com
SUMMARY:Fantasia & Joe
DESCRIPTION:
URL:https://elaevents.com/event/fantasia-joe/
LOCATION:Hard Rock Live\, Hollywood
CATEGORIES:R&B
ATTACH;FMTTYPE=image/jpeg:https://elaevents.com/wp-content/uploads/2025/05/fantasia-joe.jpg
GEO:26.0534476;-80.2138684
END:VEVENT
BEGIN:VEVENT
DTSTART;TZID=UTC:20250622T200000
DTEND;TZID=UTC:20250622T200000
DTSTAMP:20260420T075535
CREATED:20250608T050629Z
LAST-MODIFIED:20250623T042814Z
UID:10002218-1750622400-1750622400@elaevents.com
SUMMARY:Fridayy - Some Days I'm Good\, Some Days I'm Not World Tour
DESCRIPTION:
URL:https://elaevents.com/event/fridayy-some-days-im-good-some-days-im-not-world-tour/
LOCATION:Hard Rock Live\, Hollywood
CATEGORIES:R&B
ATTACH;FMTTYPE=image/jpeg:https://elaevents.com/wp-content/uploads/2025/06/fridayy-some-days-im-good-some-days-im-not-world-tour.jpg
GEO:26.0534476;-80.2138684
END:VEVENT
BEGIN:VEVENT
DTSTART;TZID=UTC:20250711T200000
DTEND;TZID=UTC:20250711T200000
DTSTAMP:20260420T075535
CREATED:20250621T043441Z
LAST-MODIFIED:20250712T044541Z
UID:10002239-1752264000-1752264000@elaevents.com
SUMMARY:Freestyle Free For All
DESCRIPTION:
URL:https://elaevents.com/event/freestyle-free-for-all/
LOCATION:Hard Rock Live\, Hollywood
CATEGORIES:R&B
ATTACH;FMTTYPE=image/jpeg:https://elaevents.com/wp-content/uploads/2025/06/freestyle-free-for-all.jpg
GEO:26.0534476;-80.2138684
END:VEVENT
BEGIN:VEVENT
DTSTART;TZID=UTC:20250720T190000
DTEND;TZID=UTC:20250720T190000
DTSTAMP:20260420T075535
CREATED:20250704T050049Z
LAST-MODIFIED:20250721T040144Z
UID:10002246-1753038000-1753038000@elaevents.com
SUMMARY:KEYSHIA COLE: The Way It Is 20th Anniversary Tour
DESCRIPTION:
URL:https://elaevents.com/event/keyshia-cole-the-way-it-is-20th-anniversary-tour/
LOCATION:Hard Rock Live\, Hollywood
CATEGORIES:R&B
ATTACH;FMTTYPE=image/jpeg:https://elaevents.com/wp-content/uploads/2025/07/keyshia-cole-the-way-it-is-20th-anniversary-tour-1.jpg
GEO:26.0534476;-80.2138684
END:VEVENT
BEGIN:VEVENT
DTSTART;TZID=UTC:20250722T190000
DTEND;TZID=UTC:20250722T190000
DTSTAMP:20260420T075535
CREATED:20250714T041739Z
LAST-MODIFIED:20250723T041934Z
UID:10002261-1753210800-1753210800@elaevents.com
SUMMARY:KEYSHIA COLE - The Way It Is 20th Anniversary Tour
DESCRIPTION:
URL:https://elaevents.com/event/keyshia-cole-the-way-it-is-20th-anniversary-tour-2/
LOCATION:State Farm Arena\, Atlanta
CATEGORIES:R&B
ATTACH;FMTTYPE=image/jpeg:https://elaevents.com/wp-content/uploads/2025/07/keyshia-cole-the-way-it-is-20th-anniversary-tour-1.jpg
END:VEVENT
BEGIN:VEVENT
DTSTART;TZID=UTC:20250726T200000
DTEND;TZID=UTC:20250726T200000
DTSTAMP:20260420T075535
CREATED:20250719T044737Z
LAST-MODIFIED:20250727T042021Z
UID:10002264-1753560000-1753560000@elaevents.com
SUMMARY:Keith Sweat Birthday Bash
DESCRIPTION:
URL:https://elaevents.com/event/keith-sweat-birthday-bash/
LOCATION:Hard Rock Live\, Hollywood
CATEGORIES:R&B
ATTACH;FMTTYPE=image/jpeg:https://elaevents.com/wp-content/uploads/2025/07/keith-sweat-birthday-bash.jpg
GEO:26.0534476;-80.2138684
END:VEVENT
BEGIN:VEVENT
DTSTART;TZID=UTC:20250731T193000
DTEND;TZID=UTC:20250804T193000
DTSTAMP:20260420T075535
CREATED:20250428T182547Z
LAST-MODIFIED:20250801T082749Z
UID:10002262-1753990200-1754335800@elaevents.com
SUMMARY:Jessie Reyez - Paid In Memories Tour
DESCRIPTION:
URL:https://elaevents.com/event/jessie-reyez-paid-in-memories-tour/
LOCATION:Arizona Financial Theatre\, Phoenix\, az
CATEGORIES:R&B
ATTACH;FMTTYPE=image/jpeg:https://elaevents.com/wp-content/uploads/2025/04/jessie-reyez-paid-in-memories-tour-1.jpg
END:VEVENT
BEGIN:VEVENT
DTSTART;TZID=UTC:20250826T200000
DTEND;TZID=UTC:20250826T200000
DTSTAMP:20260420T075535
CREATED:20250815T043627Z
LAST-MODIFIED:20250827T042739Z
UID:10002307-1756238400-1756238400@elaevents.com
SUMMARY:The O'Jays
DESCRIPTION:
URL:https://elaevents.com/event/the-ojays/
LOCATION:Hard Rock Live\, Hollywood
CATEGORIES:R&B
ATTACH;FMTTYPE=image/jpeg:https://elaevents.com/wp-content/uploads/2025/08/the-ojays.jpg
GEO:26.0534476;-80.2138684
END:VEVENT
BEGIN:VEVENT
DTSTART;TZID=UTC:20250921T200000
DTEND;TZID=UTC:20250921T200000
DTSTAMP:20260420T075535
CREATED:20250907T050402Z
LAST-MODIFIED:20250922T043136Z
UID:10002347-1758484800-1758484800@elaevents.com
SUMMARY:Al Green
DESCRIPTION:
URL:https://elaevents.com/event/al-green/
LOCATION:Hard Rock Live\, Hollywood
CATEGORIES:R&B
ATTACH;FMTTYPE=image/jpeg:https://elaevents.com/wp-content/uploads/2025/09/al-green.jpg
GEO:26.0534476;-80.2138684
END:VEVENT
END:VCALENDAR