BEGIN:VCALENDAR
VERSION:2.0
PRODID:-//Ela Events - ECPv6.9.0//NONSGML v1.0//EN
CALSCALE:GREGORIAN
METHOD:PUBLISH
X-WR-CALNAME:Ela Events
X-ORIGINAL-URL:https://elaevents.com
X-WR-CALDESC:Events for Ela Events
REFRESH-INTERVAL;VALUE=DURATION:PT1H
X-Robots-Tag:noindex
X-PUBLISHED-TTL:PT1H
BEGIN:VTIMEZONE
TZID:UTC
BEGIN:STANDARD
TZOFFSETFROM:+0000
TZOFFSETTO:+0000
TZNAME:UTC
DTSTART:20250101T000000
END:STANDARD
END:VTIMEZONE
BEGIN:VEVENT
DTSTART;TZID=UTC:20251107T000000
DTEND;TZID=UTC:20251107T000000
DTSTAMP:20260420T050750
CREATED:20251026T073317Z
LAST-MODIFIED:20251109T070032Z
UID:10002437-1762473600-1762473600@elaevents.com
SUMMARY:K-LOVE PRESENTS A WEEKEND WITH FOUND COLLECTIVE-TWO DAY EVENT
DESCRIPTION:
URL:https://elaevents.com/event/k-love-presents-a-weekend-with-found-collective-two-day-event/
LOCATION:Arizona Financial Theatre\, Phoenix\, az
CATEGORIES:Lecture/Seminar
ATTACH;FMTTYPE=image/jpeg:https://elaevents.com/wp-content/uploads/2025/10/k-love-presents-a-weekend-with-found-collective-two-day-event.jpg
END:VEVENT
END:VCALENDAR