BEGIN:VCALENDAR
VERSION:2.0
PRODID:-//Ela Events - ECPv6.9.0//NONSGML v1.0//EN
CALSCALE:GREGORIAN
METHOD:PUBLISH
X-WR-CALNAME:Ela Events
X-ORIGINAL-URL:https://elaevents.com
X-WR-CALDESC:Events for Ela Events
REFRESH-INTERVAL;VALUE=DURATION:PT1H
X-Robots-Tag:noindex
X-PUBLISHED-TTL:PT1H
BEGIN:VTIMEZONE
TZID:UTC
BEGIN:STANDARD
TZOFFSETFROM:+0000
TZOFFSETTO:+0000
TZNAME:UTC
DTSTART:20240101T000000
END:STANDARD
END:VTIMEZONE
BEGIN:VEVENT
DTSTART;TZID=UTC:20241114T200000
DTEND;TZID=UTC:20241114T201500
DTSTAMP:20260420T165712
CREATED:20241114T141233Z
LAST-MODIFIED:20241115T010903Z
UID:10000101-1731614400-1731615300@elaevents.com
SUMMARY:Stars and Strings
DESCRIPTION:
URL:https://elaevents.com/event/stars-and-strings/
LOCATION:Hard Rock Live\, Hollywood
CATEGORIES:Country
ATTACH;FMTTYPE=image/jpeg:https://elaevents.com/wp-content/uploads/2024/11/unnamed-file-4.jpg
GEO:26.0534476;-80.2138684
END:VEVENT
BEGIN:VEVENT
DTSTART;TZID=UTC:20241213T200000
DTEND;TZID=UTC:20241213T200000
DTSTAMP:20260420T165712
CREATED:20241114T141153Z
LAST-MODIFIED:20241214T063540Z
UID:10000107-1734120000-1734120000@elaevents.com
SUMMARY:An Evening with Old Dominion
DESCRIPTION:
URL:https://elaevents.com/event/an-evening-with-old-dominion/
LOCATION:Hard Rock Live\, Hollywood
CATEGORIES:Country
ATTACH;FMTTYPE=image/jpeg:https://elaevents.com/wp-content/uploads/2024/11/unnamed-file-3.jpg
GEO:26.0534476;-80.2138684
END:VEVENT
BEGIN:VEVENT
DTSTART;TZID=UTC:20250315T190000
DTEND;TZID=UTC:20250315T190000
DTSTAMP:20260420T165712
CREATED:20250302T071329Z
LAST-MODIFIED:20250316T033201Z
UID:10001744-1742065200-1742065200@elaevents.com
SUMMARY:Blake Shelton: Friends & Heroes 2025
DESCRIPTION:
URL:https://elaevents.com/event/blake-shelton-friends-heroes-2025/
LOCATION:State Farm Arena\, Atlanta
CATEGORIES:Country
END:VEVENT
BEGIN:VEVENT
DTSTART;TZID=UTC:20250418T200000
DTEND;TZID=UTC:20250418T200000
DTSTAMP:20260420T165712
CREATED:20250108T204508Z
LAST-MODIFIED:20250419T042430Z
UID:10001326-1745006400-1745006400@elaevents.com
SUMMARY:Warren Zeiders: The Relapse Tour
DESCRIPTION:
URL:https://elaevents.com/event/warren-zeiders-the-relapse-tour/
LOCATION:Hard Rock Live\, Hollywood
CATEGORIES:Country
ATTACH;FMTTYPE=image/jpeg:https://elaevents.com/wp-content/uploads/2025/01/warren-zeiders-the-relapse-tour-1.jpg
GEO:26.0534476;-80.2138684
END:VEVENT
BEGIN:VEVENT
DTSTART;TZID=UTC:20250531T200000
DTEND;TZID=UTC:20250531T200000
DTSTAMP:20260420T165712
CREATED:20250523T053205Z
LAST-MODIFIED:20250601T040257Z
UID:10002188-1748721600-1748721600@elaevents.com
SUMMARY:Sam Hunt
DESCRIPTION:
URL:https://elaevents.com/event/sam-hunt/
LOCATION:Hard Rock Live\, Hollywood
CATEGORIES:Country
ATTACH;FMTTYPE=image/jpeg:https://elaevents.com/wp-content/uploads/2025/05/sam-hunt-scaled.jpg
GEO:26.0534476;-80.2138684
END:VEVENT
BEGIN:VEVENT
DTSTART;TZID=UTC:20250605T193000
DTEND;TZID=UTC:20250605T193000
DTSTAMP:20260420T165712
CREATED:20250601T124857Z
LAST-MODIFIED:20250606T083302Z
UID:10002204-1749151800-1749151800@elaevents.com
SUMMARY:Brad Paisley: Truck Still Works World Tour
DESCRIPTION:
URL:https://elaevents.com/event/brad-paisley-truck-still-works-world-tour/
LOCATION:Arizona Financial Theatre\, Phoenix\, az
CATEGORIES:Country
ATTACH;FMTTYPE=image/jpeg:https://elaevents.com/wp-content/uploads/2025/06/brad-paisley-truck-still-works-world-tour.jpg
END:VEVENT
BEGIN:VEVENT
DTSTART;TZID=UTC:20250719T200000
DTEND;TZID=UTC:20250719T200000
DTSTAMP:20260420T165712
CREATED:20250602T223515Z
LAST-MODIFIED:20250720T042706Z
UID:10002222-1752955200-1752955200@elaevents.com
SUMMARY:Darius Rucker
DESCRIPTION:
URL:https://elaevents.com/event/darius-rucker/
LOCATION:Hard Rock Live\, Hollywood
CATEGORIES:Country
ATTACH;FMTTYPE=image/jpeg:https://elaevents.com/wp-content/uploads/2025/06/darius-rucker-scaled.jpg
GEO:26.0534476;-80.2138684
END:VEVENT
BEGIN:VEVENT
DTSTART;TZID=UTC:20250801T193000
DTEND;TZID=UTC:20250801T193000
DTSTAMP:20260420T165712
CREATED:20241216T225322Z
LAST-MODIFIED:20250802T035305Z
UID:10001321-1754076600-1754076600@elaevents.com
SUMMARY:Shania Twain:  Live in Concert
DESCRIPTION:
URL:https://elaevents.com/event/shania-twain-live-in-concert/
LOCATION:Hard Rock Live\, Hollywood
CATEGORIES:Country
ATTACH;FMTTYPE=image/jpeg:https://elaevents.com/wp-content/uploads/2024/12/shania-twain-live-in-concert.jpg
GEO:26.0534476;-80.2138684
END:VEVENT
BEGIN:VEVENT
DTSTART;TZID=UTC:20250802T193000
DTEND;TZID=UTC:20250802T193000
DTSTAMP:20260420T165712
CREATED:20250421T143719Z
LAST-MODIFIED:20250803T040246Z
UID:10002147-1754163000-1754163000@elaevents.com
SUMMARY:Shania Twain:  Live in Concert
DESCRIPTION:
URL:https://elaevents.com/event/shania-twain-live-in-concert-2/
LOCATION:Hard Rock Live\, Hollywood
CATEGORIES:Country
ATTACH;FMTTYPE=image/jpeg:https://elaevents.com/wp-content/uploads/2024/12/shania-twain-live-in-concert.jpg
GEO:26.0534476;-80.2138684
END:VEVENT
BEGIN:VEVENT
DTSTART;TZID=UTC:20250818T193000
DTEND;TZID=UTC:20250818T193000
DTSTAMP:20260420T165712
CREATED:20250807T070742Z
LAST-MODIFIED:20250819T083126Z
UID:10002290-1755545400-1755545400@elaevents.com
SUMMARY:Whiskey Myers & Tedeschi Trucks Band: Live In 25
DESCRIPTION:
URL:https://elaevents.com/event/whiskey-myers-tedeschi-trucks-band-live-in-25/
LOCATION:Arizona Financial Theatre\, Phoenix\, az
CATEGORIES:Country
ATTACH;FMTTYPE=image/jpeg:https://elaevents.com/wp-content/uploads/2025/08/whiskey-myers-tedeschi-trucks-band-live-in-25.jpg
END:VEVENT
BEGIN:VEVENT
DTSTART;TZID=UTC:20250913T200000
DTEND;TZID=UTC:20250913T200000
DTSTAMP:20260420T165712
CREATED:20250827T044719Z
LAST-MODIFIED:20250914T042556Z
UID:10002331-1757793600-1757793600@elaevents.com
SUMMARY:Tim McGraw
DESCRIPTION:
URL:https://elaevents.com/event/tim-mcgraw/
LOCATION:Hard Rock Live\, Hollywood
CATEGORIES:Country
ATTACH;FMTTYPE=image/jpeg:https://elaevents.com/wp-content/uploads/2025/08/tim-mcgraw-scaled.jpg
GEO:26.0534476;-80.2138684
END:VEVENT
BEGIN:VEVENT
DTSTART;TZID=UTC:20250919T190000
DTEND;TZID=UTC:20250919T190000
DTSTAMP:20260420T165712
CREATED:20250906T070941Z
LAST-MODIFIED:20250920T075921Z
UID:10002344-1758308400-1758308400@elaevents.com
SUMMARY:Jordan Davis: Ain't Enough Road Tour 2025
DESCRIPTION:
URL:https://elaevents.com/event/jordan-davis-aint-enough-road-tour-2025/
LOCATION:Arizona Financial Theatre\, Phoenix\, az
CATEGORIES:Country
ATTACH;FMTTYPE=image/jpeg:https://elaevents.com/wp-content/uploads/2025/09/jordan-davis-aint-enough-road-tour-2025.jpg
END:VEVENT
END:VCALENDAR