BEGIN:VCALENDAR
VERSION:2.0
PRODID:-//Ela Events - ECPv6.9.0//NONSGML v1.0//EN
CALSCALE:GREGORIAN
METHOD:PUBLISH
X-ORIGINAL-URL:https://elaevents.com
X-WR-CALDESC:Events for Ela Events
REFRESH-INTERVAL;VALUE=DURATION:PT1H
X-Robots-Tag:noindex
X-PUBLISHED-TTL:PT1H
BEGIN:VTIMEZONE
TZID:UTC
BEGIN:STANDARD
TZOFFSETFROM:+0000
TZOFFSETTO:+0000
TZNAME:UTC
DTSTART:20250101T000000
END:STANDARD
END:VTIMEZONE
BEGIN:VEVENT
DTSTART;TZID=UTC:20260418T193000
DTEND;TZID=UTC:20260418T193000
DTSTAMP:20260419T162203
CREATED:20251230T140537Z
LAST-MODIFIED:20260419T082615Z
UID:10002554-1776540600-1776540600@elaevents.com
SUMMARY:Warren Zeiders World Tour 2026
DESCRIPTION:
URL:https://elaevents.com/event/warren-zeiders-world-tour-2026/
LOCATION:Arizona Financial Theatre\, Phoenix\, az
CATEGORIES:Country
ATTACH;FMTTYPE=image/jpeg:https://elaevents.com/wp-content/uploads/2025/01/warren-zeiders-the-relapse-tour-1.jpg
END:VEVENT
BEGIN:VEVENT
DTSTART;TZID=UTC:20260327T200000
DTEND;TZID=UTC:20260327T200000
DTSTAMP:20260419T162203
CREATED:20260307T053757Z
LAST-MODIFIED:20260326T183158Z
UID:10002758-1774641600-1774641600@elaevents.com
SUMMARY:Eric Church: Free The Machine Tour
DESCRIPTION:
URL:https://elaevents.com/event/eric-church-free-the-machine-tour-4/
LOCATION:Hard Rock Live\, Hollywood
CATEGORIES:Country
ATTACH;FMTTYPE=image/jpeg:https://elaevents.com/wp-content/uploads/2026/03/eric-church-free-the-machine-tour-4-scaled.jpg
GEO:26.0534476;-80.2138684
END:VEVENT
BEGIN:VEVENT
DTSTART;TZID=UTC:20260327T200000
DTEND;TZID=UTC:20260327T200000
DTSTAMP:20260419T162203
CREATED:20260307T053744Z
LAST-MODIFIED:20260307T053819Z
UID:10002756-1774641600-1774641600@elaevents.com
SUMMARY:Eric Church: Free The Machine Tour
DESCRIPTION:
URL:https://elaevents.com/event/eric-church-free-the-machine-tour-2/
LOCATION:Hard Rock Live\, Hollywood
CATEGORIES:Country
ATTACH;FMTTYPE=image/jpeg:https://elaevents.com/wp-content/uploads/2026/03/eric-church-free-the-machine-tour-2-scaled.jpg
GEO:26.0534476;-80.2138684
END:VEVENT
BEGIN:VEVENT
DTSTART;TZID=UTC:20260312T200000
DTEND;TZID=UTC:20260312T200000
DTSTAMP:20260419T162203
CREATED:20260114T180831Z
LAST-MODIFIED:20260313T044049Z
UID:10002570-1773345600-1773345600@elaevents.com
SUMMARY:Miranda Lambert
DESCRIPTION:
URL:https://elaevents.com/event/miranda-lambert/
LOCATION:Hard Rock Live\, Hollywood
CATEGORIES:Country
ATTACH;FMTTYPE=image/jpeg:https://elaevents.com/wp-content/uploads/2026/01/miranda-lambert.jpg
GEO:26.0534476;-80.2138684
END:VEVENT
BEGIN:VEVENT
DTSTART;TZID=UTC:20260307T191500
DTEND;TZID=UTC:20260307T201500
DTSTAMP:20260419T162203
CREATED:20260307T053753Z
LAST-MODIFIED:20260307T053753Z
UID:10002757-1772910900-1772914500@elaevents.com
SUMMARY:Eric Church: Free The Machine Tour
DESCRIPTION:
URL:https://elaevents.com/event/eric-church-free-the-machine-tour-3/
CATEGORIES:Country
ATTACH;FMTTYPE=image/jpeg:https://elaevents.com/wp-content/uploads/2026/03/eric-church-free-the-machine-tour-3-scaled.jpg
END:VEVENT
BEGIN:VEVENT
DTSTART;TZID=UTC:20260307T191500
DTEND;TZID=UTC:20260307T201500
DTSTAMP:20260419T162203
CREATED:20260307T053740Z
LAST-MODIFIED:20260307T053740Z
UID:10002755-1772910900-1772914500@elaevents.com
SUMMARY:Eric Church: Free The Machine Tour
DESCRIPTION:
URL:https://elaevents.com/event/eric-church-free-the-machine-tour/
CATEGORIES:Country
ATTACH;FMTTYPE=image/jpeg:https://elaevents.com/wp-content/uploads/2026/03/eric-church-free-the-machine-tour-scaled.jpg
END:VEVENT
BEGIN:VEVENT
DTSTART;TZID=UTC:20260222T200000
DTEND;TZID=UTC:20260222T200000
DTSTAMP:20260419T162203
CREATED:20260125T053938Z
LAST-MODIFIED:20260223T053155Z
UID:10002592-1771790400-1771790400@elaevents.com
SUMMARY:Tucker Wetmore: The Brunette World Tour
DESCRIPTION:
URL:https://elaevents.com/event/tucker-wetmore-the-brunette-world-tour/
LOCATION:Hard Rock Live\, Hollywood
CATEGORIES:Country
ATTACH;FMTTYPE=image/jpeg:https://elaevents.com/wp-content/uploads/2026/01/tucker-wetmore-the-brunette-world-tour.jpg
GEO:26.0534476;-80.2138684
END:VEVENT
BEGIN:VEVENT
DTSTART;TZID=UTC:20260214T190000
DTEND;TZID=UTC:20260214T190000
DTSTAMP:20260419T162203
CREATED:20260123T060710Z
LAST-MODIFIED:20260215T050423Z
UID:10002584-1771095600-1771095600@elaevents.com
SUMMARY:Rascal Flatts: Life Is A Highway Tour
DESCRIPTION:
URL:https://elaevents.com/event/rascal-flatts-life-is-a-highway-tour/
LOCATION:Hard Rock Live\, Hollywood
CATEGORIES:Country
ATTACH;FMTTYPE=image/jpeg:https://elaevents.com/wp-content/uploads/2026/01/rascal-flatts-life-is-a-highway-tour-scaled.jpg
GEO:26.0534476;-80.2138684
END:VEVENT
BEGIN:VEVENT
DTSTART;TZID=UTC:20260130T200000
DTEND;TZID=UTC:20260130T200000
DTSTAMP:20260419T162203
CREATED:20251215T195611Z
LAST-MODIFIED:20260131T060048Z
UID:10002547-1769803200-1769803200@elaevents.com
SUMMARY:Bailey Zimmerman
DESCRIPTION:
URL:https://elaevents.com/event/bailey-zimmerman/
LOCATION:Hard Rock Live\, Hollywood
CATEGORIES:Country
ATTACH;FMTTYPE=image/jpeg:https://elaevents.com/wp-content/uploads/2025/12/bailey-zimmerman.jpg
GEO:26.0534476;-80.2138684
END:VEVENT
BEGIN:VEVENT
DTSTART;TZID=UTC:20260111T193000
DTEND;TZID=UTC:20260111T193000
DTSTAMP:20260419T162203
CREATED:20250929T041248Z
LAST-MODIFIED:20260112T050038Z
UID:10002386-1768159800-1768159800@elaevents.com
SUMMARY:Chris Stapleton's All-American Road Show
DESCRIPTION:
URL:https://elaevents.com/event/chris-stapletons-all-american-road-show/
LOCATION:Hard Rock Live\, Hollywood
CATEGORIES:Country
ATTACH;FMTTYPE=image/jpeg:https://elaevents.com/wp-content/uploads/2025/09/chris-stapletons-all-american-road-show-1.jpg
GEO:26.0534476;-80.2138684
END:VEVENT
BEGIN:VEVENT
DTSTART;TZID=UTC:20260110T193000
DTEND;TZID=UTC:20260110T193000
DTSTAMP:20260419T162203
CREATED:20251002T041332Z
LAST-MODIFIED:20260111T045307Z
UID:10002397-1768073400-1768073400@elaevents.com
SUMMARY:Chris Stapleton's All-American Road Show
DESCRIPTION:
URL:https://elaevents.com/event/chris-stapletons-all-american-road-show-2/
LOCATION:Hard Rock Live\, Hollywood
CATEGORIES:Country
ATTACH;FMTTYPE=image/jpeg:https://elaevents.com/wp-content/uploads/2025/09/chris-stapletons-all-american-road-show-1.jpg
GEO:26.0534476;-80.2138684
END:VEVENT
BEGIN:VEVENT
DTSTART;TZID=UTC:20251218T200000
DTEND;TZID=UTC:20251218T200000
DTSTAMP:20260419T162203
CREATED:20251205T054039Z
LAST-MODIFIED:20251219T053244Z
UID:10002486-1766088000-1766088000@elaevents.com
SUMMARY:Jon Pardi: The Christmas Show
DESCRIPTION:
URL:https://elaevents.com/event/jon-pardi-the-christmas-show/
LOCATION:Hard Rock Live\, Hollywood
CATEGORIES:Country
ATTACH;FMTTYPE=image/jpeg:https://elaevents.com/wp-content/uploads/2025/12/jon-pardi-the-christmas-show.jpg
GEO:26.0534476;-80.2138684
END:VEVENT
END:VCALENDAR