BEGIN:VCALENDAR
VERSION:2.0
PRODID:-//Ela Events - ECPv6.9.0//NONSGML v1.0//EN
CALSCALE:GREGORIAN
METHOD:PUBLISH
X-ORIGINAL-URL:https://elaevents.com
X-WR-CALDESC:Events for Ela Events
REFRESH-INTERVAL;VALUE=DURATION:PT1H
X-Robots-Tag:noindex
X-PUBLISHED-TTL:PT1H
BEGIN:VTIMEZONE
TZID:UTC
BEGIN:STANDARD
TZOFFSETFROM:+0000
TZOFFSETTO:+0000
TZNAME:UTC
DTSTART:20260101T000000
END:STANDARD
END:VTIMEZONE
BEGIN:VEVENT
DTSTART;TZID=UTC:20261128T110000
DTEND;TZID=UTC:20261128T110000
DTSTAMP:20260419T144832
CREATED:20260310T140928Z
LAST-MODIFIED:20260419T143625Z
UID:10002781-1795863600-1795863600@elaevents.com
SUMMARY:Bluey's Big Play
DESCRIPTION:
URL:https://elaevents.com/event/blueys-big-play-9/
LOCATION:Arizona Financial Theatre\, Phoenix\, az
CATEGORIES:Children's Theatre
ATTACH;FMTTYPE=image/jpeg:https://elaevents.com/wp-content/uploads/2026/03/blueys-big-play-5.jpg
END:VEVENT
BEGIN:VEVENT
DTSTART;TZID=UTC:20261128T140000
DTEND;TZID=UTC:20261128T140000
DTSTAMP:20260419T144832
CREATED:20260310T140717Z
LAST-MODIFIED:20260419T144614Z
UID:10002779-1795874400-1795874400@elaevents.com
SUMMARY:Bluey's Big Play
DESCRIPTION:
URL:https://elaevents.com/event/blueys-big-play-7/
LOCATION:Arizona Financial Theatre\, Phoenix\, az
CATEGORIES:Children's Theatre
ATTACH;FMTTYPE=image/jpeg:https://elaevents.com/wp-content/uploads/2026/03/blueys-big-play-5.jpg
END:VEVENT
BEGIN:VEVENT
DTSTART;TZID=UTC:20261128T180000
DTEND;TZID=UTC:20261128T180000
DTSTAMP:20260419T144832
CREATED:20260310T140822Z
LAST-MODIFIED:20260419T143625Z
UID:10002782-1795888800-1795888800@elaevents.com
SUMMARY:Bluey's Big Play
DESCRIPTION:
URL:https://elaevents.com/event/blueys-big-play-8/
LOCATION:Arizona Financial Theatre\, Phoenix\, az
CATEGORIES:Children's Theatre
ATTACH;FMTTYPE=image/jpeg:https://elaevents.com/wp-content/uploads/2026/03/blueys-big-play-5.jpg
END:VEVENT
END:VCALENDAR