BEGIN:VCALENDAR
VERSION:2.0
PRODID:-//Ela Events - ECPv6.9.0//NONSGML v1.0//EN
CALSCALE:GREGORIAN
METHOD:PUBLISH
X-ORIGINAL-URL:https://elaevents.com
X-WR-CALDESC:Events for Ela Events
REFRESH-INTERVAL;VALUE=DURATION:PT1H
X-Robots-Tag:noindex
X-PUBLISHED-TTL:PT1H
BEGIN:VTIMEZONE
TZID:UTC
BEGIN:STANDARD
TZOFFSETFROM:+0000
TZOFFSETTO:+0000
TZNAME:UTC
DTSTART:20260101T000000
END:STANDARD
END:VTIMEZONE
BEGIN:VEVENT
DTSTART;TZID=UTC:20260412T160000
DTEND;TZID=UTC:20260412T160000
DTSTAMP:20260420T071255
CREATED:20260225T132238Z
LAST-MODIFIED:20260326T183045Z
UID:10002676-1776009600-1776009600@elaevents.com
SUMMARY:Fists of Fury Series
DESCRIPTION:
URL:https://elaevents.com/event/fists-of-fury-series-5/
LOCATION:Hard Rock Live\, Hollywood
CATEGORIES:Boxing
ATTACH;FMTTYPE=image/jpeg:https://elaevents.com/wp-content/uploads/2025/12/fists-of-fury-series-4.jpg
GEO:26.0534476;-80.2138684
END:VEVENT
END:VCALENDAR