BEGIN:VCALENDAR
VERSION:2.0
PRODID:-//Ela Events - ECPv6.9.0//NONSGML v1.0//EN
CALSCALE:GREGORIAN
METHOD:PUBLISH
X-WR-CALNAME:Ela Events
X-ORIGINAL-URL:https://elaevents.com
X-WR-CALDESC:Events for Ela Events
REFRESH-INTERVAL;VALUE=DURATION:PT1H
X-Robots-Tag:noindex
X-PUBLISHED-TTL:PT1H
BEGIN:VTIMEZONE
TZID:UTC
BEGIN:STANDARD
TZOFFSETFROM:+0000
TZOFFSETTO:+0000
TZNAME:UTC
DTSTART:20260101T000000
END:STANDARD
END:VTIMEZONE
BEGIN:VEVENT
DTSTART;TZID=UTC:20260519T193000
DTEND;TZID=UTC:20260519T193000
DTSTAMP:20260421T003048
CREATED:20260326T182702Z
LAST-MODIFIED:20260421T002145Z
UID:10002835-1779219000-1779219000@elaevents.com
SUMMARY:Don Toliver: Octane Tour
DESCRIPTION:
URL:https://elaevents.com/event/don-toliver-octane-tour/
LOCATION:State Farm Arena\, Atlanta
CATEGORIES:Hip-Hop/Rap
ATTACH;FMTTYPE=image/jpeg:https://elaevents.com/wp-content/uploads/2026/03/don-toliver-octane-tour.jpg
END:VEVENT
END:VCALENDAR