BEGIN:VCALENDAR
VERSION:2.0
PRODID:-//Ela Events - ECPv6.9.0//NONSGML v1.0//EN
CALSCALE:GREGORIAN
METHOD:PUBLISH
X-WR-CALNAME:Ela Events
X-ORIGINAL-URL:https://elaevents.com
X-WR-CALDESC:Events for Ela Events
REFRESH-INTERVAL;VALUE=DURATION:PT1H
X-Robots-Tag:noindex
X-PUBLISHED-TTL:PT1H
BEGIN:VTIMEZONE
TZID:UTC
BEGIN:STANDARD
TZOFFSETFROM:+0000
TZOFFSETTO:+0000
TZNAME:UTC
DTSTART:20260101T000000
END:STANDARD
END:VTIMEZONE
BEGIN:VEVENT
DTSTART;TZID=UTC:20260506T200000
DTEND;TZID=UTC:20260506T200000
DTSTAMP:20260421T021622
CREATED:20251014T103814Z
LAST-MODIFIED:20251215T195419Z
UID:10002419-1778097600-1778097600@elaevents.com
SUMMARY:STING 3.0 Tour
DESCRIPTION:
URL:https://elaevents.com/event/sting-3-0-tour-3/
LOCATION:Hard Rock Live\, Hollywood
CATEGORIES:Rock
ATTACH;FMTTYPE=image/jpeg:https://elaevents.com/wp-content/uploads/2025/05/sting-3-0-tour.jpg
GEO:26.0534476;-80.2138684
END:VEVENT
END:VCALENDAR