BEGIN:VCALENDAR
VERSION:2.0
PRODID:-//Ela Events - ECPv6.9.0//NONSGML v1.0//EN
CALSCALE:GREGORIAN
METHOD:PUBLISH
X-ORIGINAL-URL:https://elaevents.com
X-WR-CALDESC:Events for Ela Events
REFRESH-INTERVAL;VALUE=DURATION:PT1H
X-Robots-Tag:noindex
X-PUBLISHED-TTL:PT1H
BEGIN:VTIMEZONE
TZID:UTC
BEGIN:STANDARD
TZOFFSETFROM:+0000
TZOFFSETTO:+0000
TZNAME:UTC
DTSTART:20250101T000000
END:STANDARD
END:VTIMEZONE
BEGIN:VEVENT
DTSTART;TZID=UTC:20251209T200000
DTEND;TZID=UTC:20251209T200000
DTSTAMP:20260419T145311
CREATED:20251116T053554Z
LAST-MODIFIED:20251210T055633Z
UID:10002465-1765310400-1765310400@elaevents.com
SUMMARY:Gay Men's Chorus of South Florida Presents: Holiday Slay Ride
DESCRIPTION:
URL:https://elaevents.com/event/gay-mens-chorus-of-south-florida-presents-holiday-slay-ride/
LOCATION:Hard Rock Live\, Hollywood
CATEGORIES:Pop
ATTACH;FMTTYPE=image/jpeg:https://elaevents.com/wp-content/uploads/2025/11/gay-mens-chorus-of-south-florida-presents-holiday-slay-ride.jpg
GEO:26.0534476;-80.2138684
END:VEVENT
END:VCALENDAR