BEGIN:VCALENDAR
VERSION:2.0
PRODID:-//Ela Events - ECPv6.9.0//NONSGML v1.0//EN
CALSCALE:GREGORIAN
METHOD:PUBLISH
X-WR-CALNAME:Ela Events
X-ORIGINAL-URL:https://elaevents.com
X-WR-CALDESC:Events for Ela Events
REFRESH-INTERVAL;VALUE=DURATION:PT1H
X-Robots-Tag:noindex
X-PUBLISHED-TTL:PT1H
BEGIN:VTIMEZONE
TZID:UTC
BEGIN:STANDARD
TZOFFSETFROM:+0000
TZOFFSETTO:+0000
TZNAME:UTC
DTSTART:20250101T000000
END:STANDARD
END:VTIMEZONE
BEGIN:VEVENT
DTSTART;TZID=UTC:20251205T190000
DTEND;TZID=UTC:20251205T190000
DTSTAMP:20260419T132038
CREATED:20251109T000945Z
LAST-MODIFIED:20251206T045941Z
UID:10002456-1764961200-1764961200@elaevents.com
SUMMARY:BKFC 85
DESCRIPTION:
URL:https://elaevents.com/event/bkfc-85/
LOCATION:Hard Rock Live\, Hollywood
CATEGORIES:Martial Arts
ATTACH;FMTTYPE=image/jpeg:https://elaevents.com/wp-content/uploads/2025/06/bkfc-hollywood-2.jpg
GEO:26.0534476;-80.2138684
END:VEVENT
BEGIN:VEVENT
DTSTART;TZID=UTC:20251205T193000
DTEND;TZID=UTC:20251205T193000
DTSTAMP:20260419T132038
CREATED:20251123T090517Z
LAST-MODIFIED:20251206T083322Z
UID:10002475-1764963000-1764963000@elaevents.com
SUMMARY:An Evening with Dr. Amber Straughn
DESCRIPTION:
URL:https://elaevents.com/event/an-evening-with-dr-amber-straughn/
LOCATION:Arizona Financial Theatre\, Phoenix\, az
END:VEVENT
END:VCALENDAR