BEGIN:VCALENDAR
VERSION:2.0
PRODID:-//Ela Events - ECPv6.9.0//NONSGML v1.0//EN
CALSCALE:GREGORIAN
METHOD:PUBLISH
X-WR-CALNAME:Ela Events
X-ORIGINAL-URL:https://elaevents.com
X-WR-CALDESC:Events for Ela Events
REFRESH-INTERVAL;VALUE=DURATION:PT1H
X-Robots-Tag:noindex
X-PUBLISHED-TTL:PT1H
BEGIN:VTIMEZONE
TZID:UTC
BEGIN:STANDARD
TZOFFSETFROM:+0000
TZOFFSETTO:+0000
TZNAME:UTC
DTSTART:20250101T000000
END:STANDARD
END:VTIMEZONE
BEGIN:VEVENT
DTSTART;TZID=UTC:20251113T200000
DTEND;TZID=UTC:20251113T200000
DTSTAMP:20260419T144509
CREATED:20251101T095126Z
LAST-MODIFIED:20251114T085905Z
UID:10002443-1763064000-1763064000@elaevents.com
SUMMARY:Jose Maria Napoleon - Hasta Siempre. Tour de Despedida USA 2025
DESCRIPTION:
URL:https://elaevents.com/event/jose-maria-napoleon-hasta-siempre-tour-de-despedida-usa-2025/
LOCATION:Arizona Financial Theatre\, Phoenix\, az
CATEGORIES:Latin
ATTACH;FMTTYPE=image/jpeg:https://elaevents.com/wp-content/uploads/2025/11/jose-maria-napoleon-hasta-siempre-tour-de-despedida-usa-2025.jpg
END:VEVENT
END:VCALENDAR