BEGIN:VCALENDAR
VERSION:2.0
PRODID:-//Ela Events - ECPv6.9.0//NONSGML v1.0//EN
CALSCALE:GREGORIAN
METHOD:PUBLISH
X-ORIGINAL-URL:https://elaevents.com
X-WR-CALDESC:Events for Ela Events
REFRESH-INTERVAL;VALUE=DURATION:PT1H
X-Robots-Tag:noindex
X-PUBLISHED-TTL:PT1H
BEGIN:VTIMEZONE
TZID:UTC
BEGIN:STANDARD
TZOFFSETFROM:+0000
TZOFFSETTO:+0000
TZNAME:UTC
DTSTART:20250101T000000
END:STANDARD
END:VTIMEZONE
BEGIN:VEVENT
DTSTART;TZID=UTC:20251025T163000
DTEND;TZID=UTC:20251025T163000
DTSTAMP:20260421T001500
CREATED:20251013T104040Z
LAST-MODIFIED:20251026T065601Z
UID:10002416-1761409800-1761409800@elaevents.com
SUMMARY:MONSTER ENERGY PRESENTS: LFA 220
DESCRIPTION:
URL:https://elaevents.com/event/monster-energy-presents-lfa-220/
LOCATION:Arizona Financial Theatre\, Phoenix\, az
CATEGORIES:Martial Arts
ATTACH;FMTTYPE=image/jpeg:https://elaevents.com/wp-content/uploads/2025/10/monster-energy-presents-lfa-220.jpg
END:VEVENT
BEGIN:VEVENT
DTSTART;TZID=UTC:20251025T200000
DTEND;TZID=UTC:20251025T200000
DTSTAMP:20260421T001500
CREATED:20251013T041200Z
LAST-MODIFIED:20251026T062728Z
UID:10002413-1761422400-1761422400@elaevents.com
SUMMARY:Cubatonazo
DESCRIPTION:
URL:https://elaevents.com/event/cubatonazo/
LOCATION:Hard Rock Live\, Hollywood
CATEGORIES:Latin
ATTACH;FMTTYPE=image/png:https://elaevents.com/wp-content/uploads/2025/10/cubatonazo.png
GEO:26.0534476;-80.2138684
END:VEVENT
END:VCALENDAR