BEGIN:VCALENDAR
VERSION:2.0
PRODID:-//Ela Events - ECPv6.9.0//NONSGML v1.0//EN
CALSCALE:GREGORIAN
METHOD:PUBLISH
X-WR-CALNAME:Ela Events
X-ORIGINAL-URL:https://elaevents.com
X-WR-CALDESC:Events for Ela Events
REFRESH-INTERVAL;VALUE=DURATION:PT1H
X-Robots-Tag:noindex
X-PUBLISHED-TTL:PT1H
BEGIN:VTIMEZONE
TZID:UTC
BEGIN:STANDARD
TZOFFSETFROM:+0000
TZOFFSETTO:+0000
TZNAME:UTC
DTSTART:20250101T000000
END:STANDARD
END:VTIMEZONE
BEGIN:VEVENT
DTSTART;TZID=UTC:20250628T200000
DTEND;TZID=UTC:20250628T200000
DTSTAMP:20260421T144210
CREATED:20250606T085212Z
LAST-MODIFIED:20250629T085954Z
UID:10002216-1751140800-1751140800@elaevents.com
SUMMARY:Key Glock: GLOCKAVELI Tour presented by SiriusXM's Hip-Hop Nation
DESCRIPTION:
URL:https://elaevents.com/event/key-glock-glockaveli-tour-presented-by-siriusxms-hip-hop-nation/
LOCATION:Arizona Financial Theatre\, Phoenix\, az
CATEGORIES:Hip-Hop/Rap
ATTACH;FMTTYPE=image/jpeg:https://elaevents.com/wp-content/uploads/2025/06/key-glock-glockaveli-tour-presented-by-siriusxms-hip-hop-nation.jpg
END:VEVENT
BEGIN:VEVENT
DTSTART;TZID=UTC:20250628T200000
DTEND;TZID=UTC:20250628T200000
DTSTAMP:20260421T144210
CREATED:20250615T044132Z
LAST-MODIFIED:20250629T042622Z
UID:10002233-1751140800-1751140800@elaevents.com
SUMMARY:An Evening with Heart
DESCRIPTION:
URL:https://elaevents.com/event/an-evening-with-heart/
LOCATION:Hard Rock Live\, Hollywood
CATEGORIES:Rock
ATTACH;FMTTYPE=image/jpeg:https://elaevents.com/wp-content/uploads/2025/06/an-evening-with-heart.jpg
GEO:26.0534476;-80.2138684
END:VEVENT
END:VCALENDAR