BEGIN:VCALENDAR
VERSION:2.0
PRODID:-//Ela Events - ECPv6.9.0//NONSGML v1.0//EN
CALSCALE:GREGORIAN
METHOD:PUBLISH
X-WR-CALNAME:Ela Events
X-ORIGINAL-URL:https://elaevents.com
X-WR-CALDESC:Events for Ela Events
REFRESH-INTERVAL;VALUE=DURATION:PT1H
X-Robots-Tag:noindex
X-PUBLISHED-TTL:PT1H
BEGIN:VTIMEZONE
TZID:UTC
BEGIN:STANDARD
TZOFFSETFROM:+0000
TZOFFSETTO:+0000
TZNAME:UTC
DTSTART:20250101T000000
END:STANDARD
END:VTIMEZONE
BEGIN:VEVENT
DTSTART;TZID=UTC:20250627T180000
DTEND;TZID=UTC:20250627T180000
DTSTAMP:20260421T174249
CREATED:20250519T124845Z
LAST-MODIFIED:20250628T064600Z
UID:10002213-1751047200-1751047200@elaevents.com
SUMMARY:TCL Team Boxing
DESCRIPTION:
URL:https://elaevents.com/event/tcl-team-boxing/
LOCATION:Arizona Financial Theatre\, Phoenix\, az
CATEGORIES:Boxing
END:VEVENT
END:VCALENDAR