BEGIN:VCALENDAR
VERSION:2.0
PRODID:-//Ela Events - ECPv6.9.0//NONSGML v1.0//EN
CALSCALE:GREGORIAN
METHOD:PUBLISH
X-WR-CALNAME:Ela Events
X-ORIGINAL-URL:https://elaevents.com
X-WR-CALDESC:Events for Ela Events
REFRESH-INTERVAL;VALUE=DURATION:PT1H
X-Robots-Tag:noindex
X-PUBLISHED-TTL:PT1H
BEGIN:VTIMEZONE
TZID:UTC
BEGIN:STANDARD
TZOFFSETFROM:+0000
TZOFFSETTO:+0000
TZNAME:UTC
DTSTART:20250101T000000
END:STANDARD
END:VTIMEZONE
BEGIN:VEVENT
DTSTART;TZID=UTC:20250603T193000
DTEND;TZID=UTC:20250603T193000
DTSTAMP:20260421T044011
CREATED:20250526T074912Z
LAST-MODIFIED:20250604T082641Z
UID:10002197-1748979000-1748979000@elaevents.com
SUMMARY:Dr. Neil DeGrasse Tyson: An Astrophysicist Goes to the Movies Part II
DESCRIPTION:
URL:https://elaevents.com/event/dr-neil-degrasse-tyson-an-astrophysicist-goes-to-the-movies-part-ii/
LOCATION:Arizona Financial Theatre\, Phoenix\, az
CATEGORIES:Family
ATTACH;FMTTYPE=image/jpeg:https://elaevents.com/wp-content/uploads/2025/05/dr-neil-degrasse-tyson-an-astrophysicist-goes-to-the-movies-part-ii.jpg
END:VEVENT
END:VCALENDAR