BEGIN:VCALENDAR
VERSION:2.0
PRODID:-//Ela Events - ECPv6.9.0//NONSGML v1.0//EN
CALSCALE:GREGORIAN
METHOD:PUBLISH
X-WR-CALNAME:Ela Events
X-ORIGINAL-URL:https://elaevents.com
X-WR-CALDESC:Events for Ela Events
REFRESH-INTERVAL;VALUE=DURATION:PT1H
X-Robots-Tag:noindex
X-PUBLISHED-TTL:PT1H
BEGIN:VTIMEZONE
TZID:UTC
BEGIN:STANDARD
TZOFFSETFROM:+0000
TZOFFSETTO:+0000
TZNAME:UTC
DTSTART:20250101T000000
END:STANDARD
END:VTIMEZONE
BEGIN:VEVENT
DTSTART;TZID=UTC:20250515T200000
DTEND;TZID=UTC:20250515T200000
DTSTAMP:20260422T032713
CREATED:20250503T050343Z
LAST-MODIFIED:20250516T053413Z
UID:10002159-1747339200-1747339200@elaevents.com
SUMMARY:HAUSER: The Rebel Is Back
DESCRIPTION:
URL:https://elaevents.com/event/hauser-the-rebel-is-back/
LOCATION:Hard Rock Live\, Hollywood
CATEGORIES:Classical
ATTACH;FMTTYPE=image/jpeg:https://elaevents.com/wp-content/uploads/2025/05/hauser-the-rebel-is-back.jpg
GEO:26.0534476;-80.2138684
END:VEVENT
END:VCALENDAR