BEGIN:VCALENDAR
VERSION:2.0
PRODID:-//Ela Events - ECPv6.9.0//NONSGML v1.0//EN
CALSCALE:GREGORIAN
METHOD:PUBLISH
X-ORIGINAL-URL:https://elaevents.com
X-WR-CALDESC:Events for Ela Events
REFRESH-INTERVAL;VALUE=DURATION:PT1H
X-Robots-Tag:noindex
X-PUBLISHED-TTL:PT1H
BEGIN:VTIMEZONE
TZID:UTC
BEGIN:STANDARD
TZOFFSETFROM:+0000
TZOFFSETTO:+0000
TZNAME:UTC
DTSTART:20250101T000000
END:STANDARD
END:VTIMEZONE
BEGIN:VEVENT
DTSTART;TZID=UTC:20250429T193000
DTEND;TZID=UTC:20250429T193000
DTSTAMP:20260423T023627
CREATED:20250424T040321Z
LAST-MODIFIED:20250430T035612Z
UID:10002151-1745955000-1745955000@elaevents.com
SUMMARY:Pearl Jam - Dark Matter US Tour 2025
DESCRIPTION:
URL:https://elaevents.com/event/pearl-jam-dark-matter-us-tour-2025-3/
LOCATION:State Farm Arena\, Atlanta
CATEGORIES:Rock
END:VEVENT
END:VCALENDAR