BEGIN:VCALENDAR
VERSION:2.0
PRODID:-//Ela Events - ECPv6.9.0//NONSGML v1.0//EN
CALSCALE:GREGORIAN
METHOD:PUBLISH
X-ORIGINAL-URL:https://elaevents.com
X-WR-CALDESC:Events for Ela Events
REFRESH-INTERVAL;VALUE=DURATION:PT1H
X-Robots-Tag:noindex
X-PUBLISHED-TTL:PT1H
BEGIN:VTIMEZONE
TZID:UTC
BEGIN:STANDARD
TZOFFSETFROM:+0000
TZOFFSETTO:+0000
TZNAME:UTC
DTSTART:20250101T000000
END:STANDARD
END:VTIMEZONE
BEGIN:VEVENT
DTSTART;TZID=UTC:20250424T190000
DTEND;TZID=UTC:20250424T190000
DTSTAMP:20260423T034718
CREATED:20250414T083550Z
LAST-MODIFIED:20250425T083444Z
UID:10002139-1745521200-1745521200@elaevents.com
SUMMARY:Forrest Frank: Child Of God Tour Part 2
DESCRIPTION:
URL:https://elaevents.com/event/forrest-frank-child-of-god-tour-part-2/
LOCATION:Arizona Financial Theatre\, Phoenix\, az
CATEGORIES:Pop
ATTACH;FMTTYPE=image/jpeg:https://elaevents.com/wp-content/uploads/2025/04/forrest-frank-child-of-god-tour-part-2-scaled.jpg
END:VEVENT
BEGIN:VEVENT
DTSTART;TZID=UTC:20250424T193000
DTEND;TZID=UTC:20250424T193000
DTSTAMP:20260423T034718
CREATED:20250412T070309Z
LAST-MODIFIED:20250425T034305Z
UID:10002135-1745523000-1745523000@elaevents.com
SUMMARY:Pearl Jam - Dark Matter US Tour 2025
DESCRIPTION:
URL:https://elaevents.com/event/pearl-jam-dark-matter-us-tour-2025/
LOCATION:Hard Rock Live\, Hollywood
CATEGORIES:Rock
GEO:26.0534476;-80.2138684
END:VEVENT
END:VCALENDAR