BEGIN:VCALENDAR
VERSION:2.0
PRODID:-//Ela Events - ECPv6.9.0//NONSGML v1.0//EN
CALSCALE:GREGORIAN
METHOD:PUBLISH
X-WR-CALNAME:Ela Events
X-ORIGINAL-URL:https://elaevents.com
X-WR-CALDESC:Events for Ela Events
REFRESH-INTERVAL;VALUE=DURATION:PT1H
X-Robots-Tag:noindex
X-PUBLISHED-TTL:PT1H
BEGIN:VTIMEZONE
TZID:America/New_York
BEGIN:DAYLIGHT
TZOFFSETFROM:-0500
TZOFFSETTO:-0400
TZNAME:EDT
DTSTART:20250309T070000
END:DAYLIGHT
BEGIN:STANDARD
TZOFFSETFROM:-0400
TZOFFSETTO:-0500
TZNAME:EST
DTSTART:20251102T060000
END:STANDARD
TZID:UTC
BEGIN:STANDARD
TZOFFSETFROM:+0000
TZOFFSETTO:+0000
TZNAME:UTC
DTSTART:20250101T000000
END:STANDARD
END:VTIMEZONE
BEGIN:VEVENT
DTSTART;TZID=America/New_York:20250418T220000
DTEND;TZID=America/New_York:20250419T030000
DTSTAMP:20260423T035443
CREATED:20241108T071955Z
LAST-MODIFIED:20241108T071955Z
UID:10000060-1745013600-1745031600@elaevents.com
SUMMARY:FRIDAY NIGHT LIVE THIS FRIDAY AT MIRZA LOUNGE (FREE BEFORE 11PM W/RSVP)
DESCRIPTION:Join us this Friday night at Mirza Lounge  – it’s free before 11pm with RSVP! Free Bday Sections available . Text “Mirza” to 4704089038\n\n\nFRIDAY NIGHT LIVE THIS FRIDAY AT MIRZA LOUNGE (FREE BEFORE 11PM W/RSVP) \nCome join us for an epic Friday night at Mirza Lounge! Get ready to dance\, mingle\, and have a great time with friends. The party starts at 10:00 PM\, so make sure to arrive early to take advantage of the free entry before 11:00 PM with your RSVP. Don’t miss out on the hottest event in town! \nTime: 10:00 PM \nLocation: Mirza Hookah Lounge
URL:https://elaevents.com/event/friday-night-live-this-friday-at-mirza-lounge-free-before-11pm-w-rsvp-24/
LOCATION:Mirza Hookah Lounge\, 1098 Herrington Road #2\, Lawrenceville\, GA 30044\, Lawrenceville\, GA\, 30044\, US
GEO:33.9460137;-84.081751
X-APPLE-STRUCTURED-LOCATION;VALUE=URI;X-ADDRESS=Mirza Hookah Lounge 1098 Herrington Road #2 Lawrenceville GA 30044 Lawrenceville GA 30044 US;X-APPLE-RADIUS=500;X-TITLE=1098 Herrington Road #2\, Lawrenceville\, GA 30044:geo:-84.081751,33.9460137
END:VEVENT
BEGIN:VEVENT
DTSTART;TZID=UTC:20250419T200000
DTEND;TZID=UTC:20250419T200000
DTSTAMP:20260423T035443
CREATED:20250412T043458Z
LAST-MODIFIED:20250420T044104Z
UID:10002134-1745092800-1745092800@elaevents.com
SUMMARY:Los Tigres del Norte: La Lotería
DESCRIPTION:
URL:https://elaevents.com/event/los-tigres-del-norte-la-loteria/
LOCATION:Hard Rock Live\, Hollywood
CATEGORIES:Latin
GEO:26.0534476;-80.2138684
END:VEVENT
END:VCALENDAR