BEGIN:VCALENDAR
VERSION:2.0
PRODID:-//Ela Events - ECPv6.9.0//NONSGML v1.0//EN
CALSCALE:GREGORIAN
METHOD:PUBLISH
X-ORIGINAL-URL:https://elaevents.com
X-WR-CALDESC:Events for Ela Events
REFRESH-INTERVAL;VALUE=DURATION:PT1H
X-Robots-Tag:noindex
X-PUBLISHED-TTL:PT1H
BEGIN:VTIMEZONE
TZID:UTC
BEGIN:STANDARD
TZOFFSETFROM:+0000
TZOFFSETTO:+0000
TZNAME:UTC
DTSTART:20250101T000000
END:STANDARD
TZID:America/New_York
BEGIN:DAYLIGHT
TZOFFSETFROM:-0500
TZOFFSETTO:-0400
TZNAME:EDT
DTSTART:20250309T070000
END:DAYLIGHT
BEGIN:STANDARD
TZOFFSETFROM:-0400
TZOFFSETTO:-0500
TZNAME:EST
DTSTART:20251102T060000
END:STANDARD
END:VTIMEZONE
BEGIN:VEVENT
DTSTART;TZID=UTC:20250413T130000
DTEND;TZID=UTC:20250413T130000
DTSTAMP:20260423T034719
CREATED:20250406T045354Z
LAST-MODIFIED:20250414T035652Z
UID:10001943-1744549200-1744549200@elaevents.com
SUMMARY:Atlanta Hawks vs Orlando Magic
DESCRIPTION:
URL:https://elaevents.com/event/atlanta-hawks-vs-orlando-magic/
LOCATION:State Farm Arena\, Atlanta
CATEGORIES:Basketball
ATTACH;FMTTYPE=image/jpeg:https://elaevents.com/wp-content/uploads/2024/11/unnamed-file.jpg
END:VEVENT
BEGIN:VEVENT
DTSTART;TZID=UTC:20250413T190000
DTEND;TZID=UTC:20250413T190000
DTSTAMP:20260423T034719
CREATED:20250406T103347Z
LAST-MODIFIED:20250414T080020Z
UID:10001945-1744570800-1744570800@elaevents.com
SUMMARY:MESHUGGAH - with special guests Cannibal Corpse & Carcass
DESCRIPTION:
URL:https://elaevents.com/event/meshuggah-with-special-guests-cannibal-corpse-carcass/
LOCATION:Arizona Financial Theatre\, Phoenix\, az
CATEGORIES:Metal
END:VEVENT
BEGIN:VEVENT
DTSTART;TZID=America/New_York:20250413T220000
DTEND;TZID=America/New_York:20250414T030000
DTSTAMP:20260423T034719
CREATED:20241108T071954Z
LAST-MODIFIED:20241108T071954Z
UID:10000059-1744581600-1744599600@elaevents.com
SUMMARY:SOIREE SUNDAYS AT MELA LOUNGE (LADIES FREE ALL NIGHT)
DESCRIPTION:Come party with us at Mela Lounge every Sunday for Soiree Sundays – ladies get in free all night long!
URL:https://elaevents.com/event/soiree-sundays-at-mela-lounge-ladies-free-all-night-23/
LOCATION:Mela Bar & Lounge\, 1359 Clairmont Road\, Decatur\, GA 30033\, Decatur\, GA\, 30033\, US
GEO:33.7925418;-84.3049631
X-APPLE-STRUCTURED-LOCATION;VALUE=URI;X-ADDRESS=Mela Bar & Lounge 1359 Clairmont Road Decatur GA 30033 Decatur GA 30033 US;X-APPLE-RADIUS=500;X-TITLE=1359 Clairmont Road\, Decatur\, GA 30033:geo:-84.3049631,33.7925418
END:VEVENT
END:VCALENDAR