BEGIN:VCALENDAR
VERSION:2.0
PRODID:-//Ela Events - ECPv6.9.0//NONSGML v1.0//EN
CALSCALE:GREGORIAN
METHOD:PUBLISH
X-WR-CALNAME:Ela Events
X-ORIGINAL-URL:https://elaevents.com
X-WR-CALDESC:Events for Ela Events
REFRESH-INTERVAL;VALUE=DURATION:PT1H
X-Robots-Tag:noindex
X-PUBLISHED-TTL:PT1H
BEGIN:VTIMEZONE
TZID:UTC
BEGIN:STANDARD
TZOFFSETFROM:+0000
TZOFFSETTO:+0000
TZNAME:UTC
DTSTART:20250101T000000
END:STANDARD
END:VTIMEZONE
BEGIN:VEVENT
DTSTART;TZID=UTC:20250327T190000
DTEND;TZID=UTC:20250327T190000
DTSTAMP:20260423T052041
CREATED:20250324T081020Z
LAST-MODIFIED:20250328T002718Z
UID:10001925-1743102000-1743102000@elaevents.com
SUMMARY:BKFC Hollywood
DESCRIPTION:
URL:https://elaevents.com/event/bkfc-hollywood/
LOCATION:Hard Rock Live\, Hollywood
CATEGORIES:Martial Arts
GEO:26.0534476;-80.2138684
END:VEVENT
BEGIN:VEVENT
DTSTART;TZID=UTC:20250327T193000
DTEND;TZID=UTC:20250327T193000
DTSTAMP:20260423T052041
CREATED:20250308T124447Z
LAST-MODIFIED:20250328T002719Z
UID:10001749-1743103800-1743103800@elaevents.com
SUMMARY:Jon Meacham
DESCRIPTION:
URL:https://elaevents.com/event/jon-meacham/
LOCATION:Arizona Financial Theatre\, Phoenix\, az
CATEGORIES:Miscellaneous
END:VEVENT
BEGIN:VEVENT
DTSTART;TZID=UTC:20250327T193000
DTEND;TZID=UTC:20250327T193000
DTSTAMP:20260423T052041
CREATED:20250309T125914Z
LAST-MODIFIED:20250328T002719Z
UID:10001751-1743103800-1743103800@elaevents.com
SUMMARY:An Evening With Jon Meacham
DESCRIPTION:
URL:https://elaevents.com/event/an-evening-with-jon-meacham/
LOCATION:Arizona Financial Theatre\, Phoenix\, az
END:VEVENT
END:VCALENDAR