BEGIN:VCALENDAR
VERSION:2.0
PRODID:-//Ela Events - ECPv6.9.0//NONSGML v1.0//EN
CALSCALE:GREGORIAN
METHOD:PUBLISH
X-ORIGINAL-URL:https://elaevents.com
X-WR-CALDESC:Events for Ela Events
REFRESH-INTERVAL;VALUE=DURATION:PT1H
X-Robots-Tag:noindex
X-PUBLISHED-TTL:PT1H
BEGIN:VTIMEZONE
TZID:UTC
BEGIN:STANDARD
TZOFFSETFROM:+0000
TZOFFSETTO:+0000
TZNAME:UTC
DTSTART:20250101T000000
END:STANDARD
END:VTIMEZONE
BEGIN:VEVENT
DTSTART;TZID=UTC:20250304T193000
DTEND;TZID=UTC:20250305T201500
DTSTAMP:20260423T063417
CREATED:20250305T040835Z
LAST-MODIFIED:20250305T083224Z
UID:10001745-1741116600-1741205700@elaevents.com
SUMMARY:An Evening With Anderson Cooper
DESCRIPTION:
URL:https://elaevents.com/event/an-evening-with-anderson-cooper/
LOCATION:Arizona Financial Theatre\, Phoenix\, az
END:VEVENT
BEGIN:VEVENT
DTSTART;TZID=UTC:20250305T180000
DTEND;TZID=UTC:20250305T180000
DTSTAMP:20260423T063417
CREATED:20250219T091316Z
LAST-MODIFIED:20250306T070823Z
UID:10001741-1741197600-1741197600@elaevents.com
SUMMARY:Dino Ranch Live
DESCRIPTION:
URL:https://elaevents.com/event/dino-ranch-live/
LOCATION:Arizona Financial Theatre\, Phoenix\, az
CATEGORIES:Children's Theatre
END:VEVENT
END:VCALENDAR