BEGIN:VCALENDAR
VERSION:2.0
PRODID:-//Ela Events - ECPv6.9.0//NONSGML v1.0//EN
CALSCALE:GREGORIAN
METHOD:PUBLISH
X-WR-CALNAME:Ela Events
X-ORIGINAL-URL:https://elaevents.com
X-WR-CALDESC:Events for Ela Events
REFRESH-INTERVAL;VALUE=DURATION:PT1H
X-Robots-Tag:noindex
X-PUBLISHED-TTL:PT1H
BEGIN:VTIMEZONE
TZID:America/Chicago
BEGIN:DAYLIGHT
TZOFFSETFROM:-0600
TZOFFSETTO:-0500
TZNAME:CDT
DTSTART:20250309T080000
END:DAYLIGHT
BEGIN:STANDARD
TZOFFSETFROM:-0500
TZOFFSETTO:-0600
TZNAME:CST
DTSTART:20251102T070000
END:STANDARD
TZID:America/New_York
BEGIN:DAYLIGHT
TZOFFSETFROM:-0500
TZOFFSETTO:-0400
TZNAME:EDT
DTSTART:20250309T070000
END:DAYLIGHT
BEGIN:STANDARD
TZOFFSETFROM:-0400
TZOFFSETTO:-0500
TZNAME:EST
DTSTART:20251102T060000
END:STANDARD
TZID:America/Phoenix
BEGIN:STANDARD
TZOFFSETFROM:-0700
TZOFFSETTO:-0700
TZNAME:MST
DTSTART:20250101T000000
END:STANDARD
TZID:America/Los_Angeles
BEGIN:DAYLIGHT
TZOFFSETFROM:-0800
TZOFFSETTO:-0700
TZNAME:PDT
DTSTART:20250309T100000
END:DAYLIGHT
BEGIN:STANDARD
TZOFFSETFROM:-0700
TZOFFSETTO:-0800
TZNAME:PST
DTSTART:20251102T090000
END:STANDARD
TZID:America/Montreal
BEGIN:DAYLIGHT
TZOFFSETFROM:-0500
TZOFFSETTO:-0400
TZNAME:EDT
DTSTART:20250309T070000
END:DAYLIGHT
BEGIN:STANDARD
TZOFFSETFROM:-0400
TZOFFSETTO:-0500
TZNAME:EST
DTSTART:20251102T060000
END:STANDARD
TZID:America/Toronto
BEGIN:DAYLIGHT
TZOFFSETFROM:-0500
TZOFFSETTO:-0400
TZNAME:EDT
DTSTART:20250309T070000
END:DAYLIGHT
BEGIN:STANDARD
TZOFFSETFROM:-0400
TZOFFSETTO:-0500
TZNAME:EST
DTSTART:20251102T060000
END:STANDARD
TZID:America/Mexico_City
BEGIN:DAYLIGHT
TZOFFSETFROM:-0600
TZOFFSETTO:-0500
TZNAME:CDT
DTSTART:20250406T080000
END:DAYLIGHT
BEGIN:STANDARD
TZOFFSETFROM:-0500
TZOFFSETTO:-0600
TZNAME:CST
DTSTART:20251026T070000
END:STANDARD
TZID:America/Denver
BEGIN:DAYLIGHT
TZOFFSETFROM:-0700
TZOFFSETTO:-0600
TZNAME:MDT
DTSTART:20250309T090000
END:DAYLIGHT
BEGIN:STANDARD
TZOFFSETFROM:-0600
TZOFFSETTO:-0700
TZNAME:MST
DTSTART:20251102T080000
END:STANDARD
END:VTIMEZONE
BEGIN:VEVENT
DTSTART;TZID=America/Chicago:20250207T110000
DTEND;TZID=America/Chicago:20250207T140000
DTSTAMP:20260423T075328
CREATED:20241205T194827Z
LAST-MODIFIED:20241205T194827Z
UID:10001048-1738926000-1738936800@elaevents.com
SUMMARY:#RetailHires Virtual Job Fair / Career Expo Event #Dallas #DFW
DESCRIPTION:
URL:https://elaevents.com/event/retailhires-virtual-job-fair-career-expo-event-dallas-dfw-3/
LOCATION:az
END:VEVENT
BEGIN:VEVENT
DTSTART;TZID=America/Chicago:20250207T110000
DTEND;TZID=America/Chicago:20250207T140000
DTSTAMP:20260423T075328
CREATED:20241205T194828Z
LAST-MODIFIED:20241205T194828Z
UID:10001049-1738926000-1738936800@elaevents.com
SUMMARY:#RetailHires Virtual Job Fair / Career Expo Event #Oklahoma
DESCRIPTION:
URL:https://elaevents.com/event/retailhires-virtual-job-fair-career-expo-event-oklahoma-3/
LOCATION:az
END:VEVENT
BEGIN:VEVENT
DTSTART;TZID=America/New_York:20250207T110000
DTEND;TZID=America/New_York:20250207T140000
DTSTAMP:20260423T075328
CREATED:20241205T194829Z
LAST-MODIFIED:20241205T194829Z
UID:10001050-1738926000-1738936800@elaevents.com
SUMMARY:#RetailHires Virtual Job Fair / Career Expo Event #Philadelphia #PHL
DESCRIPTION:
URL:https://elaevents.com/event/retailhires-virtual-job-fair-career-expo-event-philadelphia-phl-3/
LOCATION:az
END:VEVENT
BEGIN:VEVENT
DTSTART;TZID=America/Phoenix:20250207T110000
DTEND;TZID=America/Phoenix:20250207T140000
DTSTAMP:20260423T075328
CREATED:20241205T194831Z
LAST-MODIFIED:20241205T194831Z
UID:10001051-1738926000-1738936800@elaevents.com
SUMMARY:#RetailHires Virtual Job Fair / Career Expo Event #Phoenix #PHX
DESCRIPTION:
URL:https://elaevents.com/event/retailhires-virtual-job-fair-career-expo-event-phoenix-phx-3/
LOCATION:az
END:VEVENT
BEGIN:VEVENT
DTSTART;TZID=America/Los_Angeles:20250207T110000
DTEND;TZID=America/Los_Angeles:20250207T140000
DTSTAMP:20260423T075328
CREATED:20241205T194832Z
LAST-MODIFIED:20241205T194832Z
UID:10001052-1738926000-1738936800@elaevents.com
SUMMARY:#RetailHires Virtual Job Fair / Career Expo Event #Seattle #SEA
DESCRIPTION:
URL:https://elaevents.com/event/retailhires-virtual-job-fair-career-expo-event-seattle-sea-3/
LOCATION:az
END:VEVENT
BEGIN:VEVENT
DTSTART;TZID=America/Los_Angeles:20250207T110000
DTEND;TZID=America/Los_Angeles:20250207T140000
DTSTAMP:20260423T075328
CREATED:20241205T194833Z
LAST-MODIFIED:20241205T194833Z
UID:10001053-1738926000-1738936800@elaevents.com
SUMMARY:#RetailHires Virtual Job Fair / Career Expo Event #DC #IAD
DESCRIPTION:
URL:https://elaevents.com/event/retailhires-virtual-job-fair-career-expo-event-dc-iad-3/
LOCATION:az
END:VEVENT
BEGIN:VEVENT
DTSTART;TZID=America/Chicago:20250207T110000
DTEND;TZID=America/Chicago:20250207T140000
DTSTAMP:20260423T075328
CREATED:20241205T194834Z
LAST-MODIFIED:20241205T194834Z
UID:10001054-1738926000-1738936800@elaevents.com
SUMMARY:#RetailHires Virtual Job Fair / Career Expo Event #Houston #IAH
DESCRIPTION:
URL:https://elaevents.com/event/retailhires-virtual-job-fair-career-expo-event-houston-iah-3/
LOCATION:az
END:VEVENT
BEGIN:VEVENT
DTSTART;TZID=America/Los_Angeles:20250207T110000
DTEND;TZID=America/Los_Angeles:20250207T140000
DTSTAMP:20260423T075328
CREATED:20241205T194835Z
LAST-MODIFIED:20241205T194835Z
UID:10001055-1738926000-1738936800@elaevents.com
SUMMARY:#RetailHires Virtual Job Fair / Career Expo Event #Vancouver
DESCRIPTION:
URL:https://elaevents.com/event/retailhires-virtual-job-fair-career-expo-event-vancouver-3/
LOCATION:az
END:VEVENT
BEGIN:VEVENT
DTSTART;TZID=America/Montreal:20250207T110000
DTEND;TZID=America/Montreal:20250207T140000
DTSTAMP:20260423T075328
CREATED:20241205T194836Z
LAST-MODIFIED:20241205T194836Z
UID:10001056-1738926000-1738936800@elaevents.com
SUMMARY:#RetailHires Virtual Job Fair / Career Expo Event #Montreal
DESCRIPTION:
URL:https://elaevents.com/event/retailhires-virtual-job-fair-career-expo-event-montreal-3/
LOCATION:az
END:VEVENT
BEGIN:VEVENT
DTSTART;TZID=America/Los_Angeles:20250207T110000
DTEND;TZID=America/Los_Angeles:20250207T140000
DTSTAMP:20260423T075328
CREATED:20241205T194837Z
LAST-MODIFIED:20241205T194837Z
UID:10001057-1738926000-1738936800@elaevents.com
SUMMARY:#RetailHires Virtual Job Fair / Career Expo Event #SFO
DESCRIPTION:
URL:https://elaevents.com/event/retailhires-virtual-job-fair-career-expo-event-sfo-3/
LOCATION:az
END:VEVENT
BEGIN:VEVENT
DTSTART;TZID=America/New_York:20250207T110000
DTEND;TZID=America/New_York:20250207T140000
DTSTAMP:20260423T075328
CREATED:20241205T194838Z
LAST-MODIFIED:20241205T194838Z
UID:10001058-1738926000-1738936800@elaevents.com
SUMMARY:#RetailHires Virtual Job Fair / Career Expo Event #NewYork #NYC
DESCRIPTION:
URL:https://elaevents.com/event/retailhires-virtual-job-fair-career-expo-event-newyork-nyc-3/
LOCATION:az
END:VEVENT
BEGIN:VEVENT
DTSTART;TZID=America/Chicago:20250207T110000
DTEND;TZID=America/Chicago:20250207T140000
DTSTAMP:20260423T075328
CREATED:20241205T194839Z
LAST-MODIFIED:20241205T194839Z
UID:10001059-1738926000-1738936800@elaevents.com
SUMMARY:#RetailHires Virtual Job Fair / Career Expo Event #Chicago #ORD
DESCRIPTION:
URL:https://elaevents.com/event/retailhires-virtual-job-fair-career-expo-event-chicago-ord-3/
LOCATION:az
END:VEVENT
BEGIN:VEVENT
DTSTART;TZID=America/Toronto:20250207T110000
DTEND;TZID=America/Toronto:20250207T140000
DTSTAMP:20260423T075328
CREATED:20241205T194840Z
LAST-MODIFIED:20241205T194840Z
UID:10001060-1738926000-1738936800@elaevents.com
SUMMARY:#RetailHires Virtual Job Fair / Career Expo Event #Toronto #YYZ
DESCRIPTION:
URL:https://elaevents.com/event/retailhires-virtual-job-fair-career-expo-event-toronto-yyz-3/
LOCATION:az
END:VEVENT
BEGIN:VEVENT
DTSTART;TZID=America/Chicago:20250207T110000
DTEND;TZID=America/Chicago:20250207T140000
DTSTAMP:20260423T075328
CREATED:20241205T194842Z
LAST-MODIFIED:20241205T194842Z
UID:10001061-1738926000-1738936800@elaevents.com
SUMMARY:#RetailHires Virtual Job Fair / Career Expo Event #Minneapolis #MSP
DESCRIPTION:
URL:https://elaevents.com/event/retailhires-virtual-job-fair-career-expo-event-minneapolis-msp-3/
LOCATION:az
END:VEVENT
BEGIN:VEVENT
DTSTART;TZID=America/Mexico_City:20250207T110000
DTEND;TZID=America/Mexico_City:20250207T140000
DTSTAMP:20260423T075328
CREATED:20241205T194843Z
LAST-MODIFIED:20241205T194843Z
UID:10001062-1738926000-1738936800@elaevents.com
SUMMARY:#RetailHires Virtual Job Fair / Career Expo Event #MexicoCity
DESCRIPTION:
URL:https://elaevents.com/event/retailhires-virtual-job-fair-career-expo-event-mexicocity-3/
LOCATION:az
END:VEVENT
BEGIN:VEVENT
DTSTART;TZID=America/Chicago:20250207T110000
DTEND;TZID=America/Chicago:20250207T140000
DTSTAMP:20260423T075328
CREATED:20241205T194845Z
LAST-MODIFIED:20241205T194845Z
UID:10001063-1738926000-1738936800@elaevents.com
SUMMARY:#RetailHires Virtual Job Fair / Career Expo Event #Madison
DESCRIPTION:
URL:https://elaevents.com/event/retailhires-virtual-job-fair-career-expo-event-madison-3/
LOCATION:az
END:VEVENT
BEGIN:VEVENT
DTSTART;TZID=America/Chicago:20250207T110000
DTEND;TZID=America/Chicago:20250207T140000
DTSTAMP:20260423T075328
CREATED:20241205T194846Z
LAST-MODIFIED:20241205T194846Z
UID:10001064-1738926000-1738936800@elaevents.com
SUMMARY:#RetailHires Virtual Job Fair / Career Expo Event #Miami
DESCRIPTION:
URL:https://elaevents.com/event/retailhires-virtual-job-fair-career-expo-event-miami-3/
LOCATION:az
END:VEVENT
BEGIN:VEVENT
DTSTART;TZID=America/New_York:20250207T110000
DTEND;TZID=America/New_York:20250207T140000
DTSTAMP:20260423T075328
CREATED:20241205T194847Z
LAST-MODIFIED:20241205T194847Z
UID:10001065-1738926000-1738936800@elaevents.com
SUMMARY:#RetailHires Virtual Job Fair / Career Expo Event #Stamford
DESCRIPTION:
URL:https://elaevents.com/event/retailhires-virtual-job-fair-career-expo-event-stamford-3/
LOCATION:az
END:VEVENT
BEGIN:VEVENT
DTSTART;TZID=America/New_York:20250207T110000
DTEND;TZID=America/New_York:20250207T140000
DTSTAMP:20260423T075328
CREATED:20241205T194849Z
LAST-MODIFIED:20241205T194849Z
UID:10001066-1738926000-1738936800@elaevents.com
SUMMARY:#RetailHires Virtual Job Fair / Career Expo Event #Raleigh #RNC
DESCRIPTION:
URL:https://elaevents.com/event/retailhires-virtual-job-fair-career-expo-event-raleigh-rnc-3/
LOCATION:az
END:VEVENT
BEGIN:VEVENT
DTSTART;TZID=America/Denver:20250207T110000
DTEND;TZID=America/Denver:20250207T140000
DTSTAMP:20260423T075328
CREATED:20241205T194850Z
LAST-MODIFIED:20241205T194850Z
UID:10001067-1738926000-1738936800@elaevents.com
SUMMARY:#RetailHires Virtual Job Fair / Career Expo Event #ColoradoSprings
DESCRIPTION:
URL:https://elaevents.com/event/retailhires-virtual-job-fair-career-expo-event-coloradosprings-3/
LOCATION:az
END:VEVENT
BEGIN:VEVENT
DTSTART;TZID=America/Denver:20250207T110000
DTEND;TZID=America/Denver:20250207T140000
DTSTAMP:20260423T075328
CREATED:20241205T194851Z
LAST-MODIFIED:20241205T194851Z
UID:10001068-1738926000-1738936800@elaevents.com
SUMMARY:#RetailHires Virtual Job Fair / Career Expo Event #Ogden
DESCRIPTION:
URL:https://elaevents.com/event/retailhires-virtual-job-fair-career-expo-event-ogden-3/
LOCATION:az
END:VEVENT
BEGIN:VEVENT
DTSTART;TZID=America/Chicago:20250207T110000
DTEND;TZID=America/Chicago:20250207T140000
DTSTAMP:20260423T075328
CREATED:20241205T194852Z
LAST-MODIFIED:20241205T194852Z
UID:10001069-1738926000-1738936800@elaevents.com
SUMMARY:#RetailHires Virtual Job Fair / Career Expo Event #DesMoines
DESCRIPTION:
URL:https://elaevents.com/event/retailhires-virtual-job-fair-career-expo-event-desmoines-3/
LOCATION:az
END:VEVENT
BEGIN:VEVENT
DTSTART;TZID=America/Los_Angeles:20250207T110000
DTEND;TZID=America/Los_Angeles:20250207T140000
DTSTAMP:20260423T075328
CREATED:20241205T194853Z
LAST-MODIFIED:20241205T194853Z
UID:10001070-1738926000-1738936800@elaevents.com
SUMMARY:#RetailHires Virtual Job Fair / Career Expo Event #Portland
DESCRIPTION:
URL:https://elaevents.com/event/retailhires-virtual-job-fair-career-expo-event-portland-3/
LOCATION:az
END:VEVENT
BEGIN:VEVENT
DTSTART;TZID=America/Chicago:20250207T110000
DTEND;TZID=America/Chicago:20250207T140000
DTSTAMP:20260423T075328
CREATED:20241205T194854Z
LAST-MODIFIED:20241205T194854Z
UID:10001071-1738926000-1738936800@elaevents.com
SUMMARY:#RetailHires Virtual Job Fair / Career Expo Event #Huntsville
DESCRIPTION:
URL:https://elaevents.com/event/retailhires-virtual-job-fair-career-expo-event-huntsville-3/
LOCATION:az
END:VEVENT
BEGIN:VEVENT
DTSTART;TZID=America/Denver:20250207T110000
DTEND;TZID=America/Denver:20250207T140000
DTSTAMP:20260423T075328
CREATED:20241205T194856Z
LAST-MODIFIED:20241205T194856Z
UID:10001072-1738926000-1738936800@elaevents.com
SUMMARY:#RetailHires Virtual Job Fair / Career Expo Event #SaltLake
DESCRIPTION:
URL:https://elaevents.com/event/retailhires-virtual-job-fair-career-expo-event-saltlake-3/
LOCATION:az
END:VEVENT
BEGIN:VEVENT
DTSTART;TZID=America/Denver:20250207T110000
DTEND;TZID=America/Denver:20250207T140000
DTSTAMP:20260423T075328
CREATED:20241205T194857Z
LAST-MODIFIED:20241205T194857Z
UID:10001073-1738926000-1738936800@elaevents.com
SUMMARY:#RetailHires Virtual Job Fair / Career Expo Event #Denver
DESCRIPTION:
URL:https://elaevents.com/event/retailhires-virtual-job-fair-career-expo-event-denver-3/
LOCATION:az
END:VEVENT
BEGIN:VEVENT
DTSTART;TZID=America/New_York:20250207T110000
DTEND;TZID=America/New_York:20250207T140000
DTSTAMP:20260423T075328
CREATED:20241205T194858Z
LAST-MODIFIED:20241205T194858Z
UID:10001074-1738926000-1738936800@elaevents.com
SUMMARY:#RetailHires Virtual Job Fair / Career Expo Event #Charleston
DESCRIPTION:
URL:https://elaevents.com/event/retailhires-virtual-job-fair-career-expo-event-charleston-3/
LOCATION:az
END:VEVENT
BEGIN:VEVENT
DTSTART;TZID=America/Chicago:20250207T110000
DTEND;TZID=America/Chicago:20250207T140000
DTSTAMP:20260423T075328
CREATED:20241205T194859Z
LAST-MODIFIED:20241205T194859Z
UID:10001075-1738926000-1738936800@elaevents.com
SUMMARY:#RetailHires Virtual Job Fair / Career Expo Event #LasVegas
DESCRIPTION:
URL:https://elaevents.com/event/retailhires-virtual-job-fair-career-expo-event-lasvegas-3/
LOCATION:az
END:VEVENT
BEGIN:VEVENT
DTSTART;TZID=America/Chicago:20250207T110000
DTEND;TZID=America/Chicago:20250207T140000
DTSTAMP:20260423T075328
CREATED:20241205T194900Z
LAST-MODIFIED:20241205T194900Z
UID:10001076-1738926000-1738936800@elaevents.com
SUMMARY:#RetailHires Virtual Job Fair / Career Expo Event #LosAngeles
DESCRIPTION:
URL:https://elaevents.com/event/retailhires-virtual-job-fair-career-expo-event-losangeles-3/
LOCATION:az
END:VEVENT
BEGIN:VEVENT
DTSTART;TZID=America/New_York:20250207T110000
DTEND;TZID=America/New_York:20250207T140000
DTSTAMP:20260423T075328
CREATED:20241205T194901Z
LAST-MODIFIED:20241205T194901Z
UID:10001077-1738926000-1738936800@elaevents.com
SUMMARY:#RetailHires Virtual Job Fair / Career Expo Event #Charlotte
DESCRIPTION:
URL:https://elaevents.com/event/retailhires-virtual-job-fair-career-expo-event-charlotte-3/
LOCATION:az
END:VEVENT
END:VCALENDAR